BEGIN:VCALENDAR
VERSION:2.0
PRODID:-//Stillwater Township - ECPv6.15.18//NONSGML v1.0//EN
CALSCALE:GREGORIAN
METHOD:PUBLISH
X-WR-CALNAME:Stillwater Township
X-ORIGINAL-URL:https://stillwatertownshipnj.com
X-WR-CALDESC:Events for Stillwater Township
REFRESH-INTERVAL;VALUE=DURATION:PT1H
X-Robots-Tag:noindex
X-PUBLISHED-TTL:PT1H
BEGIN:VTIMEZONE
TZID:America/New_York
BEGIN:DAYLIGHT
TZOFFSETFROM:-0500
TZOFFSETTO:-0400
TZNAME:EDT
DTSTART:20230312T070000
END:DAYLIGHT
BEGIN:STANDARD
TZOFFSETFROM:-0400
TZOFFSETTO:-0500
TZNAME:EST
DTSTART:20231105T060000
END:STANDARD
BEGIN:DAYLIGHT
TZOFFSETFROM:-0500
TZOFFSETTO:-0400
TZNAME:EDT
DTSTART:20240310T070000
END:DAYLIGHT
BEGIN:STANDARD
TZOFFSETFROM:-0400
TZOFFSETTO:-0500
TZNAME:EST
DTSTART:20241103T060000
END:STANDARD
BEGIN:DAYLIGHT
TZOFFSETFROM:-0500
TZOFFSETTO:-0400
TZNAME:EDT
DTSTART:20250309T070000
END:DAYLIGHT
BEGIN:STANDARD
TZOFFSETFROM:-0400
TZOFFSETTO:-0500
TZNAME:EST
DTSTART:20251102T060000
END:STANDARD
BEGIN:DAYLIGHT
TZOFFSETFROM:-0500
TZOFFSETTO:-0400
TZNAME:EDT
DTSTART:20260308T070000
END:DAYLIGHT
BEGIN:STANDARD
TZOFFSETFROM:-0400
TZOFFSETTO:-0500
TZNAME:EST
DTSTART:20261101T060000
END:STANDARD
END:VTIMEZONE
BEGIN:VEVENT
DTSTART;TZID=America/New_York:20250224T190000
DTEND;TZID=America/New_York:20250224T210000
DTSTAMP:20260424T071557
CREATED:20250115T133022Z
LAST-MODIFIED:20250224T143553Z
UID:10006358-1740423600-1740430800@stillwatertownshipnj.com
SUMMARY:Zoning Board of Adjustment Regular Meeting
DESCRIPTION:For the meeting agenda\, please click here!
URL:https://stillwatertownshipnj.com/event/zoning-board-of-adjustment-regular-meeting-9/
LOCATION:Stillwater Town Hall\, Your Computer\, NJ\, 07860\, United States
CATEGORIES:Events
ATTACH;FMTTYPE=image/jpeg:https://stillwatertownshipnj.com/wp-content/uploads/2022/03/Swartswood-State-Park.jpg
GEO:41.0572255;-74.8622721
X-APPLE-STRUCTURED-LOCATION;VALUE=URI;X-ADDRESS=Stillwater Town Hall Your Computer NJ 07860 United States;X-APPLE-RADIUS=500;X-TITLE=Your Computer:geo:-74.8622721,41.0572255
END:VEVENT
BEGIN:VEVENT
DTSTART;TZID=America/New_York:20250219T190000
DTEND;TZID=America/New_York:20250219T210000
DTSTAMP:20260424T071557
CREATED:20250115T133923Z
LAST-MODIFIED:20250214T151047Z
UID:10006370-1739991600-1739998800@stillwatertownshipnj.com
SUMMARY:Planning Board Regular Meeting
DESCRIPTION:For the February 19 Meeting Agenda\, Please click here!
URL:https://stillwatertownshipnj.com/event/planning-board-regular-meeting-8/
LOCATION:Stillwater Town Hall\, Your Computer\, NJ\, 07860\, United States
CATEGORIES:Events
ATTACH;FMTTYPE=image/jpeg:https://stillwatertownshipnj.com/wp-content/uploads/2017/10/Swartswood-State-Park.jpg
GEO:41.0572255;-74.8622721
X-APPLE-STRUCTURED-LOCATION;VALUE=URI;X-ADDRESS=Stillwater Town Hall Your Computer NJ 07860 United States;X-APPLE-RADIUS=500;X-TITLE=Your Computer:geo:-74.8622721,41.0572255
END:VEVENT
BEGIN:VEVENT
DTSTART;TZID=America/New_York:20250218T180000
DTEND;TZID=America/New_York:20250218T220000
DTSTAMP:20260424T071557
CREATED:20241204T161800Z
LAST-MODIFIED:20250214T193540Z
UID:10006230-1739901600-1739916000@stillwatertownshipnj.com
SUMMARY:Township Committee Meeting
DESCRIPTION:The budget discussion will begin at 6:00pm with the regular meeting to follow at 7:00pm. \nTo attend the meeting via Zoom\, please click the link below: \nhttps://us02web.zoom.us/j/87830809012 \nFor the February 18\, 2025 meeting agenda & corresponding items\, please click here!
URL:https://stillwatertownshipnj.com/event/township-committee-meeting-19/
LOCATION:Stillwater Town Hall\, Your Computer\, NJ\, 07860\, United States
CATEGORIES:Events
ATTACH;FMTTYPE=image/jpeg:https://stillwatertownshipnj.com/wp-content/uploads/2024/01/3faa73dbc2eb74ebba3e5a6655bdb922.jpg
GEO:41.0572255;-74.8622721
X-APPLE-STRUCTURED-LOCATION;VALUE=URI;X-ADDRESS=Stillwater Town Hall Your Computer NJ 07860 United States;X-APPLE-RADIUS=500;X-TITLE=Your Computer:geo:-74.8622721,41.0572255
END:VEVENT
BEGIN:VEVENT
DTSTART;VALUE=DATE:20250217
DTEND;VALUE=DATE:20250218
DTSTAMP:20260424T071557
CREATED:20241204T155526Z
LAST-MODIFIED:20241204T155526Z
UID:10006214-1739750400-1739836799@stillwatertownshipnj.com
SUMMARY:Municipal Office Closed - President's Day
DESCRIPTION:
URL:https://stillwatertownshipnj.com/event/municipal-office-closed-presidents-day/
LOCATION:Stillwater Town Hall\, Your Computer\, NJ\, 07860\, United States
CATEGORIES:Events
ATTACH;FMTTYPE=image/jpeg:https://stillwatertownshipnj.com/wp-content/uploads/2023/09/istockphoto-1220588179-612x612-1.jpg
GEO:41.0572255;-74.8622721
X-APPLE-STRUCTURED-LOCATION;VALUE=URI;X-ADDRESS=Stillwater Town Hall Your Computer NJ 07860 United States;X-APPLE-RADIUS=500;X-TITLE=Your Computer:geo:-74.8622721,41.0572255
END:VEVENT
BEGIN:VEVENT
DTSTART;VALUE=DATE:20250212
DTEND;VALUE=DATE:20250213
DTSTAMP:20260424T071557
CREATED:20241204T155435Z
LAST-MODIFIED:20241204T155435Z
UID:10006213-1739318400-1739404799@stillwatertownshipnj.com
SUMMARY:Municipal Office Closed - Lincoln's Birthday
DESCRIPTION:
URL:https://stillwatertownshipnj.com/event/municipal-office-closed-lincolns-birthday/
LOCATION:Stillwater Town Hall\, Your Computer\, NJ\, 07860\, United States
CATEGORIES:Events
ATTACH;FMTTYPE=image/jpeg:https://stillwatertownshipnj.com/wp-content/uploads/2023/09/istockphoto-1220588179-612x612-1.jpg
GEO:41.0572255;-74.8622721
X-APPLE-STRUCTURED-LOCATION;VALUE=URI;X-ADDRESS=Stillwater Town Hall Your Computer NJ 07860 United States;X-APPLE-RADIUS=500;X-TITLE=Your Computer:geo:-74.8622721,41.0572255
END:VEVENT
BEGIN:VEVENT
DTSTART;TZID=America/New_York:20250210T190000
DTEND;TZID=America/New_York:20250210T210000
DTSTAMP:20260424T071557
CREATED:20250207T151317Z
LAST-MODIFIED:20250207T151317Z
UID:10006289-1739214000-1739221200@stillwatertownshipnj.com
SUMMARY:Environmental Commission Meeting
DESCRIPTION:For the meeting agenda\, please click here!
URL:https://stillwatertownshipnj.com/event/environmental-commission-meeting-5-5-2/
LOCATION:Stillwater Town Hall\, Your Computer\, NJ\, 07860\, United States
CATEGORIES:Events
ATTACH;FMTTYPE=image/jpeg:https://stillwatertownshipnj.com/wp-content/uploads/2022/01/enviro-image.jpg
GEO:41.0572255;-74.8622721
X-APPLE-STRUCTURED-LOCATION;VALUE=URI;X-ADDRESS=Stillwater Town Hall Your Computer NJ 07860 United States;X-APPLE-RADIUS=500;X-TITLE=Your Computer:geo:-74.8622721,41.0572255
END:VEVENT
BEGIN:VEVENT
DTSTART;TZID=America/New_York:20250210T190000
DTEND;TZID=America/New_York:20250210T210000
DTSTAMP:20260424T071557
CREATED:20241206T135422Z
LAST-MODIFIED:20250107T175218Z
UID:10006781-1739214000-1739221200@stillwatertownshipnj.com
SUMMARY:Environmental Commission Meeting
DESCRIPTION:For the meeting agenda\, please click here!
URL:https://stillwatertownshipnj.com/event/environmental-commission-meeting-5-5/2025-02-10/
LOCATION:Stillwater Town Hall\, Your Computer\, NJ\, 07860\, United States
CATEGORIES:Events
ATTACH;FMTTYPE=image/jpeg:https://stillwatertownshipnj.com/wp-content/uploads/2022/01/enviro-image.jpg
GEO:41.0572255;-74.8622721
X-APPLE-STRUCTURED-LOCATION;VALUE=URI;X-ADDRESS=Stillwater Town Hall Your Computer NJ 07860 United States;X-APPLE-RADIUS=500;X-TITLE=Your Computer:geo:-74.8622721,41.0572255
END:VEVENT
BEGIN:VEVENT
DTSTART;TZID=America/New_York:20250209T130000
DTEND;TZID=America/New_York:20250209T153000
DTSTAMP:20260424T071557
CREATED:20250127T185743Z
LAST-MODIFIED:20250127T185743Z
UID:10006649-1739106000-1739115000@stillwatertownshipnj.com
SUMMARY:Plymouth Lake Association Meeting
DESCRIPTION:
URL:https://stillwatertownshipnj.com/event/plymouth-lake-association-meeting/
LOCATION:Stillwater Town Hall\, Your Computer\, NJ\, 07860\, United States
CATEGORIES:Events
ATTACH;FMTTYPE=image/jpeg:https://stillwatertownshipnj.com/wp-content/uploads/2024/04/Lake-Plymouth.jpg
GEO:41.0572255;-74.8622721
X-APPLE-STRUCTURED-LOCATION;VALUE=URI;X-ADDRESS=Stillwater Town Hall Your Computer NJ 07860 United States;X-APPLE-RADIUS=500;X-TITLE=Your Computer:geo:-74.8622721,41.0572255
END:VEVENT
BEGIN:VEVENT
DTSTART;VALUE=DATE:20250206
DTEND;VALUE=DATE:20250207
DTSTAMP:20260424T071557
CREATED:20250206T014836Z
LAST-MODIFIED:20250206T144014Z
UID:10006684-1738800000-1738886399@stillwatertownshipnj.com
SUMMARY:Town Hall Closed
DESCRIPTION:Due to the weather the Stillwater Township Municipal Building will be closed on Thursday\, February 6th. As a reminder\, there is a locked drop box by the front door that can be utilized for any tax payments\, dog licenses\, etc and we will mail you a receipt Friday. Thank you!
URL:https://stillwatertownshipnj.com/event/town-hall-delayed-opening/
LOCATION:Stillwater Town Hall\, Your Computer\, NJ\, 07860\, United States
CATEGORIES:Events
ATTACH;FMTTYPE=image/jpeg:https://stillwatertownshipnj.com/wp-content/uploads/2025/02/IMG_9336.jpeg
GEO:41.0572255;-74.8622721
X-APPLE-STRUCTURED-LOCATION;VALUE=URI;X-ADDRESS=Stillwater Town Hall Your Computer NJ 07860 United States;X-APPLE-RADIUS=500;X-TITLE=Your Computer:geo:-74.8622721,41.0572255
END:VEVENT
BEGIN:VEVENT
DTSTART;TZID=America/New_York:20250204T190000
DTEND;TZID=America/New_York:20250204T220000
DTSTAMP:20260424T071557
CREATED:20241204T161711Z
LAST-MODIFIED:20250131T143642Z
UID:10006229-1738695600-1738706400@stillwatertownshipnj.com
SUMMARY:Township Committee Meeting
DESCRIPTION:To attend the meeting via Zoom\, please click the link below: \nhttps://us02web.zoom.us/j/87830809012 \nFor the February 4 Agenda & Corresponding Items\, please click here!
URL:https://stillwatertownshipnj.com/event/township-committee-meeting-18/
LOCATION:Stillwater Town Hall\, Your Computer\, NJ\, 07860\, United States
CATEGORIES:Events
ATTACH;FMTTYPE=image/jpeg:https://stillwatertownshipnj.com/wp-content/uploads/2024/01/3faa73dbc2eb74ebba3e5a6655bdb922.jpg
GEO:41.0572255;-74.8622721
X-APPLE-STRUCTURED-LOCATION;VALUE=URI;X-ADDRESS=Stillwater Town Hall Your Computer NJ 07860 United States;X-APPLE-RADIUS=500;X-TITLE=Your Computer:geo:-74.8622721,41.0572255
END:VEVENT
BEGIN:VEVENT
DTSTART;TZID=America/New_York:20250203T190000
DTEND;TZID=America/New_York:20250203T220000
DTSTAMP:20260424T071557
CREATED:20241231T133441Z
LAST-MODIFIED:20250613T173646Z
UID:10006271-1738609200-1738620000@stillwatertownshipnj.com
SUMMARY:Recreation Commission Meeting
DESCRIPTION:To attend the meeting via Zoom\, please click the below link: \nhttps://us02web.zoom.us/j/86731527694
URL:https://stillwatertownshipnj.com/event/recreation-commission-meeting-11/2025-02-03/
LOCATION:Stillwater Town Hall\, Your Computer\, NJ\, 07860\, United States
CATEGORIES:Events
ATTACH;FMTTYPE=image/jpeg:https://stillwatertownshipnj.com/wp-content/uploads/2024/08/Veterans-Park-Bridge-Sign.jpeg
GEO:41.0572255;-74.8622721
X-APPLE-STRUCTURED-LOCATION;VALUE=URI;X-ADDRESS=Stillwater Town Hall Your Computer NJ 07860 United States;X-APPLE-RADIUS=500;X-TITLE=Your Computer:geo:-74.8622721,41.0572255
END:VEVENT
BEGIN:VEVENT
DTSTART;TZID=America/New_York:20250127T193000
DTEND;TZID=America/New_York:20250127T213000
DTSTAMP:20260424T071557
CREATED:20250115T132855Z
LAST-MODIFIED:20250127T190025Z
UID:10006357-1738006200-1738013400@stillwatertownshipnj.com
SUMMARY:Zoning Board of Adjustment Regular Meeting
DESCRIPTION:For the January 27\, 2025 Meeting Agenda\, please click here!
URL:https://stillwatertownshipnj.com/event/zoning-board-of-adjustment-regular-meeting-8/
LOCATION:Stillwater Town Hall\, Your Computer\, NJ\, 07860\, United States
CATEGORIES:Events
ATTACH;FMTTYPE=image/jpeg:https://stillwatertownshipnj.com/wp-content/uploads/2022/03/Swartswood-State-Park.jpg
GEO:41.0572255;-74.8622721
X-APPLE-STRUCTURED-LOCATION;VALUE=URI;X-ADDRESS=Stillwater Town Hall Your Computer NJ 07860 United States;X-APPLE-RADIUS=500;X-TITLE=Your Computer:geo:-74.8622721,41.0572255
END:VEVENT
BEGIN:VEVENT
DTSTART;TZID=America/New_York:20250122T190000
DTEND;TZID=America/New_York:20250122T210000
DTSTAMP:20260424T071557
CREATED:20241126T180844Z
LAST-MODIFIED:20241126T180844Z
UID:10005708-1737572400-1737579600@stillwatertownshipnj.com
SUMMARY:CERT Meeting
DESCRIPTION:
URL:https://stillwatertownshipnj.com/event/cert-meeting-2-3/2025-01-22/
LOCATION:Stillwater Town Hall\, Your Computer\, NJ\, 07860\, United States
CATEGORIES:Events
ATTACH;FMTTYPE=image/jpeg:https://stillwatertownshipnj.com/wp-content/uploads/2022/04/CERT.jpg
GEO:41.0572255;-74.8622721
X-APPLE-STRUCTURED-LOCATION;VALUE=URI;X-ADDRESS=Stillwater Town Hall Your Computer NJ 07860 United States;X-APPLE-RADIUS=500;X-TITLE=Your Computer:geo:-74.8622721,41.0572255
END:VEVENT
BEGIN:VEVENT
DTSTART;TZID=America/New_York:20250121T190000
DTEND;TZID=America/New_York:20250121T220000
DTSTAMP:20260424T071557
CREATED:20241204T161608Z
LAST-MODIFIED:20250117T205018Z
UID:10006228-1737486000-1737496800@stillwatertownshipnj.com
SUMMARY:Township Committee Meeting
DESCRIPTION:To attend the meeting via Zoom\, please click the link below: \nhttps://us02web.zoom.us/j/87830809012 \nFor the meeting agenda & corresponding items\, please click here!
URL:https://stillwatertownshipnj.com/event/township-committee-meeting-17/
LOCATION:Stillwater Town Hall\, Your Computer\, NJ\, 07860\, United States
CATEGORIES:Events
ATTACH;FMTTYPE=image/jpeg:https://stillwatertownshipnj.com/wp-content/uploads/2024/01/3faa73dbc2eb74ebba3e5a6655bdb922.jpg
GEO:41.0572255;-74.8622721
X-APPLE-STRUCTURED-LOCATION;VALUE=URI;X-ADDRESS=Stillwater Town Hall Your Computer NJ 07860 United States;X-APPLE-RADIUS=500;X-TITLE=Your Computer:geo:-74.8622721,41.0572255
END:VEVENT
BEGIN:VEVENT
DTSTART;VALUE=DATE:20250120
DTEND;VALUE=DATE:20250121
DTSTAMP:20260424T071557
CREATED:20241204T155337Z
LAST-MODIFIED:20241204T155337Z
UID:10006212-1737331200-1737417599@stillwatertownshipnj.com
SUMMARY:Municipal Office Closed - Martin Luther King Jr. Day
DESCRIPTION:
URL:https://stillwatertownshipnj.com/event/municipal-office-closed-martin-luther-king-jr-day/
LOCATION:Stillwater Town Hall\, Your Computer\, NJ\, 07860\, United States
CATEGORIES:Events
ATTACH;FMTTYPE=image/jpeg:https://stillwatertownshipnj.com/wp-content/uploads/2023/09/istockphoto-1220588179-612x612-1.jpg
GEO:41.0572255;-74.8622721
X-APPLE-STRUCTURED-LOCATION;VALUE=URI;X-ADDRESS=Stillwater Town Hall Your Computer NJ 07860 United States;X-APPLE-RADIUS=500;X-TITLE=Your Computer:geo:-74.8622721,41.0572255
END:VEVENT
BEGIN:VEVENT
DTSTART;TZID=America/New_York:20250115T193000
DTEND;TZID=America/New_York:20250115T213000
DTSTAMP:20260424T071557
CREATED:20250109T205604Z
LAST-MODIFIED:20250109T205804Z
UID:10004457-1736969400-1736976600@stillwatertownshipnj.com
SUMMARY:Planning Board Regular Meeting
DESCRIPTION:For the January 15 meeting agenda\, please click here!
URL:https://stillwatertownshipnj.com/event/planning-board-regular-meeting-7/
LOCATION:Stillwater Town Hall\, Your Computer\, NJ\, 07860\, United States
CATEGORIES:Events
ATTACH;FMTTYPE=image/png:https://stillwatertownshipnj.com/wp-content/uploads/2017/10/boats-in-stillwater.png
GEO:41.0572255;-74.8622721
X-APPLE-STRUCTURED-LOCATION;VALUE=URI;X-ADDRESS=Stillwater Town Hall Your Computer NJ 07860 United States;X-APPLE-RADIUS=500;X-TITLE=Your Computer:geo:-74.8622721,41.0572255
END:VEVENT
BEGIN:VEVENT
DTSTART;TZID=America/New_York:20250113T190000
DTEND;TZID=America/New_York:20250113T210000
DTSTAMP:20260424T071557
CREATED:20241206T135422Z
LAST-MODIFIED:20250107T175218Z
UID:10006288-1736794800-1736802000@stillwatertownshipnj.com
SUMMARY:Environmental Commission Meeting
DESCRIPTION:For the meeting agenda\, please click here!
URL:https://stillwatertownshipnj.com/event/environmental-commission-meeting-5-5/2025-01-13/
LOCATION:Stillwater Town Hall\, Your Computer\, NJ\, 07860\, United States
CATEGORIES:Events
ATTACH;FMTTYPE=image/jpeg:https://stillwatertownshipnj.com/wp-content/uploads/2022/01/enviro-image.jpg
GEO:41.0572255;-74.8622721
X-APPLE-STRUCTURED-LOCATION;VALUE=URI;X-ADDRESS=Stillwater Town Hall Your Computer NJ 07860 United States;X-APPLE-RADIUS=500;X-TITLE=Your Computer:geo:-74.8622721,41.0572255
END:VEVENT
BEGIN:VEVENT
DTSTART;TZID=America/New_York:20250113T190000
DTEND;TZID=America/New_York:20250113T210000
DTSTAMP:20260424T071557
CREATED:20241126T180238Z
LAST-MODIFIED:20241126T180238Z
UID:10004437-1736794800-1736802000@stillwatertownshipnj.com
SUMMARY:Environmental Commission Meeting
DESCRIPTION:
URL:https://stillwatertownshipnj.com/event/environmental-commission-meeting-5/2025-01-13/
LOCATION:Stillwater Town Hall\, Your Computer\, NJ\, 07860\, United States
CATEGORIES:Events
ATTACH;FMTTYPE=image/jpeg:https://stillwatertownshipnj.com/wp-content/uploads/2022/01/enviro-image.jpg
GEO:41.0572255;-74.8622721
X-APPLE-STRUCTURED-LOCATION;VALUE=URI;X-ADDRESS=Stillwater Town Hall Your Computer NJ 07860 United States;X-APPLE-RADIUS=500;X-TITLE=Your Computer:geo:-74.8622721,41.0572255
END:VEVENT
BEGIN:VEVENT
DTSTART;TZID=America/New_York:20250111T090000
DTEND;TZID=America/New_York:20250111T120000
DTSTAMP:20260424T071557
CREATED:20241126T180806Z
LAST-MODIFIED:20250110T233837Z
UID:10006177-1736586000-1736596800@stillwatertownshipnj.com
SUMMARY:Township Committee Budget Meeting
DESCRIPTION:To join the meeting via Zoom\, please click here!
URL:https://stillwatertownshipnj.com/event/township-committee-budget-meeting/
LOCATION:Stillwater Town Hall\, Your Computer\, NJ\, 07860\, United States
CATEGORIES:Events
ATTACH;FMTTYPE=image/webp:https://stillwatertownshipnj.com/wp-content/uploads/2024/04/budget.webp
GEO:41.0572255;-74.8622721
X-APPLE-STRUCTURED-LOCATION;VALUE=URI;X-ADDRESS=Stillwater Town Hall Your Computer NJ 07860 United States;X-APPLE-RADIUS=500;X-TITLE=Your Computer:geo:-74.8622721,41.0572255
END:VEVENT
BEGIN:VEVENT
DTSTART;TZID=America/New_York:20250109T193000
DTEND;TZID=America/New_York:20250109T213000
DTSTAMP:20260424T071557
CREATED:20241126T180425Z
LAST-MODIFIED:20241126T180425Z
UID:10004408-1736451000-1736458200@stillwatertownshipnj.com
SUMMARY:Water District #1 Meeting
DESCRIPTION:
URL:https://stillwatertownshipnj.com/event/water-district-1-meeting-3-2/2025-01-09/
LOCATION:Stillwater Town Hall\, Your Computer\, NJ\, 07860\, United States
CATEGORIES:Community Center Event,Events
ATTACH;FMTTYPE=image/jpeg:https://stillwatertownshipnj.com/wp-content/uploads/2022/02/water-tower.jpg
GEO:41.0572255;-74.8622721
X-APPLE-STRUCTURED-LOCATION;VALUE=URI;X-ADDRESS=Stillwater Town Hall Your Computer NJ 07860 United States;X-APPLE-RADIUS=500;X-TITLE=Your Computer:geo:-74.8622721,41.0572255
END:VEVENT
BEGIN:VEVENT
DTSTART;TZID=America/New_York:20250107T180000
DTEND;TZID=America/New_York:20250107T200000
DTSTAMP:20260424T071557
CREATED:20241204T161448Z
LAST-MODIFIED:20250106T203214Z
UID:10006227-1736272800-1736280000@stillwatertownshipnj.com
SUMMARY:Township Committee Reorganization Meeting
DESCRIPTION:To attend the meeting via Zoom\, please click the link below: \nhttps://us02web.zoom.us/j/87830809012 \nFor the meeting agenda & corresponding resolutions\, please click here!
URL:https://stillwatertownshipnj.com/event/township-committee-meeting-16/
LOCATION:Stillwater Town Hall\, Your Computer\, NJ\, 07860\, United States
CATEGORIES:Events
ATTACH;FMTTYPE=image/jpeg:https://stillwatertownshipnj.com/wp-content/uploads/2024/01/3faa73dbc2eb74ebba3e5a6655bdb922.jpg
GEO:41.0572255;-74.8622721
X-APPLE-STRUCTURED-LOCATION;VALUE=URI;X-ADDRESS=Stillwater Town Hall Your Computer NJ 07860 United States;X-APPLE-RADIUS=500;X-TITLE=Your Computer:geo:-74.8622721,41.0572255
END:VEVENT
BEGIN:VEVENT
DTSTART;TZID=America/New_York:20250106T190000
DTEND;TZID=America/New_York:20250106T220000
DTSTAMP:20260424T071557
CREATED:20241126T180114Z
LAST-MODIFIED:20241126T180114Z
UID:10004391-1736190000-1736200800@stillwatertownshipnj.com
SUMMARY:Recreation Commission Meeting
DESCRIPTION:Recreation Commission Regular Meeting \nTo attend the meeting via Zoom\, please click the below link; \nhttps://us02web.zoom.us/j/86731527694
URL:https://stillwatertownshipnj.com/event/recreation-commission-meeting-2/2025-01-06/
LOCATION:Stillwater Town Hall\, Your Computer\, NJ\, 07860\, United States
CATEGORIES:Events
ATTACH;FMTTYPE=image/jpeg:https://stillwatertownshipnj.com/wp-content/uploads/2024/01/Recreation-Committee-Meeting.jpg
GEO:41.0572255;-74.8622721
X-APPLE-STRUCTURED-LOCATION;VALUE=URI;X-ADDRESS=Stillwater Town Hall Your Computer NJ 07860 United States;X-APPLE-RADIUS=500;X-TITLE=Your Computer:geo:-74.8622721,41.0572255
END:VEVENT
BEGIN:VEVENT
DTSTART;VALUE=DATE:20250101
DTEND;VALUE=DATE:20250102
DTSTAMP:20260424T071557
CREATED:20241126T180806Z
LAST-MODIFIED:20241126T180806Z
UID:10006209-1735689600-1735775999@stillwatertownshipnj.com
SUMMARY:Municipal Office Closed - New Year's Day
DESCRIPTION:
URL:https://stillwatertownshipnj.com/event/municipal-office-closed-new-years-day/
LOCATION:Stillwater Town Hall\, Your Computer\, NJ\, 07860\, United States
CATEGORIES:Events
ATTACH;FMTTYPE=image/jpeg:https://stillwatertownshipnj.com/wp-content/uploads/2024/11/New-Year.jpg
GEO:41.0572255;-74.8622721
X-APPLE-STRUCTURED-LOCATION;VALUE=URI;X-ADDRESS=Stillwater Town Hall Your Computer NJ 07860 United States;X-APPLE-RADIUS=500;X-TITLE=Your Computer:geo:-74.8622721,41.0572255
END:VEVENT
BEGIN:VEVENT
DTSTART;TZID=America/New_York:20241231T080000
DTEND;TZID=America/New_York:20241231T140000
DTSTAMP:20260424T071557
CREATED:20241218T173607Z
LAST-MODIFIED:20241218T173607Z
UID:10006269-1735632000-1735653600@stillwatertownshipnj.com
SUMMARY:Municipal Office Closing Early - 2pm
DESCRIPTION:
URL:https://stillwatertownshipnj.com/event/municipal-office-closing-early-2pm/
LOCATION:Stillwater Town Hall\, Your Computer\, NJ\, 07860\, United States
CATEGORIES:Events
ATTACH;FMTTYPE=image/jpeg:https://stillwatertownshipnj.com/wp-content/uploads/2024/11/New-Year.jpg
GEO:41.0572255;-74.8622721
X-APPLE-STRUCTURED-LOCATION;VALUE=URI;X-ADDRESS=Stillwater Town Hall Your Computer NJ 07860 United States;X-APPLE-RADIUS=500;X-TITLE=Your Computer:geo:-74.8622721,41.0572255
END:VEVENT
BEGIN:VEVENT
DTSTART;TZID=America/New_York:20241230T100000
DTEND;TZID=America/New_York:20241230T120000
DTSTAMP:20260424T071557
CREATED:20241202T170109Z
LAST-MODIFIED:20241202T170109Z
UID:10006211-1735552800-1735560000@stillwatertownshipnj.com
SUMMARY:Tax Sale
DESCRIPTION:
URL:https://stillwatertownshipnj.com/event/tax-sale/
LOCATION:Stillwater Town Hall\, Your Computer\, NJ\, 07860\, United States
CATEGORIES:Events
GEO:41.0572255;-74.8622721
X-APPLE-STRUCTURED-LOCATION;VALUE=URI;X-ADDRESS=Stillwater Town Hall Your Computer NJ 07860 United States;X-APPLE-RADIUS=500;X-TITLE=Your Computer:geo:-74.8622721,41.0572255
END:VEVENT
BEGIN:VEVENT
DTSTART;TZID=America/New_York:20241224T080000
DTEND;TZID=America/New_York:20241224T120000
DTSTAMP:20260424T071557
CREATED:20241218T173525Z
LAST-MODIFIED:20241218T173525Z
UID:10006268-1735027200-1735041600@stillwatertownshipnj.com
SUMMARY:Municipal Office Closing Early - 12pm
DESCRIPTION:
URL:https://stillwatertownshipnj.com/event/municipal-office-closing-early-12pm/
LOCATION:Stillwater Town Hall\, Your Computer\, NJ\, 07860\, United States
CATEGORIES:Events
ATTACH;FMTTYPE=image/jpeg:https://stillwatertownshipnj.com/wp-content/uploads/2023/09/light-wrapped-evergreen-tree.jpg
GEO:41.0572255;-74.8622721
X-APPLE-STRUCTURED-LOCATION;VALUE=URI;X-ADDRESS=Stillwater Town Hall Your Computer NJ 07860 United States;X-APPLE-RADIUS=500;X-TITLE=Your Computer:geo:-74.8622721,41.0572255
END:VEVENT
BEGIN:VEVENT
DTSTART;TZID=America/New_York:20241218T193000
DTEND;TZID=America/New_York:20241218T213000
DTSTAMP:20260424T071557
CREATED:20241210T142100Z
LAST-MODIFIED:20241210T142100Z
UID:10004456-1734550200-1734557400@stillwatertownshipnj.com
SUMMARY:Planning Board Regular Meeting
DESCRIPTION:For the 12-18-24 Planning Board Meeting Agenda-Please click here!
URL:https://stillwatertownshipnj.com/event/planning-board-regular-meeting-6-3/
LOCATION:Stillwater Town Hall\, Your Computer\, NJ\, 07860\, United States
CATEGORIES:Events
ATTACH;FMTTYPE=image/png:https://stillwatertownshipnj.com/wp-content/uploads/2017/10/boats-in-stillwater.png
GEO:41.0572255;-74.8622721
X-APPLE-STRUCTURED-LOCATION;VALUE=URI;X-ADDRESS=Stillwater Town Hall Your Computer NJ 07860 United States;X-APPLE-RADIUS=500;X-TITLE=Your Computer:geo:-74.8622721,41.0572255
END:VEVENT
BEGIN:VEVENT
DTSTART;TZID=America/New_York:20241217T190000
DTEND;TZID=America/New_York:20241217T220000
DTSTAMP:20260424T071557
CREATED:20241213T174525Z
LAST-MODIFIED:20241213T174525Z
UID:10004370-1734462000-1734472800@stillwatertownshipnj.com
SUMMARY:Township Committee Meeting
DESCRIPTION:Township Committee Regular Meeting \nTo attend the meeting via zoom\, please click the below link; \nhttps://us02web.zoom.us/j/83762673297 \nFor the Meeting Agenda & Corresponding Items\, please click here!
URL:https://stillwatertownshipnj.com/event/township-committee-meeting-37/
LOCATION:Stillwater Town Hall\, Your Computer\, NJ\, 07860\, United States
CATEGORIES:Events
ATTACH;FMTTYPE=image/jpeg:https://stillwatertownshipnj.com/wp-content/uploads/2024/01/3faa73dbc2eb74ebba3e5a6655bdb922.jpg
GEO:41.0572255;-74.8622721
X-APPLE-STRUCTURED-LOCATION;VALUE=URI;X-ADDRESS=Stillwater Town Hall Your Computer NJ 07860 United States;X-APPLE-RADIUS=500;X-TITLE=Your Computer:geo:-74.8622721,41.0572255
END:VEVENT
BEGIN:VEVENT
DTSTART;TZID=America/New_York:20241217T090000
DTEND;TZID=America/New_York:20241217T120000
DTSTAMP:20260424T071557
CREATED:20241126T180806Z
LAST-MODIFIED:20241126T180806Z
UID:10006197-1734426000-1734436800@stillwatertownshipnj.com
SUMMARY:Free Paper Shred Day
DESCRIPTION:Event held at Stillwater Twp. Town Hall\, 964 Stillwater Road\, from 9am-12pm. For any questions\, please call (973) 383-9484.
URL:https://stillwatertownshipnj.com/event/free-paper-shred-day/
LOCATION:Stillwater Town Hall\, Your Computer\, NJ\, 07860\, United States
CATEGORIES:Events
GEO:41.0572255;-74.8622721
X-APPLE-STRUCTURED-LOCATION;VALUE=URI;X-ADDRESS=Stillwater Town Hall Your Computer NJ 07860 United States;X-APPLE-RADIUS=500;X-TITLE=Your Computer:geo:-74.8622721,41.0572255
END:VEVENT
BEGIN:VEVENT
DTSTART;TZID=America/New_York:20241216T193000
DTEND;TZID=America/New_York:20241216T213000
DTSTAMP:20260424T071557
CREATED:20241210T141907Z
LAST-MODIFIED:20241210T141907Z
UID:10006205-1734377400-1734384600@stillwatertownshipnj.com
SUMMARY:Zoning Board of Adjustment Regular Meeting
DESCRIPTION:For the 12-16-24 Meeting Agenda\, Please click here!
URL:https://stillwatertownshipnj.com/event/zoning-board-of-adjustment-regular-meeting-7-2/
LOCATION:Stillwater Town Hall\, Your Computer\, NJ\, 07860\, United States
CATEGORIES:Events
ATTACH;FMTTYPE=image/jpeg:https://stillwatertownshipnj.com/wp-content/uploads/2022/03/Swartswood-State-Park.jpg
GEO:41.0572255;-74.8622721
X-APPLE-STRUCTURED-LOCATION;VALUE=URI;X-ADDRESS=Stillwater Town Hall Your Computer NJ 07860 United States;X-APPLE-RADIUS=500;X-TITLE=Your Computer:geo:-74.8622721,41.0572255
END:VEVENT
END:VCALENDAR