BEGIN:VCALENDAR
VERSION:2.0
PRODID:-//Stillwater Township - ECPv6.15.18//NONSGML v1.0//EN
CALSCALE:GREGORIAN
METHOD:PUBLISH
X-ORIGINAL-URL:https://stillwatertownshipnj.com
X-WR-CALDESC:Events for Stillwater Township
REFRESH-INTERVAL;VALUE=DURATION:PT1H
X-Robots-Tag:noindex
X-PUBLISHED-TTL:PT1H
BEGIN:VTIMEZONE
TZID:America/New_York
BEGIN:DAYLIGHT
TZOFFSETFROM:-0500
TZOFFSETTO:-0400
TZNAME:EDT
DTSTART:20240310T070000
END:DAYLIGHT
BEGIN:STANDARD
TZOFFSETFROM:-0400
TZOFFSETTO:-0500
TZNAME:EST
DTSTART:20241103T060000
END:STANDARD
BEGIN:DAYLIGHT
TZOFFSETFROM:-0500
TZOFFSETTO:-0400
TZNAME:EDT
DTSTART:20250309T070000
END:DAYLIGHT
BEGIN:STANDARD
TZOFFSETFROM:-0400
TZOFFSETTO:-0500
TZNAME:EST
DTSTART:20251102T060000
END:STANDARD
BEGIN:DAYLIGHT
TZOFFSETFROM:-0500
TZOFFSETTO:-0400
TZNAME:EDT
DTSTART:20260308T070000
END:DAYLIGHT
BEGIN:STANDARD
TZOFFSETFROM:-0400
TZOFFSETTO:-0500
TZNAME:EST
DTSTART:20261101T060000
END:STANDARD
END:VTIMEZONE
BEGIN:VEVENT
DTSTART;TZID=America/New_York:20250505T190000
DTEND;TZID=America/New_York:20250505T220000
DTSTAMP:20260423T232801
CREATED:20241231T133441Z
LAST-MODIFIED:20250613T173646Z
UID:10006274-1746471600-1746482400@stillwatertownshipnj.com
SUMMARY:Recreation Commission Meeting
DESCRIPTION:To attend the meeting via Zoom\, please click the below link: \nhttps://us02web.zoom.us/j/86731527694
URL:https://stillwatertownshipnj.com/event/recreation-commission-meeting-11/2025-05-05/
LOCATION:Stillwater Town Hall\, Your Computer\, NJ\, 07860\, United States
CATEGORIES:Events
ATTACH;FMTTYPE=image/jpeg:https://stillwatertownshipnj.com/wp-content/uploads/2024/08/Veterans-Park-Bridge-Sign.jpeg
GEO:41.0572255;-74.8622721
X-APPLE-STRUCTURED-LOCATION;VALUE=URI;X-ADDRESS=Stillwater Town Hall Your Computer NJ 07860 United States;X-APPLE-RADIUS=500;X-TITLE=Your Computer:geo:-74.8622721,41.0572255
END:VEVENT
BEGIN:VEVENT
DTSTART;TZID=America/New_York:20250429T180000
DTEND;TZID=America/New_York:20250429T190000
DTSTAMP:20260423T232801
CREATED:20250429T193208Z
LAST-MODIFIED:20250429T193208Z
UID:10007335-1745949600-1745953200@stillwatertownshipnj.com
SUMMARY:Bicentennial Meeting
DESCRIPTION:To join the meeting via Zoom\, please click the following link: https://us02web.zoom.us/j/87830809012 \nAll are welcome to join to discuss the bicentennial celebration on June 7th\, 2025.
URL:https://stillwatertownshipnj.com/event/bicentennial-meeting-2/
LOCATION:Stillwater Town Hall\, Your Computer\, NJ\, 07860\, United States
CATEGORIES:Events
ATTACH;FMTTYPE=image/jpeg:https://stillwatertownshipnj.com/wp-content/uploads/2025/02/word-image-18070-1.jpeg
GEO:41.0572255;-74.8622721
X-APPLE-STRUCTURED-LOCATION;VALUE=URI;X-ADDRESS=Stillwater Town Hall Your Computer NJ 07860 United States;X-APPLE-RADIUS=500;X-TITLE=Your Computer:geo:-74.8622721,41.0572255
END:VEVENT
BEGIN:VEVENT
DTSTART;TZID=America/New_York:20250428T190000
DTEND;TZID=America/New_York:20250428T210000
DTSTAMP:20260423T232801
CREATED:20250115T133140Z
LAST-MODIFIED:20250115T133140Z
UID:10006360-1745866800-1745874000@stillwatertownshipnj.com
SUMMARY:Zoning Board of Adjustment Regular Meeting
DESCRIPTION:
URL:https://stillwatertownshipnj.com/event/zoning-board-of-adjustment-regular-meeting-11/
LOCATION:Stillwater Town Hall\, Your Computer\, NJ\, 07860\, United States
CATEGORIES:Events
ATTACH;FMTTYPE=image/jpeg:https://stillwatertownshipnj.com/wp-content/uploads/2022/03/Swartswood-State-Park.jpg
GEO:41.0572255;-74.8622721
X-APPLE-STRUCTURED-LOCATION;VALUE=URI;X-ADDRESS=Stillwater Town Hall Your Computer NJ 07860 United States;X-APPLE-RADIUS=500;X-TITLE=Your Computer:geo:-74.8622721,41.0572255
END:VEVENT
BEGIN:VEVENT
DTSTART;TZID=America/New_York:20250423T190000
DTEND;TZID=America/New_York:20250423T210000
DTSTAMP:20260423T232801
CREATED:20241126T180844Z
LAST-MODIFIED:20241126T180844Z
UID:10005711-1745434800-1745442000@stillwatertownshipnj.com
SUMMARY:CERT Meeting
DESCRIPTION:
URL:https://stillwatertownshipnj.com/event/cert-meeting-2-3/2025-04-23/
LOCATION:Stillwater Town Hall\, Your Computer\, NJ\, 07860\, United States
CATEGORIES:Events
ATTACH;FMTTYPE=image/jpeg:https://stillwatertownshipnj.com/wp-content/uploads/2022/04/CERT.jpg
GEO:41.0572255;-74.8622721
X-APPLE-STRUCTURED-LOCATION;VALUE=URI;X-ADDRESS=Stillwater Town Hall Your Computer NJ 07860 United States;X-APPLE-RADIUS=500;X-TITLE=Your Computer:geo:-74.8622721,41.0572255
END:VEVENT
BEGIN:VEVENT
DTSTART;VALUE=DATE:20250418
DTEND;VALUE=DATE:20250419
DTSTAMP:20260423T232801
CREATED:20241204T155629Z
LAST-MODIFIED:20241204T155629Z
UID:10006215-1744934400-1745020799@stillwatertownshipnj.com
SUMMARY:Municipal Office Closed - Good Friday
DESCRIPTION:
URL:https://stillwatertownshipnj.com/event/municipal-office-closed-good-friday-2/
LOCATION:Stillwater Town Hall\, Your Computer\, NJ\, 07860\, United States
CATEGORIES:Events
ATTACH;FMTTYPE=image/jpeg:https://stillwatertownshipnj.com/wp-content/uploads/2023/09/istockphoto-1220588179-612x612-1.jpg
GEO:41.0572255;-74.8622721
X-APPLE-STRUCTURED-LOCATION;VALUE=URI;X-ADDRESS=Stillwater Town Hall Your Computer NJ 07860 United States;X-APPLE-RADIUS=500;X-TITLE=Your Computer:geo:-74.8622721,41.0572255
END:VEVENT
BEGIN:VEVENT
DTSTART;TZID=America/New_York:20250416T190000
DTEND;TZID=America/New_York:20250416T210000
DTSTAMP:20260423T232801
CREATED:20250115T134027Z
LAST-MODIFIED:20250115T134027Z
UID:10006372-1744830000-1744837200@stillwatertownshipnj.com
SUMMARY:Planning Board Regular Meeting
DESCRIPTION:
URL:https://stillwatertownshipnj.com/event/planning-board-regular-meeting-10/
LOCATION:Stillwater Town Hall\, Your Computer\, NJ\, 07860\, United States
CATEGORIES:Events
ATTACH;FMTTYPE=image/jpeg:https://stillwatertownshipnj.com/wp-content/uploads/2017/10/Swartswood-State-Park.jpg
GEO:41.0572255;-74.8622721
X-APPLE-STRUCTURED-LOCATION;VALUE=URI;X-ADDRESS=Stillwater Town Hall Your Computer NJ 07860 United States;X-APPLE-RADIUS=500;X-TITLE=Your Computer:geo:-74.8622721,41.0572255
END:VEVENT
BEGIN:VEVENT
DTSTART;TZID=America/New_York:20250415T190000
DTEND;TZID=America/New_York:20250415T220000
DTSTAMP:20260423T232801
CREATED:20241204T162312Z
LAST-MODIFIED:20250411T192019Z
UID:10006234-1744743600-1744754400@stillwatertownshipnj.com
SUMMARY:Township Committee Meeting
DESCRIPTION:To attend the meeting via Zoom\, please click the link below: \nhttps://us02web.zoom.us/j/87830809012 \nFor the meeting agenda & corresponding items\, Please click here!
URL:https://stillwatertownshipnj.com/event/township-committee-meeting-23/
LOCATION:Stillwater Town Hall\, Your Computer\, NJ\, 07860\, United States
CATEGORIES:Events
ATTACH;FMTTYPE=image/jpeg:https://stillwatertownshipnj.com/wp-content/uploads/2024/01/3faa73dbc2eb74ebba3e5a6655bdb922.jpg
GEO:41.0572255;-74.8622721
X-APPLE-STRUCTURED-LOCATION;VALUE=URI;X-ADDRESS=Stillwater Town Hall Your Computer NJ 07860 United States;X-APPLE-RADIUS=500;X-TITLE=Your Computer:geo:-74.8622721,41.0572255
END:VEVENT
BEGIN:VEVENT
DTSTART;TZID=America/New_York:20250414T190000
DTEND;TZID=America/New_York:20250414T210000
DTSTAMP:20260423T232801
CREATED:20250411T192249Z
LAST-MODIFIED:20250411T192249Z
UID:10006291-1744657200-1744664400@stillwatertownshipnj.com
SUMMARY:Environmental Commission Meeting
DESCRIPTION:For the meeting agenda\, please click here!
URL:https://stillwatertownshipnj.com/event/environmental-commission-meeting-5-5-4/
LOCATION:Stillwater Town Hall\, Your Computer\, NJ\, 07860\, United States
CATEGORIES:Events
ATTACH;FMTTYPE=image/jpeg:https://stillwatertownshipnj.com/wp-content/uploads/2022/01/enviro-image.jpg
GEO:41.0572255;-74.8622721
X-APPLE-STRUCTURED-LOCATION;VALUE=URI;X-ADDRESS=Stillwater Town Hall Your Computer NJ 07860 United States;X-APPLE-RADIUS=500;X-TITLE=Your Computer:geo:-74.8622721,41.0572255
END:VEVENT
BEGIN:VEVENT
DTSTART;TZID=America/New_York:20250407T190000
DTEND;TZID=America/New_York:20250407T220000
DTSTAMP:20260423T232801
CREATED:20241231T133441Z
LAST-MODIFIED:20250613T173646Z
UID:10006273-1744052400-1744063200@stillwatertownshipnj.com
SUMMARY:Recreation Commission Meeting
DESCRIPTION:To attend the meeting via Zoom\, please click the below link: \nhttps://us02web.zoom.us/j/86731527694
URL:https://stillwatertownshipnj.com/event/recreation-commission-meeting-11/2025-04-07/
LOCATION:Stillwater Town Hall\, Your Computer\, NJ\, 07860\, United States
CATEGORIES:Events
ATTACH;FMTTYPE=image/jpeg:https://stillwatertownshipnj.com/wp-content/uploads/2024/08/Veterans-Park-Bridge-Sign.jpeg
GEO:41.0572255;-74.8622721
X-APPLE-STRUCTURED-LOCATION;VALUE=URI;X-ADDRESS=Stillwater Town Hall Your Computer NJ 07860 United States;X-APPLE-RADIUS=500;X-TITLE=Your Computer:geo:-74.8622721,41.0572255
END:VEVENT
BEGIN:VEVENT
DTSTART;TZID=America/New_York:20250405T090000
DTEND;TZID=America/New_York:20250405T120000
DTSTAMP:20260423T232801
CREATED:20250107T181209Z
LAST-MODIFIED:20250107T181209Z
UID:10006345-1743843600-1743854400@stillwatertownshipnj.com
SUMMARY:Free Paper Shred Event
DESCRIPTION:
URL:https://stillwatertownshipnj.com/event/free-paper-shred-event/
LOCATION:Stillwater Town Hall\, Your Computer\, NJ\, 07860\, United States
CATEGORIES:Events
ATTACH;FMTTYPE=image/jpeg:https://stillwatertownshipnj.com/wp-content/uploads/2024/03/paper-shred.jpg
GEO:41.0572255;-74.8622721
X-APPLE-STRUCTURED-LOCATION;VALUE=URI;X-ADDRESS=Stillwater Town Hall Your Computer NJ 07860 United States;X-APPLE-RADIUS=500;X-TITLE=Your Computer:geo:-74.8622721,41.0572255
END:VEVENT
BEGIN:VEVENT
DTSTART;TZID=America/New_York:20250401T190000
DTEND;TZID=America/New_York:20250401T220000
DTSTAMP:20260423T232801
CREATED:20241204T162218Z
LAST-MODIFIED:20250328T172753Z
UID:10006233-1743534000-1743544800@stillwatertownshipnj.com
SUMMARY:Township Committee Meeting
DESCRIPTION:To attend the meeting via Zoom\, please click the link below: \nhttps://us02web.zoom.us/j/87830809012 \nFor the April 1\, 2025 Meeting Agenda & Corresponding Items\, please click here!
URL:https://stillwatertownshipnj.com/event/township-committee-meeting-22/
LOCATION:Stillwater Town Hall\, Your Computer\, NJ\, 07860\, United States
CATEGORIES:Events
ATTACH;FMTTYPE=image/jpeg:https://stillwatertownshipnj.com/wp-content/uploads/2024/01/3faa73dbc2eb74ebba3e5a6655bdb922.jpg
GEO:41.0572255;-74.8622721
X-APPLE-STRUCTURED-LOCATION;VALUE=URI;X-ADDRESS=Stillwater Town Hall Your Computer NJ 07860 United States;X-APPLE-RADIUS=500;X-TITLE=Your Computer:geo:-74.8622721,41.0572255
END:VEVENT
BEGIN:VEVENT
DTSTART;TZID=America/New_York:20250327T080000
DTEND;TZID=America/New_York:20250327T160000
DTSTAMP:20260423T232801
CREATED:20250122T174949Z
LAST-MODIFIED:20250122T174949Z
UID:10006386-1743062400-1743091200@stillwatertownshipnj.com
SUMMARY:Municipal Office Closed - In Service/Purge Day
DESCRIPTION:The Stillwater Township Municipal Office will be closed for an in-service purging day. Please leave any items in the drop box located by the front door and we will collect them before leaving.
URL:https://stillwatertownshipnj.com/event/municipal-office-closed-in-service-purge-day-2/
LOCATION:Stillwater Town Hall\, Your Computer\, NJ\, 07860\, United States
CATEGORIES:Events
ATTACH;FMTTYPE=image/jpeg:https://stillwatertownshipnj.com/wp-content/uploads/2023/09/istockphoto-1220588179-612x612-1.jpg
GEO:41.0572255;-74.8622721
X-APPLE-STRUCTURED-LOCATION;VALUE=URI;X-ADDRESS=Stillwater Town Hall Your Computer NJ 07860 United States;X-APPLE-RADIUS=500;X-TITLE=Your Computer:geo:-74.8622721,41.0572255
END:VEVENT
BEGIN:VEVENT
DTSTART;TZID=America/New_York:20250326T190000
DTEND;TZID=America/New_York:20250326T210000
DTSTAMP:20260423T232801
CREATED:20241126T180844Z
LAST-MODIFIED:20241126T180844Z
UID:10005710-1743015600-1743022800@stillwatertownshipnj.com
SUMMARY:CERT Meeting
DESCRIPTION:
URL:https://stillwatertownshipnj.com/event/cert-meeting-2-3/2025-03-26/
LOCATION:Stillwater Town Hall\, Your Computer\, NJ\, 07860\, United States
CATEGORIES:Events
ATTACH;FMTTYPE=image/jpeg:https://stillwatertownshipnj.com/wp-content/uploads/2022/04/CERT.jpg
GEO:41.0572255;-74.8622721
X-APPLE-STRUCTURED-LOCATION;VALUE=URI;X-ADDRESS=Stillwater Town Hall Your Computer NJ 07860 United States;X-APPLE-RADIUS=500;X-TITLE=Your Computer:geo:-74.8622721,41.0572255
END:VEVENT
BEGIN:VEVENT
DTSTART;TZID=America/New_York:20250324T190000
DTEND;TZID=America/New_York:20250324T210000
DTSTAMP:20260423T232801
CREATED:20250115T133059Z
LAST-MODIFIED:20250115T133059Z
UID:10006359-1742842800-1742850000@stillwatertownshipnj.com
SUMMARY:Zoning Board of Adjustment Regular Meeting
DESCRIPTION:
URL:https://stillwatertownshipnj.com/event/zoning-board-of-adjustment-regular-meeting-10/
LOCATION:Stillwater Town Hall\, Your Computer\, NJ\, 07860\, United States
CATEGORIES:Events
ATTACH;FMTTYPE=image/jpeg:https://stillwatertownshipnj.com/wp-content/uploads/2022/03/Swartswood-State-Park.jpg
GEO:41.0572255;-74.8622721
X-APPLE-STRUCTURED-LOCATION;VALUE=URI;X-ADDRESS=Stillwater Town Hall Your Computer NJ 07860 United States;X-APPLE-RADIUS=500;X-TITLE=Your Computer:geo:-74.8622721,41.0572255
END:VEVENT
BEGIN:VEVENT
DTSTART;TZID=America/New_York:20250319T190000
DTEND;TZID=America/New_York:20250319T210000
DTSTAMP:20260423T232801
CREATED:20250115T133953Z
LAST-MODIFIED:20250115T133953Z
UID:10006371-1742410800-1742418000@stillwatertownshipnj.com
SUMMARY:Planning Board Regular Meeting
DESCRIPTION:
URL:https://stillwatertownshipnj.com/event/planning-board-regular-meeting-9/
LOCATION:Stillwater Town Hall\, Your Computer\, NJ\, 07860\, United States
CATEGORIES:Events
ATTACH;FMTTYPE=image/jpeg:https://stillwatertownshipnj.com/wp-content/uploads/2017/10/Swartswood-State-Park.jpg
GEO:41.0572255;-74.8622721
X-APPLE-STRUCTURED-LOCATION;VALUE=URI;X-ADDRESS=Stillwater Town Hall Your Computer NJ 07860 United States;X-APPLE-RADIUS=500;X-TITLE=Your Computer:geo:-74.8622721,41.0572255
END:VEVENT
BEGIN:VEVENT
DTSTART;TZID=America/New_York:20250318T190000
DTEND;TZID=America/New_York:20250318T220000
DTSTAMP:20260423T232801
CREATED:20241204T162002Z
LAST-MODIFIED:20250314T175046Z
UID:10006232-1742324400-1742335200@stillwatertownshipnj.com
SUMMARY:Township Committee Meeting
DESCRIPTION:To attend the meeting via Zoom\, please click the link below: \nhttps://us02web.zoom.us/j/87830809012 \nFor the March 18 meeting agenda & corresponding items\, please click here!
URL:https://stillwatertownshipnj.com/event/township-committee-meeting-21/
LOCATION:Stillwater Town Hall\, Your Computer\, NJ\, 07860\, United States
CATEGORIES:Events
ATTACH;FMTTYPE=image/jpeg:https://stillwatertownshipnj.com/wp-content/uploads/2024/01/3faa73dbc2eb74ebba3e5a6655bdb922.jpg
GEO:41.0572255;-74.8622721
X-APPLE-STRUCTURED-LOCATION;VALUE=URI;X-ADDRESS=Stillwater Town Hall Your Computer NJ 07860 United States;X-APPLE-RADIUS=500;X-TITLE=Your Computer:geo:-74.8622721,41.0572255
END:VEVENT
BEGIN:VEVENT
DTSTART;TZID=America/New_York:20250310T190000
DTEND;TZID=America/New_York:20250310T210000
DTSTAMP:20260423T232801
CREATED:20250307T144055Z
LAST-MODIFIED:20250307T144056Z
UID:10006290-1741633200-1741640400@stillwatertownshipnj.com
SUMMARY:Environmental Commission Meeting
DESCRIPTION:For the meeting agenda\, please click here!
URL:https://stillwatertownshipnj.com/event/environmental-commission-meeting-5-5-3/
LOCATION:Stillwater Town Hall\, Your Computer\, NJ\, 07860\, United States
CATEGORIES:Events
ATTACH;FMTTYPE=image/jpeg:https://stillwatertownshipnj.com/wp-content/uploads/2022/01/enviro-image.jpg
GEO:41.0572255;-74.8622721
X-APPLE-STRUCTURED-LOCATION;VALUE=URI;X-ADDRESS=Stillwater Town Hall Your Computer NJ 07860 United States;X-APPLE-RADIUS=500;X-TITLE=Your Computer:geo:-74.8622721,41.0572255
END:VEVENT
BEGIN:VEVENT
DTSTART;TZID=America/New_York:20250304T190000
DTEND;TZID=America/New_York:20250304T220000
DTSTAMP:20260423T232801
CREATED:20241204T161854Z
LAST-MODIFIED:20250228T205159Z
UID:10006231-1741114800-1741125600@stillwatertownshipnj.com
SUMMARY:Township Committee Meeting
DESCRIPTION:To attend the meeting via Zoom\, please click the link below: \nhttps://us02web.zoom.us/j/87830809012 \nFor the March 4\, 2025 Meeting agenda & corresponding items\, please click here!
URL:https://stillwatertownshipnj.com/event/township-committee-meeting-20/
LOCATION:Stillwater Town Hall\, Your Computer\, NJ\, 07860\, United States
CATEGORIES:Events
ATTACH;FMTTYPE=image/jpeg:https://stillwatertownshipnj.com/wp-content/uploads/2024/01/3faa73dbc2eb74ebba3e5a6655bdb922.jpg
GEO:41.0572255;-74.8622721
X-APPLE-STRUCTURED-LOCATION;VALUE=URI;X-ADDRESS=Stillwater Town Hall Your Computer NJ 07860 United States;X-APPLE-RADIUS=500;X-TITLE=Your Computer:geo:-74.8622721,41.0572255
END:VEVENT
BEGIN:VEVENT
DTSTART;TZID=America/New_York:20250303T190000
DTEND;TZID=America/New_York:20250303T220000
DTSTAMP:20260423T232801
CREATED:20241231T133441Z
LAST-MODIFIED:20250613T173646Z
UID:10006272-1741028400-1741039200@stillwatertownshipnj.com
SUMMARY:Recreation Commission Meeting
DESCRIPTION:To attend the meeting via Zoom\, please click the below link: \nhttps://us02web.zoom.us/j/86731527694
URL:https://stillwatertownshipnj.com/event/recreation-commission-meeting-11/2025-03-03/
LOCATION:Stillwater Town Hall\, Your Computer\, NJ\, 07860\, United States
CATEGORIES:Events
ATTACH;FMTTYPE=image/jpeg:https://stillwatertownshipnj.com/wp-content/uploads/2024/08/Veterans-Park-Bridge-Sign.jpeg
GEO:41.0572255;-74.8622721
X-APPLE-STRUCTURED-LOCATION;VALUE=URI;X-ADDRESS=Stillwater Town Hall Your Computer NJ 07860 United States;X-APPLE-RADIUS=500;X-TITLE=Your Computer:geo:-74.8622721,41.0572255
END:VEVENT
BEGIN:VEVENT
DTSTART;TZID=America/New_York:20250226T190000
DTEND;TZID=America/New_York:20250226T210000
DTSTAMP:20260423T232801
CREATED:20241126T180844Z
LAST-MODIFIED:20241126T180844Z
UID:10005709-1740596400-1740603600@stillwatertownshipnj.com
SUMMARY:CERT Meeting
DESCRIPTION:
URL:https://stillwatertownshipnj.com/event/cert-meeting-2-3/2025-02-26/
LOCATION:Stillwater Town Hall\, Your Computer\, NJ\, 07860\, United States
CATEGORIES:Events
ATTACH;FMTTYPE=image/jpeg:https://stillwatertownshipnj.com/wp-content/uploads/2022/04/CERT.jpg
GEO:41.0572255;-74.8622721
X-APPLE-STRUCTURED-LOCATION;VALUE=URI;X-ADDRESS=Stillwater Town Hall Your Computer NJ 07860 United States;X-APPLE-RADIUS=500;X-TITLE=Your Computer:geo:-74.8622721,41.0572255
END:VEVENT
BEGIN:VEVENT
DTSTART;TZID=America/New_York:20250225T180000
DTEND;TZID=America/New_York:20250225T220000
DTSTAMP:20260423T232801
CREATED:20250210T151201Z
LAST-MODIFIED:20250225T172205Z
UID:10006687-1740506400-1740520800@stillwatertownshipnj.com
SUMMARY:Bicentennial Workshop Meeting
DESCRIPTION:The Township Committee\, Recreation Commission & Historical Society will be having a special meeting to discuss the Bicentennial Celebration at 6:00pm at the Municipal Office. \nTo attend this meeting via Zoom\, please click here! \nFor the meeting agenda please click here!
URL:https://stillwatertownshipnj.com/event/bicentennial-workshop-meeting/
LOCATION:Stillwater Town Hall\, Your Computer\, NJ\, 07860\, United States
CATEGORIES:Events
ATTACH;FMTTYPE=image/jpeg:https://stillwatertownshipnj.com/wp-content/uploads/2024/01/3faa73dbc2eb74ebba3e5a6655bdb922.jpg
GEO:41.0572255;-74.8622721
X-APPLE-STRUCTURED-LOCATION;VALUE=URI;X-ADDRESS=Stillwater Town Hall Your Computer NJ 07860 United States;X-APPLE-RADIUS=500;X-TITLE=Your Computer:geo:-74.8622721,41.0572255
END:VEVENT
BEGIN:VEVENT
DTSTART;TZID=America/New_York:20250224T190000
DTEND;TZID=America/New_York:20250224T210000
DTSTAMP:20260423T232801
CREATED:20250115T133022Z
LAST-MODIFIED:20250224T143553Z
UID:10006358-1740423600-1740430800@stillwatertownshipnj.com
SUMMARY:Zoning Board of Adjustment Regular Meeting
DESCRIPTION:For the meeting agenda\, please click here!
URL:https://stillwatertownshipnj.com/event/zoning-board-of-adjustment-regular-meeting-9/
LOCATION:Stillwater Town Hall\, Your Computer\, NJ\, 07860\, United States
CATEGORIES:Events
ATTACH;FMTTYPE=image/jpeg:https://stillwatertownshipnj.com/wp-content/uploads/2022/03/Swartswood-State-Park.jpg
GEO:41.0572255;-74.8622721
X-APPLE-STRUCTURED-LOCATION;VALUE=URI;X-ADDRESS=Stillwater Town Hall Your Computer NJ 07860 United States;X-APPLE-RADIUS=500;X-TITLE=Your Computer:geo:-74.8622721,41.0572255
END:VEVENT
BEGIN:VEVENT
DTSTART;TZID=America/New_York:20250219T190000
DTEND;TZID=America/New_York:20250219T210000
DTSTAMP:20260423T232801
CREATED:20250115T133923Z
LAST-MODIFIED:20250214T151047Z
UID:10006370-1739991600-1739998800@stillwatertownshipnj.com
SUMMARY:Planning Board Regular Meeting
DESCRIPTION:For the February 19 Meeting Agenda\, Please click here!
URL:https://stillwatertownshipnj.com/event/planning-board-regular-meeting-8/
LOCATION:Stillwater Town Hall\, Your Computer\, NJ\, 07860\, United States
CATEGORIES:Events
ATTACH;FMTTYPE=image/jpeg:https://stillwatertownshipnj.com/wp-content/uploads/2017/10/Swartswood-State-Park.jpg
GEO:41.0572255;-74.8622721
X-APPLE-STRUCTURED-LOCATION;VALUE=URI;X-ADDRESS=Stillwater Town Hall Your Computer NJ 07860 United States;X-APPLE-RADIUS=500;X-TITLE=Your Computer:geo:-74.8622721,41.0572255
END:VEVENT
BEGIN:VEVENT
DTSTART;TZID=America/New_York:20250218T180000
DTEND;TZID=America/New_York:20250218T220000
DTSTAMP:20260423T232801
CREATED:20241204T161800Z
LAST-MODIFIED:20250214T193540Z
UID:10006230-1739901600-1739916000@stillwatertownshipnj.com
SUMMARY:Township Committee Meeting
DESCRIPTION:The budget discussion will begin at 6:00pm with the regular meeting to follow at 7:00pm. \nTo attend the meeting via Zoom\, please click the link below: \nhttps://us02web.zoom.us/j/87830809012 \nFor the February 18\, 2025 meeting agenda & corresponding items\, please click here!
URL:https://stillwatertownshipnj.com/event/township-committee-meeting-19/
LOCATION:Stillwater Town Hall\, Your Computer\, NJ\, 07860\, United States
CATEGORIES:Events
ATTACH;FMTTYPE=image/jpeg:https://stillwatertownshipnj.com/wp-content/uploads/2024/01/3faa73dbc2eb74ebba3e5a6655bdb922.jpg
GEO:41.0572255;-74.8622721
X-APPLE-STRUCTURED-LOCATION;VALUE=URI;X-ADDRESS=Stillwater Town Hall Your Computer NJ 07860 United States;X-APPLE-RADIUS=500;X-TITLE=Your Computer:geo:-74.8622721,41.0572255
END:VEVENT
BEGIN:VEVENT
DTSTART;VALUE=DATE:20250217
DTEND;VALUE=DATE:20250218
DTSTAMP:20260423T232801
CREATED:20241204T155526Z
LAST-MODIFIED:20241204T155526Z
UID:10006214-1739750400-1739836799@stillwatertownshipnj.com
SUMMARY:Municipal Office Closed - President's Day
DESCRIPTION:
URL:https://stillwatertownshipnj.com/event/municipal-office-closed-presidents-day/
LOCATION:Stillwater Town Hall\, Your Computer\, NJ\, 07860\, United States
CATEGORIES:Events
ATTACH;FMTTYPE=image/jpeg:https://stillwatertownshipnj.com/wp-content/uploads/2023/09/istockphoto-1220588179-612x612-1.jpg
GEO:41.0572255;-74.8622721
X-APPLE-STRUCTURED-LOCATION;VALUE=URI;X-ADDRESS=Stillwater Town Hall Your Computer NJ 07860 United States;X-APPLE-RADIUS=500;X-TITLE=Your Computer:geo:-74.8622721,41.0572255
END:VEVENT
BEGIN:VEVENT
DTSTART;VALUE=DATE:20250212
DTEND;VALUE=DATE:20250213
DTSTAMP:20260423T232801
CREATED:20241204T155435Z
LAST-MODIFIED:20241204T155435Z
UID:10006213-1739318400-1739404799@stillwatertownshipnj.com
SUMMARY:Municipal Office Closed - Lincoln's Birthday
DESCRIPTION:
URL:https://stillwatertownshipnj.com/event/municipal-office-closed-lincolns-birthday/
LOCATION:Stillwater Town Hall\, Your Computer\, NJ\, 07860\, United States
CATEGORIES:Events
ATTACH;FMTTYPE=image/jpeg:https://stillwatertownshipnj.com/wp-content/uploads/2023/09/istockphoto-1220588179-612x612-1.jpg
GEO:41.0572255;-74.8622721
X-APPLE-STRUCTURED-LOCATION;VALUE=URI;X-ADDRESS=Stillwater Town Hall Your Computer NJ 07860 United States;X-APPLE-RADIUS=500;X-TITLE=Your Computer:geo:-74.8622721,41.0572255
END:VEVENT
BEGIN:VEVENT
DTSTART;TZID=America/New_York:20250210T190000
DTEND;TZID=America/New_York:20250210T210000
DTSTAMP:20260423T232801
CREATED:20250207T151317Z
LAST-MODIFIED:20250207T151317Z
UID:10006289-1739214000-1739221200@stillwatertownshipnj.com
SUMMARY:Environmental Commission Meeting
DESCRIPTION:For the meeting agenda\, please click here!
URL:https://stillwatertownshipnj.com/event/environmental-commission-meeting-5-5-2/
LOCATION:Stillwater Town Hall\, Your Computer\, NJ\, 07860\, United States
CATEGORIES:Events
ATTACH;FMTTYPE=image/jpeg:https://stillwatertownshipnj.com/wp-content/uploads/2022/01/enviro-image.jpg
GEO:41.0572255;-74.8622721
X-APPLE-STRUCTURED-LOCATION;VALUE=URI;X-ADDRESS=Stillwater Town Hall Your Computer NJ 07860 United States;X-APPLE-RADIUS=500;X-TITLE=Your Computer:geo:-74.8622721,41.0572255
END:VEVENT
BEGIN:VEVENT
DTSTART;TZID=America/New_York:20250210T190000
DTEND;TZID=America/New_York:20250210T210000
DTSTAMP:20260423T232801
CREATED:20241206T135422Z
LAST-MODIFIED:20250107T175218Z
UID:10006781-1739214000-1739221200@stillwatertownshipnj.com
SUMMARY:Environmental Commission Meeting
DESCRIPTION:For the meeting agenda\, please click here!
URL:https://stillwatertownshipnj.com/event/environmental-commission-meeting-5-5/2025-02-10/
LOCATION:Stillwater Town Hall\, Your Computer\, NJ\, 07860\, United States
CATEGORIES:Events
ATTACH;FMTTYPE=image/jpeg:https://stillwatertownshipnj.com/wp-content/uploads/2022/01/enviro-image.jpg
GEO:41.0572255;-74.8622721
X-APPLE-STRUCTURED-LOCATION;VALUE=URI;X-ADDRESS=Stillwater Town Hall Your Computer NJ 07860 United States;X-APPLE-RADIUS=500;X-TITLE=Your Computer:geo:-74.8622721,41.0572255
END:VEVENT
BEGIN:VEVENT
DTSTART;TZID=America/New_York:20250209T130000
DTEND;TZID=America/New_York:20250209T153000
DTSTAMP:20260423T232801
CREATED:20250127T185743Z
LAST-MODIFIED:20250127T185743Z
UID:10006649-1739106000-1739115000@stillwatertownshipnj.com
SUMMARY:Plymouth Lake Association Meeting
DESCRIPTION:
URL:https://stillwatertownshipnj.com/event/plymouth-lake-association-meeting/
LOCATION:Stillwater Town Hall\, Your Computer\, NJ\, 07860\, United States
CATEGORIES:Events
ATTACH;FMTTYPE=image/jpeg:https://stillwatertownshipnj.com/wp-content/uploads/2024/04/Lake-Plymouth.jpg
GEO:41.0572255;-74.8622721
X-APPLE-STRUCTURED-LOCATION;VALUE=URI;X-ADDRESS=Stillwater Town Hall Your Computer NJ 07860 United States;X-APPLE-RADIUS=500;X-TITLE=Your Computer:geo:-74.8622721,41.0572255
END:VEVENT
BEGIN:VEVENT
DTSTART;VALUE=DATE:20250206
DTEND;VALUE=DATE:20250207
DTSTAMP:20260423T232801
CREATED:20250206T014836Z
LAST-MODIFIED:20250206T144014Z
UID:10006684-1738800000-1738886399@stillwatertownshipnj.com
SUMMARY:Town Hall Closed
DESCRIPTION:Due to the weather the Stillwater Township Municipal Building will be closed on Thursday\, February 6th. As a reminder\, there is a locked drop box by the front door that can be utilized for any tax payments\, dog licenses\, etc and we will mail you a receipt Friday. Thank you!
URL:https://stillwatertownshipnj.com/event/town-hall-delayed-opening/
LOCATION:Stillwater Town Hall\, Your Computer\, NJ\, 07860\, United States
CATEGORIES:Events
ATTACH;FMTTYPE=image/jpeg:https://stillwatertownshipnj.com/wp-content/uploads/2025/02/IMG_9336.jpeg
GEO:41.0572255;-74.8622721
X-APPLE-STRUCTURED-LOCATION;VALUE=URI;X-ADDRESS=Stillwater Town Hall Your Computer NJ 07860 United States;X-APPLE-RADIUS=500;X-TITLE=Your Computer:geo:-74.8622721,41.0572255
END:VEVENT
END:VCALENDAR