BEGIN:VCALENDAR
VERSION:2.0
PRODID:-//Stillwater Township - ECPv6.15.18//NONSGML v1.0//EN
CALSCALE:GREGORIAN
METHOD:PUBLISH
X-WR-CALNAME:Stillwater Township
X-ORIGINAL-URL:https://stillwatertownshipnj.com
X-WR-CALDESC:Events for Stillwater Township
REFRESH-INTERVAL;VALUE=DURATION:PT1H
X-Robots-Tag:noindex
X-PUBLISHED-TTL:PT1H
BEGIN:VTIMEZONE
TZID:America/New_York
BEGIN:DAYLIGHT
TZOFFSETFROM:-0500
TZOFFSETTO:-0400
TZNAME:EDT
DTSTART:20250309T070000
END:DAYLIGHT
BEGIN:STANDARD
TZOFFSETFROM:-0400
TZOFFSETTO:-0500
TZNAME:EST
DTSTART:20251102T060000
END:STANDARD
BEGIN:DAYLIGHT
TZOFFSETFROM:-0500
TZOFFSETTO:-0400
TZNAME:EDT
DTSTART:20260308T070000
END:DAYLIGHT
BEGIN:STANDARD
TZOFFSETFROM:-0400
TZOFFSETTO:-0500
TZNAME:EST
DTSTART:20261101T060000
END:STANDARD
BEGIN:DAYLIGHT
TZOFFSETFROM:-0500
TZOFFSETTO:-0400
TZNAME:EDT
DTSTART:20270314T070000
END:DAYLIGHT
BEGIN:STANDARD
TZOFFSETFROM:-0400
TZOFFSETTO:-0500
TZNAME:EST
DTSTART:20271107T060000
END:STANDARD
END:VTIMEZONE
BEGIN:VEVENT
DTSTART;TZID=America/New_York:20260519T190000
DTEND;TZID=America/New_York:20260519T190000
DTSTAMP:20260422T015614
CREATED:20251217T171020Z
LAST-MODIFIED:20251217T171020Z
UID:10007712-1779217200-1779217200@stillwatertownshipnj.com
SUMMARY:Township Committee Meeting
DESCRIPTION:To attend the meeting via Zoom\, please click the link below: \nhttps://us02web.zoom.us/j/87830809012
URL:https://stillwatertownshipnj.com/event/township-committee-meeting-2/2026-05-19/
LOCATION:Stillwater Town Hall\, Your Computer\, NJ\, 07860\, United States
CATEGORIES:Events
ATTACH;FMTTYPE=image/jpeg:https://stillwatertownshipnj.com/wp-content/uploads/2024/01/3faa73dbc2eb74ebba3e5a6655bdb922.jpg
GEO:41.0572255;-74.8622721
X-APPLE-STRUCTURED-LOCATION;VALUE=URI;X-ADDRESS=Stillwater Town Hall Your Computer NJ 07860 United States;X-APPLE-RADIUS=500;X-TITLE=Your Computer:geo:-74.8622721,41.0572255
END:VEVENT
BEGIN:VEVENT
DTSTART;TZID=America/New_York:20260520T190000
DTEND;TZID=America/New_York:20260520T210000
DTSTAMP:20260422T015614
CREATED:20260116T164921Z
LAST-MODIFIED:20260116T164921Z
UID:10007773-1779303600-1779310800@stillwatertownshipnj.com
SUMMARY:Planning Board Regular Meeting
DESCRIPTION:
URL:https://stillwatertownshipnj.com/event/planning-board-regular-meeting-23/
LOCATION:Stillwater Town Hall\, Your Computer\, NJ\, 07860\, United States
CATEGORIES:Events
ATTACH;FMTTYPE=image/jpeg:https://stillwatertownshipnj.com/wp-content/uploads/2017/10/Swartswood-State-Park.jpg
GEO:41.0572255;-74.8622721
X-APPLE-STRUCTURED-LOCATION;VALUE=URI;X-ADDRESS=Stillwater Town Hall Your Computer NJ 07860 United States;X-APPLE-RADIUS=500;X-TITLE=Your Computer:geo:-74.8622721,41.0572255
END:VEVENT
BEGIN:VEVENT
DTSTART;VALUE=DATE:20260525
DTEND;VALUE=DATE:20260526
DTSTAMP:20260422T015614
CREATED:20251218T143805Z
LAST-MODIFIED:20251218T165510Z
UID:10007728-1779667200-1779753599@stillwatertownshipnj.com
SUMMARY:Municipal Office Closed - Memorial Day
DESCRIPTION:
URL:https://stillwatertownshipnj.com/event/municipal-office-closed-memorial-day-3/
LOCATION:Stillwater Town Hall\, Your Computer\, NJ\, 07860\, United States
CATEGORIES:Events
GEO:41.0572255;-74.8622721
X-APPLE-STRUCTURED-LOCATION;VALUE=URI;X-ADDRESS=Stillwater Town Hall Your Computer NJ 07860 United States;X-APPLE-RADIUS=500;X-TITLE=Your Computer:geo:-74.8622721,41.0572255
END:VEVENT
BEGIN:VEVENT
DTSTART;TZID=America/New_York:20260601T190000
DTEND;TZID=America/New_York:20260601T220000
DTSTAMP:20260422T015614
CREATED:20251230T152757Z
LAST-MODIFIED:20251230T152757Z
UID:10007743-1780340400-1780351200@stillwatertownshipnj.com
SUMMARY:Recreation Commission Meeting
DESCRIPTION:To attend the meeting via Zoom\, please click the below link: \nhttps://us02web.zoom.us/j/86731527694
URL:https://stillwatertownshipnj.com/event/recreation-commission-meeting-21/
LOCATION:Stillwater Town Hall\, Your Computer\, NJ\, 07860\, United States
CATEGORIES:Events
GEO:41.0572255;-74.8622721
X-APPLE-STRUCTURED-LOCATION;VALUE=URI;X-ADDRESS=Stillwater Town Hall Your Computer NJ 07860 United States;X-APPLE-RADIUS=500;X-TITLE=Your Computer:geo:-74.8622721,41.0572255
END:VEVENT
BEGIN:VEVENT
DTSTART;TZID=America/New_York:20260608T190000
DTEND;TZID=America/New_York:20260608T210000
DTSTAMP:20260422T015614
CREATED:20260106T145244Z
LAST-MODIFIED:20260106T145244Z
UID:10007757-1780945200-1780952400@stillwatertownshipnj.com
SUMMARY:Environmental Commission Meeting
DESCRIPTION:To join via Zoom: https://us02web.zoom.us/j/85976326681
URL:https://stillwatertownshipnj.com/event/environmental-commission-meeting-12/
LOCATION:Stillwater Town Hall\, Your Computer\, NJ\, 07860\, United States
CATEGORIES:Events
ATTACH;FMTTYPE=image/jpeg:https://stillwatertownshipnj.com/wp-content/uploads/2022/01/enviro-image.jpg
GEO:41.0572255;-74.8622721
X-APPLE-STRUCTURED-LOCATION;VALUE=URI;X-ADDRESS=Stillwater Town Hall Your Computer NJ 07860 United States;X-APPLE-RADIUS=500;X-TITLE=Your Computer:geo:-74.8622721,41.0572255
END:VEVENT
BEGIN:VEVENT
DTSTART;TZID=America/New_York:20260616T190000
DTEND;TZID=America/New_York:20260616T190000
DTSTAMP:20260422T015614
CREATED:20251217T171020Z
LAST-MODIFIED:20251217T171020Z
UID:10007713-1781636400-1781636400@stillwatertownshipnj.com
SUMMARY:Township Committee Meeting
DESCRIPTION:To attend the meeting via Zoom\, please click the link below: \nhttps://us02web.zoom.us/j/87830809012
URL:https://stillwatertownshipnj.com/event/township-committee-meeting-2/2026-06-16/
LOCATION:Stillwater Town Hall\, Your Computer\, NJ\, 07860\, United States
CATEGORIES:Events
ATTACH;FMTTYPE=image/jpeg:https://stillwatertownshipnj.com/wp-content/uploads/2024/01/3faa73dbc2eb74ebba3e5a6655bdb922.jpg
GEO:41.0572255;-74.8622721
X-APPLE-STRUCTURED-LOCATION;VALUE=URI;X-ADDRESS=Stillwater Town Hall Your Computer NJ 07860 United States;X-APPLE-RADIUS=500;X-TITLE=Your Computer:geo:-74.8622721,41.0572255
END:VEVENT
BEGIN:VEVENT
DTSTART;TZID=America/New_York:20260617T190000
DTEND;TZID=America/New_York:20260617T210000
DTSTAMP:20260422T015614
CREATED:20260116T165017Z
LAST-MODIFIED:20260116T165017Z
UID:10007774-1781722800-1781730000@stillwatertownshipnj.com
SUMMARY:Planning Board Regular Meeting
DESCRIPTION:
URL:https://stillwatertownshipnj.com/event/planning-board-regular-meeting-24/
LOCATION:Stillwater Town Hall\, Your Computer\, NJ\, 07860\, United States
CATEGORIES:Events
ATTACH;FMTTYPE=image/jpeg:https://stillwatertownshipnj.com/wp-content/uploads/2017/10/Swartswood-State-Park.jpg
GEO:41.0572255;-74.8622721
X-APPLE-STRUCTURED-LOCATION;VALUE=URI;X-ADDRESS=Stillwater Town Hall Your Computer NJ 07860 United States;X-APPLE-RADIUS=500;X-TITLE=Your Computer:geo:-74.8622721,41.0572255
END:VEVENT
BEGIN:VEVENT
DTSTART;VALUE=DATE:20260619
DTEND;VALUE=DATE:20260620
DTSTAMP:20260422T015614
CREATED:20251218T143840Z
LAST-MODIFIED:20251218T145014Z
UID:10007729-1781827200-1781913599@stillwatertownshipnj.com
SUMMARY:Municipal Office Closed - Juneteenth
DESCRIPTION:
URL:https://stillwatertownshipnj.com/event/municipal-office-closed-juneteenth-2/
LOCATION:Stillwater Town Hall\, Your Computer\, NJ\, 07860\, United States
CATEGORIES:Events
GEO:41.0572255;-74.8622721
X-APPLE-STRUCTURED-LOCATION;VALUE=URI;X-ADDRESS=Stillwater Town Hall Your Computer NJ 07860 United States;X-APPLE-RADIUS=500;X-TITLE=Your Computer:geo:-74.8622721,41.0572255
END:VEVENT
BEGIN:VEVENT
DTSTART;TZID=America/New_York:20260622T190000
DTEND;TZID=America/New_York:20260622T210000
DTSTAMP:20260422T015614
CREATED:20260129T185433Z
LAST-MODIFIED:20260129T185433Z
UID:10007791-1782154800-1782162000@stillwatertownshipnj.com
SUMMARY:Zoning Board of Adjustment
DESCRIPTION:
URL:https://stillwatertownshipnj.com/event/zoning-board-of-adjustment-5/
LOCATION:Stillwater Town Hall\, Your Computer\, NJ\, 07860\, United States
CATEGORIES:Events
GEO:41.0572255;-74.8622721
X-APPLE-STRUCTURED-LOCATION;VALUE=URI;X-ADDRESS=Stillwater Town Hall Your Computer NJ 07860 United States;X-APPLE-RADIUS=500;X-TITLE=Your Computer:geo:-74.8622721,41.0572255
END:VEVENT
BEGIN:VEVENT
DTSTART;VALUE=DATE:20260702
DTEND;VALUE=DATE:20260703
DTSTAMP:20260422T015614
CREATED:20251218T144139Z
LAST-MODIFIED:20251218T144139Z
UID:10007733-1782950400-1783036799@stillwatertownshipnj.com
SUMMARY:Municipal Office Closed - Floating Holiday
DESCRIPTION:
URL:https://stillwatertownshipnj.com/event/municipal-office-closed-floating-holiday-2/
LOCATION:Stillwater Town Hall\, Your Computer\, NJ\, 07860\, United States
CATEGORIES:Events
GEO:41.0572255;-74.8622721
X-APPLE-STRUCTURED-LOCATION;VALUE=URI;X-ADDRESS=Stillwater Town Hall Your Computer NJ 07860 United States;X-APPLE-RADIUS=500;X-TITLE=Your Computer:geo:-74.8622721,41.0572255
END:VEVENT
BEGIN:VEVENT
DTSTART;VALUE=DATE:20260703
DTEND;VALUE=DATE:20260704
DTSTAMP:20260422T015614
CREATED:20251218T143920Z
LAST-MODIFIED:20251218T145038Z
UID:10007730-1783036800-1783123199@stillwatertownshipnj.com
SUMMARY:Municipal Office Closed - Independence Day (Observed)
DESCRIPTION:
URL:https://stillwatertownshipnj.com/event/municipal-office-closed-independence-day-observed/
LOCATION:Stillwater Town Hall\, Your Computer\, NJ\, 07860\, United States
CATEGORIES:Events
GEO:41.0572255;-74.8622721
X-APPLE-STRUCTURED-LOCATION;VALUE=URI;X-ADDRESS=Stillwater Town Hall Your Computer NJ 07860 United States;X-APPLE-RADIUS=500;X-TITLE=Your Computer:geo:-74.8622721,41.0572255
END:VEVENT
BEGIN:VEVENT
DTSTART;TZID=America/New_York:20260706T190000
DTEND;TZID=America/New_York:20260706T220000
DTSTAMP:20260422T015614
CREATED:20251230T152914Z
LAST-MODIFIED:20251230T152914Z
UID:10007744-1783364400-1783375200@stillwatertownshipnj.com
SUMMARY:Recreation Commission Meeting
DESCRIPTION:To attend the meeting via Zoom\, please click the below link: \nhttps://us02web.zoom.us/j/86731527694
URL:https://stillwatertownshipnj.com/event/recreation-commission-meeting-22/
LOCATION:Stillwater Town Hall\, Your Computer\, NJ\, 07860\, United States
CATEGORIES:Events
GEO:41.0572255;-74.8622721
X-APPLE-STRUCTURED-LOCATION;VALUE=URI;X-ADDRESS=Stillwater Town Hall Your Computer NJ 07860 United States;X-APPLE-RADIUS=500;X-TITLE=Your Computer:geo:-74.8622721,41.0572255
END:VEVENT
BEGIN:VEVENT
DTSTART;TZID=America/New_York:20260713T190000
DTEND;TZID=America/New_York:20260713T210000
DTSTAMP:20260422T015614
CREATED:20260106T145448Z
LAST-MODIFIED:20260106T145448Z
UID:10007758-1783969200-1783976400@stillwatertownshipnj.com
SUMMARY:Environmental Commission Meeting
DESCRIPTION:To join via Zoom: https://us02web.zoom.us/j/85976326681
URL:https://stillwatertownshipnj.com/event/environmental-commission-meeting-13/
LOCATION:Stillwater Town Hall\, Your Computer\, NJ\, 07860\, United States
CATEGORIES:Events
ATTACH;FMTTYPE=image/jpeg:https://stillwatertownshipnj.com/wp-content/uploads/2022/01/enviro-image.jpg
GEO:41.0572255;-74.8622721
X-APPLE-STRUCTURED-LOCATION;VALUE=URI;X-ADDRESS=Stillwater Town Hall Your Computer NJ 07860 United States;X-APPLE-RADIUS=500;X-TITLE=Your Computer:geo:-74.8622721,41.0572255
END:VEVENT
BEGIN:VEVENT
DTSTART;TZID=America/New_York:20260715T190000
DTEND;TZID=America/New_York:20260715T210000
DTSTAMP:20260422T015614
CREATED:20260116T165303Z
LAST-MODIFIED:20260116T165303Z
UID:10007775-1784142000-1784149200@stillwatertownshipnj.com
SUMMARY:Planning Board Regular Meeting
DESCRIPTION:
URL:https://stillwatertownshipnj.com/event/planning-board-regular-meeting-25/
LOCATION:Stillwater Town Hall\, Your Computer\, NJ\, 07860\, United States
CATEGORIES:Events
ATTACH;FMTTYPE=image/jpeg:https://stillwatertownshipnj.com/wp-content/uploads/2017/10/Swartswood-State-Park.jpg
GEO:41.0572255;-74.8622721
X-APPLE-STRUCTURED-LOCATION;VALUE=URI;X-ADDRESS=Stillwater Town Hall Your Computer NJ 07860 United States;X-APPLE-RADIUS=500;X-TITLE=Your Computer:geo:-74.8622721,41.0572255
END:VEVENT
BEGIN:VEVENT
DTSTART;TZID=America/New_York:20260721T190000
DTEND;TZID=America/New_York:20260721T190000
DTSTAMP:20260422T015614
CREATED:20251217T171020Z
LAST-MODIFIED:20251217T171020Z
UID:10007714-1784660400-1784660400@stillwatertownshipnj.com
SUMMARY:Township Committee Meeting
DESCRIPTION:To attend the meeting via Zoom\, please click the link below: \nhttps://us02web.zoom.us/j/87830809012
URL:https://stillwatertownshipnj.com/event/township-committee-meeting-2/2026-07-21/
LOCATION:Stillwater Town Hall\, Your Computer\, NJ\, 07860\, United States
CATEGORIES:Events
ATTACH;FMTTYPE=image/jpeg:https://stillwatertownshipnj.com/wp-content/uploads/2024/01/3faa73dbc2eb74ebba3e5a6655bdb922.jpg
GEO:41.0572255;-74.8622721
X-APPLE-STRUCTURED-LOCATION;VALUE=URI;X-ADDRESS=Stillwater Town Hall Your Computer NJ 07860 United States;X-APPLE-RADIUS=500;X-TITLE=Your Computer:geo:-74.8622721,41.0572255
END:VEVENT
BEGIN:VEVENT
DTSTART;TZID=America/New_York:20260727T190000
DTEND;TZID=America/New_York:20260727T210000
DTSTAMP:20260422T015614
CREATED:20260129T185509Z
LAST-MODIFIED:20260129T185509Z
UID:10007792-1785178800-1785186000@stillwatertownshipnj.com
SUMMARY:Zoning Board of Adjustment
DESCRIPTION:
URL:https://stillwatertownshipnj.com/event/zoning-board-of-adjustment-6/
LOCATION:Stillwater Town Hall\, Your Computer\, NJ\, 07860\, United States
CATEGORIES:Events
GEO:41.0572255;-74.8622721
X-APPLE-STRUCTURED-LOCATION;VALUE=URI;X-ADDRESS=Stillwater Town Hall Your Computer NJ 07860 United States;X-APPLE-RADIUS=500;X-TITLE=Your Computer:geo:-74.8622721,41.0572255
END:VEVENT
BEGIN:VEVENT
DTSTART;TZID=America/New_York:20260803T190000
DTEND;TZID=America/New_York:20260803T220000
DTSTAMP:20260422T015614
CREATED:20251230T152952Z
LAST-MODIFIED:20251230T152952Z
UID:10007745-1785783600-1785794400@stillwatertownshipnj.com
SUMMARY:Recreation Commission Meeting
DESCRIPTION:To attend the meeting via Zoom\, please click the below link: \nhttps://us02web.zoom.us/j/86731527694
URL:https://stillwatertownshipnj.com/event/recreation-commission-meeting-23/
LOCATION:Stillwater Town Hall\, Your Computer\, NJ\, 07860\, United States
CATEGORIES:Events
GEO:41.0572255;-74.8622721
X-APPLE-STRUCTURED-LOCATION;VALUE=URI;X-ADDRESS=Stillwater Town Hall Your Computer NJ 07860 United States;X-APPLE-RADIUS=500;X-TITLE=Your Computer:geo:-74.8622721,41.0572255
END:VEVENT
BEGIN:VEVENT
DTSTART;TZID=America/New_York:20260810T190000
DTEND;TZID=America/New_York:20260810T210000
DTSTAMP:20260422T015614
CREATED:20260106T145607Z
LAST-MODIFIED:20260106T145607Z
UID:10007759-1786388400-1786395600@stillwatertownshipnj.com
SUMMARY:Environmental Commission Meeting
DESCRIPTION:To join via Zoom: https://us02web.zoom.us/j/85976326681
URL:https://stillwatertownshipnj.com/event/environmental-commission-meeting-14/
LOCATION:Stillwater Town Hall\, Your Computer\, NJ\, 07860\, United States
CATEGORIES:Events
ATTACH;FMTTYPE=image/jpeg:https://stillwatertownshipnj.com/wp-content/uploads/2022/01/enviro-image.jpg
GEO:41.0572255;-74.8622721
X-APPLE-STRUCTURED-LOCATION;VALUE=URI;X-ADDRESS=Stillwater Town Hall Your Computer NJ 07860 United States;X-APPLE-RADIUS=500;X-TITLE=Your Computer:geo:-74.8622721,41.0572255
END:VEVENT
BEGIN:VEVENT
DTSTART;TZID=America/New_York:20260818T190000
DTEND;TZID=America/New_York:20260818T190000
DTSTAMP:20260422T015614
CREATED:20251217T171020Z
LAST-MODIFIED:20251217T171020Z
UID:10007715-1787079600-1787079600@stillwatertownshipnj.com
SUMMARY:Township Committee Meeting
DESCRIPTION:To attend the meeting via Zoom\, please click the link below: \nhttps://us02web.zoom.us/j/87830809012
URL:https://stillwatertownshipnj.com/event/township-committee-meeting-2/2026-08-18/
LOCATION:Stillwater Town Hall\, Your Computer\, NJ\, 07860\, United States
CATEGORIES:Events
ATTACH;FMTTYPE=image/jpeg:https://stillwatertownshipnj.com/wp-content/uploads/2024/01/3faa73dbc2eb74ebba3e5a6655bdb922.jpg
GEO:41.0572255;-74.8622721
X-APPLE-STRUCTURED-LOCATION;VALUE=URI;X-ADDRESS=Stillwater Town Hall Your Computer NJ 07860 United States;X-APPLE-RADIUS=500;X-TITLE=Your Computer:geo:-74.8622721,41.0572255
END:VEVENT
BEGIN:VEVENT
DTSTART;TZID=America/New_York:20260819T190000
DTEND;TZID=America/New_York:20260819T210000
DTSTAMP:20260422T015614
CREATED:20260116T165330Z
LAST-MODIFIED:20260116T165330Z
UID:10007776-1787166000-1787173200@stillwatertownshipnj.com
SUMMARY:Planning Board Regular Meeting
DESCRIPTION:
URL:https://stillwatertownshipnj.com/event/planning-board-regular-meeting-26/
LOCATION:Stillwater Town Hall\, Your Computer\, NJ\, 07860\, United States
CATEGORIES:Events
ATTACH;FMTTYPE=image/jpeg:https://stillwatertownshipnj.com/wp-content/uploads/2017/10/Swartswood-State-Park.jpg
GEO:41.0572255;-74.8622721
X-APPLE-STRUCTURED-LOCATION;VALUE=URI;X-ADDRESS=Stillwater Town Hall Your Computer NJ 07860 United States;X-APPLE-RADIUS=500;X-TITLE=Your Computer:geo:-74.8622721,41.0572255
END:VEVENT
BEGIN:VEVENT
DTSTART;TZID=America/New_York:20260824T190000
DTEND;TZID=America/New_York:20260824T210000
DTSTAMP:20260422T015614
CREATED:20260129T185540Z
LAST-MODIFIED:20260129T185540Z
UID:10007793-1787598000-1787605200@stillwatertownshipnj.com
SUMMARY:Zoning Board of Adjustment
DESCRIPTION:
URL:https://stillwatertownshipnj.com/event/zoning-board-of-adjustment-7/
LOCATION:Stillwater Town Hall\, Your Computer\, NJ\, 07860\, United States
CATEGORIES:Events
GEO:41.0572255;-74.8622721
X-APPLE-STRUCTURED-LOCATION;VALUE=URI;X-ADDRESS=Stillwater Town Hall Your Computer NJ 07860 United States;X-APPLE-RADIUS=500;X-TITLE=Your Computer:geo:-74.8622721,41.0572255
END:VEVENT
BEGIN:VEVENT
DTSTART;TZID=America/New_York:20260901T190000
DTEND;TZID=America/New_York:20260901T190000
DTSTAMP:20260422T015614
CREATED:20251217T171020Z
LAST-MODIFIED:20251217T171020Z
UID:10007716-1788289200-1788289200@stillwatertownshipnj.com
SUMMARY:Township Committee Meeting
DESCRIPTION:To attend the meeting via Zoom\, please click the link below: \nhttps://us02web.zoom.us/j/87830809012
URL:https://stillwatertownshipnj.com/event/township-committee-meeting-2/2026-09-01/
LOCATION:Stillwater Town Hall\, Your Computer\, NJ\, 07860\, United States
CATEGORIES:Events
ATTACH;FMTTYPE=image/jpeg:https://stillwatertownshipnj.com/wp-content/uploads/2024/01/3faa73dbc2eb74ebba3e5a6655bdb922.jpg
GEO:41.0572255;-74.8622721
X-APPLE-STRUCTURED-LOCATION;VALUE=URI;X-ADDRESS=Stillwater Town Hall Your Computer NJ 07860 United States;X-APPLE-RADIUS=500;X-TITLE=Your Computer:geo:-74.8622721,41.0572255
END:VEVENT
BEGIN:VEVENT
DTSTART;VALUE=DATE:20260907
DTEND;VALUE=DATE:20260908
DTSTAMP:20260422T015614
CREATED:20251218T143955Z
LAST-MODIFIED:20251218T145115Z
UID:10007731-1788739200-1788825599@stillwatertownshipnj.com
SUMMARY:Municipal Office Closed - Labor Day
DESCRIPTION:
URL:https://stillwatertownshipnj.com/event/municipal-office-closed-labor-day-3/
LOCATION:Stillwater Town Hall\, Your Computer\, NJ\, 07860\, United States
CATEGORIES:Events
GEO:41.0572255;-74.8622721
X-APPLE-STRUCTURED-LOCATION;VALUE=URI;X-ADDRESS=Stillwater Town Hall Your Computer NJ 07860 United States;X-APPLE-RADIUS=500;X-TITLE=Your Computer:geo:-74.8622721,41.0572255
END:VEVENT
BEGIN:VEVENT
DTSTART;TZID=America/New_York:20260908T190000
DTEND;TZID=America/New_York:20260908T220000
DTSTAMP:20260422T015614
CREATED:20251230T153031Z
LAST-MODIFIED:20251230T153031Z
UID:10007746-1788894000-1788904800@stillwatertownshipnj.com
SUMMARY:Recreation Commission Meeting
DESCRIPTION:To attend the meeting via Zoom\, please click the below link: \nhttps://us02web.zoom.us/j/86731527694
URL:https://stillwatertownshipnj.com/event/recreation-commission-meeting-24/
LOCATION:Stillwater Town Hall\, Your Computer\, NJ\, 07860\, United States
CATEGORIES:Events
GEO:41.0572255;-74.8622721
X-APPLE-STRUCTURED-LOCATION;VALUE=URI;X-ADDRESS=Stillwater Town Hall Your Computer NJ 07860 United States;X-APPLE-RADIUS=500;X-TITLE=Your Computer:geo:-74.8622721,41.0572255
END:VEVENT
BEGIN:VEVENT
DTSTART;TZID=America/New_York:20260914T190000
DTEND;TZID=America/New_York:20260914T210000
DTSTAMP:20260422T015614
CREATED:20260106T145656Z
LAST-MODIFIED:20260106T145656Z
UID:10007760-1789412400-1789419600@stillwatertownshipnj.com
SUMMARY:Environmental Commission Meeting
DESCRIPTION:To join via Zoom: https://us02web.zoom.us/j/85976326681
URL:https://stillwatertownshipnj.com/event/environmental-commission-meeting-15/
LOCATION:Stillwater Town Hall\, Your Computer\, NJ\, 07860\, United States
CATEGORIES:Events
ATTACH;FMTTYPE=image/jpeg:https://stillwatertownshipnj.com/wp-content/uploads/2022/01/enviro-image.jpg
GEO:41.0572255;-74.8622721
X-APPLE-STRUCTURED-LOCATION;VALUE=URI;X-ADDRESS=Stillwater Town Hall Your Computer NJ 07860 United States;X-APPLE-RADIUS=500;X-TITLE=Your Computer:geo:-74.8622721,41.0572255
END:VEVENT
BEGIN:VEVENT
DTSTART;TZID=America/New_York:20260915T190000
DTEND;TZID=America/New_York:20260915T190000
DTSTAMP:20260422T015614
CREATED:20251217T171020Z
LAST-MODIFIED:20251217T171020Z
UID:10007717-1789498800-1789498800@stillwatertownshipnj.com
SUMMARY:Township Committee Meeting
DESCRIPTION:To attend the meeting via Zoom\, please click the link below: \nhttps://us02web.zoom.us/j/87830809012
URL:https://stillwatertownshipnj.com/event/township-committee-meeting-2/2026-09-15/
LOCATION:Stillwater Town Hall\, Your Computer\, NJ\, 07860\, United States
CATEGORIES:Events
ATTACH;FMTTYPE=image/jpeg:https://stillwatertownshipnj.com/wp-content/uploads/2024/01/3faa73dbc2eb74ebba3e5a6655bdb922.jpg
GEO:41.0572255;-74.8622721
X-APPLE-STRUCTURED-LOCATION;VALUE=URI;X-ADDRESS=Stillwater Town Hall Your Computer NJ 07860 United States;X-APPLE-RADIUS=500;X-TITLE=Your Computer:geo:-74.8622721,41.0572255
END:VEVENT
BEGIN:VEVENT
DTSTART;TZID=America/New_York:20260916T190000
DTEND;TZID=America/New_York:20260916T210000
DTSTAMP:20260422T015614
CREATED:20260116T165401Z
LAST-MODIFIED:20260116T165401Z
UID:10007777-1789585200-1789592400@stillwatertownshipnj.com
SUMMARY:Planning Board Regular Meeting
DESCRIPTION:
URL:https://stillwatertownshipnj.com/event/planning-board-regular-meeting-27/
LOCATION:Stillwater Town Hall\, Your Computer\, NJ\, 07860\, United States
CATEGORIES:Events
ATTACH;FMTTYPE=image/jpeg:https://stillwatertownshipnj.com/wp-content/uploads/2017/10/Swartswood-State-Park.jpg
GEO:41.0572255;-74.8622721
X-APPLE-STRUCTURED-LOCATION;VALUE=URI;X-ADDRESS=Stillwater Town Hall Your Computer NJ 07860 United States;X-APPLE-RADIUS=500;X-TITLE=Your Computer:geo:-74.8622721,41.0572255
END:VEVENT
BEGIN:VEVENT
DTSTART;TZID=America/New_York:20260928T190000
DTEND;TZID=America/New_York:20260928T210000
DTSTAMP:20260422T015614
CREATED:20260129T185613Z
LAST-MODIFIED:20260129T185613Z
UID:10007794-1790622000-1790629200@stillwatertownshipnj.com
SUMMARY:Zoning Board of Adjustment
DESCRIPTION:
URL:https://stillwatertownshipnj.com/event/zoning-board-of-adjustment-8/
LOCATION:Stillwater Town Hall\, Your Computer\, NJ\, 07860\, United States
CATEGORIES:Events
GEO:41.0572255;-74.8622721
X-APPLE-STRUCTURED-LOCATION;VALUE=URI;X-ADDRESS=Stillwater Town Hall Your Computer NJ 07860 United States;X-APPLE-RADIUS=500;X-TITLE=Your Computer:geo:-74.8622721,41.0572255
END:VEVENT
BEGIN:VEVENT
DTSTART;TZID=America/New_York:20261005T190000
DTEND;TZID=America/New_York:20261005T220000
DTSTAMP:20260422T015614
CREATED:20251230T153121Z
LAST-MODIFIED:20251230T153121Z
UID:10007747-1791226800-1791237600@stillwatertownshipnj.com
SUMMARY:Recreation Commission Meeting
DESCRIPTION:To attend the meeting via Zoom\, please click the below link: \nhttps://us02web.zoom.us/j/86731527694
URL:https://stillwatertownshipnj.com/event/recreation-commission-meeting-25/
LOCATION:Stillwater Town Hall\, Your Computer\, NJ\, 07860\, United States
CATEGORIES:Events
GEO:41.0572255;-74.8622721
X-APPLE-STRUCTURED-LOCATION;VALUE=URI;X-ADDRESS=Stillwater Town Hall Your Computer NJ 07860 United States;X-APPLE-RADIUS=500;X-TITLE=Your Computer:geo:-74.8622721,41.0572255
END:VEVENT
BEGIN:VEVENT
DTSTART;TZID=America/New_York:20261006T190000
DTEND;TZID=America/New_York:20261006T190000
DTSTAMP:20260422T015614
CREATED:20251217T171020Z
LAST-MODIFIED:20251217T171020Z
UID:10007718-1791313200-1791313200@stillwatertownshipnj.com
SUMMARY:Township Committee Meeting
DESCRIPTION:To attend the meeting via Zoom\, please click the link below: \nhttps://us02web.zoom.us/j/87830809012
URL:https://stillwatertownshipnj.com/event/township-committee-meeting-2/2026-10-06/
LOCATION:Stillwater Town Hall\, Your Computer\, NJ\, 07860\, United States
CATEGORIES:Events
ATTACH;FMTTYPE=image/jpeg:https://stillwatertownshipnj.com/wp-content/uploads/2024/01/3faa73dbc2eb74ebba3e5a6655bdb922.jpg
GEO:41.0572255;-74.8622721
X-APPLE-STRUCTURED-LOCATION;VALUE=URI;X-ADDRESS=Stillwater Town Hall Your Computer NJ 07860 United States;X-APPLE-RADIUS=500;X-TITLE=Your Computer:geo:-74.8622721,41.0572255
END:VEVENT
END:VCALENDAR