BEGIN:VCALENDAR
VERSION:2.0
PRODID:-//Stillwater Township - ECPv6.15.18//NONSGML v1.0//EN
CALSCALE:GREGORIAN
METHOD:PUBLISH
X-WR-CALNAME:Stillwater Township
X-ORIGINAL-URL:https://stillwatertownshipnj.com
X-WR-CALDESC:Events for Stillwater Township
REFRESH-INTERVAL;VALUE=DURATION:PT1H
X-Robots-Tag:noindex
X-PUBLISHED-TTL:PT1H
BEGIN:VTIMEZONE
TZID:America/New_York
BEGIN:DAYLIGHT
TZOFFSETFROM:-0500
TZOFFSETTO:-0400
TZNAME:EDT
DTSTART:20240310T070000
END:DAYLIGHT
BEGIN:STANDARD
TZOFFSETFROM:-0400
TZOFFSETTO:-0500
TZNAME:EST
DTSTART:20241103T060000
END:STANDARD
BEGIN:DAYLIGHT
TZOFFSETFROM:-0500
TZOFFSETTO:-0400
TZNAME:EDT
DTSTART:20250309T070000
END:DAYLIGHT
BEGIN:STANDARD
TZOFFSETFROM:-0400
TZOFFSETTO:-0500
TZNAME:EST
DTSTART:20251102T060000
END:STANDARD
BEGIN:DAYLIGHT
TZOFFSETFROM:-0500
TZOFFSETTO:-0400
TZNAME:EDT
DTSTART:20260308T070000
END:DAYLIGHT
BEGIN:STANDARD
TZOFFSETFROM:-0400
TZOFFSETTO:-0500
TZNAME:EST
DTSTART:20261101T060000
END:STANDARD
END:VTIMEZONE
BEGIN:VEVENT
DTSTART;TZID=America/New_York:20251027T190000
DTEND;TZID=America/New_York:20251027T210000
DTSTAMP:20260423T034410
CREATED:20250115T133528Z
LAST-MODIFIED:20250115T133528Z
UID:10006366-1761591600-1761598800@stillwatertownshipnj.com
SUMMARY:Zoning Board of Adjustment Regular Meeting
DESCRIPTION:
URL:https://stillwatertownshipnj.com/event/zoning-board-of-adjustment-regular-meeting-17/
LOCATION:Stillwater Town Hall\, Your Computer\, NJ\, 07860\, United States
CATEGORIES:Events
ATTACH;FMTTYPE=image/jpeg:https://stillwatertownshipnj.com/wp-content/uploads/2022/03/Swartswood-State-Park.jpg
GEO:41.0572255;-74.8622721
X-APPLE-STRUCTURED-LOCATION;VALUE=URI;X-ADDRESS=Stillwater Town Hall Your Computer NJ 07860 United States;X-APPLE-RADIUS=500;X-TITLE=Your Computer:geo:-74.8622721,41.0572255
END:VEVENT
BEGIN:VEVENT
DTSTART;TZID=America/New_York:20251022T190000
DTEND;TZID=America/New_York:20251022T210000
DTSTAMP:20260423T034410
CREATED:20241126T180844Z
LAST-MODIFIED:20241126T180844Z
UID:10005717-1761159600-1761166800@stillwatertownshipnj.com
SUMMARY:CERT Meeting
DESCRIPTION:
URL:https://stillwatertownshipnj.com/event/cert-meeting-2-3/2025-10-22/
LOCATION:Stillwater Town Hall\, Your Computer\, NJ\, 07860\, United States
CATEGORIES:Events
ATTACH;FMTTYPE=image/jpeg:https://stillwatertownshipnj.com/wp-content/uploads/2022/04/CERT.jpg
GEO:41.0572255;-74.8622721
X-APPLE-STRUCTURED-LOCATION;VALUE=URI;X-ADDRESS=Stillwater Town Hall Your Computer NJ 07860 United States;X-APPLE-RADIUS=500;X-TITLE=Your Computer:geo:-74.8622721,41.0572255
END:VEVENT
BEGIN:VEVENT
DTSTART;TZID=America/New_York:20251021T190000
DTEND;TZID=America/New_York:20251021T220000
DTSTAMP:20260423T034410
CREATED:20241204T163432Z
LAST-MODIFIED:20251017T175639Z
UID:10006243-1761073200-1761084000@stillwatertownshipnj.com
SUMMARY:Township Committee Meeting-Plymouth Lake
DESCRIPTION:To attend the meeting via Zoom\, please click the link below: \nhttps://us02web.zoom.us/j/87830809012 \nFor the meeting agenda & corresponding items\, please click here!
URL:https://stillwatertownshipnj.com/event/township-committee-meeting-32/
LOCATION:Stillwater Town Hall\, Your Computer\, NJ\, 07860\, United States
CATEGORIES:Events
ATTACH;FMTTYPE=image/jpeg:https://stillwatertownshipnj.com/wp-content/uploads/2024/01/3faa73dbc2eb74ebba3e5a6655bdb922.jpg
GEO:41.0572255;-74.8622721
X-APPLE-STRUCTURED-LOCATION;VALUE=URI;X-ADDRESS=Stillwater Town Hall Your Computer NJ 07860 United States;X-APPLE-RADIUS=500;X-TITLE=Your Computer:geo:-74.8622721,41.0572255
END:VEVENT
BEGIN:VEVENT
DTSTART;TZID=America/New_York:20251020T190000
DTEND;TZID=America/New_York:20251020T210000
DTSTAMP:20260423T034410
CREATED:20251017T174805Z
LAST-MODIFIED:20251017T174805Z
UID:10006297-1760986800-1760994000@stillwatertownshipnj.com
SUMMARY:Environmental Commission Meeting
DESCRIPTION:For the meeting agenda\, please click here!
URL:https://stillwatertownshipnj.com/event/environmental-commission-meeting-5-5-8/
LOCATION:Stillwater Town Hall\, Your Computer\, NJ\, 07860\, United States
CATEGORIES:Events
ATTACH;FMTTYPE=image/jpeg:https://stillwatertownshipnj.com/wp-content/uploads/2022/01/enviro-image.jpg
GEO:41.0572255;-74.8622721
X-APPLE-STRUCTURED-LOCATION;VALUE=URI;X-ADDRESS=Stillwater Town Hall Your Computer NJ 07860 United States;X-APPLE-RADIUS=500;X-TITLE=Your Computer:geo:-74.8622721,41.0572255
END:VEVENT
BEGIN:VEVENT
DTSTART;TZID=America/New_York:20251015T190000
DTEND;TZID=America/New_York:20251015T210000
DTSTAMP:20260423T034410
CREATED:20250115T134513Z
LAST-MODIFIED:20251007T154849Z
UID:10006378-1760554800-1760562000@stillwatertownshipnj.com
SUMMARY:Planning Board Regular Meeting ***CANCELED***
DESCRIPTION:
URL:https://stillwatertownshipnj.com/event/planning-board-regular-meeting-16/
LOCATION:Stillwater Town Hall\, Your Computer\, NJ\, 07860\, United States
CATEGORIES:Events
ATTACH;FMTTYPE=image/jpeg:https://stillwatertownshipnj.com/wp-content/uploads/2017/10/Swartswood-State-Park.jpg
GEO:41.0572255;-74.8622721
X-APPLE-STRUCTURED-LOCATION;VALUE=URI;X-ADDRESS=Stillwater Town Hall Your Computer NJ 07860 United States;X-APPLE-RADIUS=500;X-TITLE=Your Computer:geo:-74.8622721,41.0572255
END:VEVENT
BEGIN:VEVENT
DTSTART;VALUE=DATE:20251013
DTEND;VALUE=DATE:20251014
DTSTAMP:20260423T034410
CREATED:20241204T160428Z
LAST-MODIFIED:20241216T165158Z
UID:10006220-1760313600-1760399999@stillwatertownshipnj.com
SUMMARY:Municipal Office Closed - Columbus Day
DESCRIPTION:
URL:https://stillwatertownshipnj.com/event/municipal-office-closed-columbus-day-2/
LOCATION:Stillwater Town Hall\, Your Computer\, NJ\, 07860\, United States
CATEGORIES:Events
ATTACH;FMTTYPE=image/jpeg:https://stillwatertownshipnj.com/wp-content/uploads/2023/09/istockphoto-1220588179-612x612-1.jpg
GEO:41.0572255;-74.8622721
X-APPLE-STRUCTURED-LOCATION;VALUE=URI;X-ADDRESS=Stillwater Town Hall Your Computer NJ 07860 United States;X-APPLE-RADIUS=500;X-TITLE=Your Computer:geo:-74.8622721,41.0572255
END:VEVENT
BEGIN:VEVENT
DTSTART;TZID=America/New_York:20251007T190000
DTEND;TZID=America/New_York:20251007T220000
DTSTAMP:20260423T034410
CREATED:20241204T163125Z
LAST-MODIFIED:20251003T173347Z
UID:10006242-1759863600-1759874400@stillwatertownshipnj.com
SUMMARY:Township Committee Meeting
DESCRIPTION:To attend the meeting via Zoom\, please click the link below: \nhttps://us02web.zoom.us/j/87830809012 \nFor the meeting agenda & items\, please click here!
URL:https://stillwatertownshipnj.com/event/township-committee-meeting-31/
LOCATION:Stillwater Town Hall\, Your Computer\, NJ\, 07860\, United States
CATEGORIES:Events
ATTACH;FMTTYPE=image/jpeg:https://stillwatertownshipnj.com/wp-content/uploads/2024/01/3faa73dbc2eb74ebba3e5a6655bdb922.jpg
GEO:41.0572255;-74.8622721
X-APPLE-STRUCTURED-LOCATION;VALUE=URI;X-ADDRESS=Stillwater Town Hall Your Computer NJ 07860 United States;X-APPLE-RADIUS=500;X-TITLE=Your Computer:geo:-74.8622721,41.0572255
END:VEVENT
BEGIN:VEVENT
DTSTART;TZID=America/New_York:20251006T190000
DTEND;TZID=America/New_York:20251006T220000
DTSTAMP:20260423T034410
CREATED:20241231T133441Z
LAST-MODIFIED:20250613T173646Z
UID:10006278-1759777200-1759788000@stillwatertownshipnj.com
SUMMARY:Recreation Commission Meeting
DESCRIPTION:To attend the meeting via Zoom\, please click the below link: \nhttps://us02web.zoom.us/j/86731527694
URL:https://stillwatertownshipnj.com/event/recreation-commission-meeting-11/2025-10-06/
LOCATION:Stillwater Town Hall\, Your Computer\, NJ\, 07860\, United States
CATEGORIES:Events
ATTACH;FMTTYPE=image/jpeg:https://stillwatertownshipnj.com/wp-content/uploads/2024/08/Veterans-Park-Bridge-Sign.jpeg
GEO:41.0572255;-74.8622721
X-APPLE-STRUCTURED-LOCATION;VALUE=URI;X-ADDRESS=Stillwater Town Hall Your Computer NJ 07860 United States;X-APPLE-RADIUS=500;X-TITLE=Your Computer:geo:-74.8622721,41.0572255
END:VEVENT
BEGIN:VEVENT
DTSTART;TZID=America/New_York:20251004T090000
DTEND;TZID=America/New_York:20251004T120000
DTSTAMP:20260423T034410
CREATED:20250903T141611Z
LAST-MODIFIED:20250903T141611Z
UID:10007650-1759568400-1759579200@stillwatertownshipnj.com
SUMMARY:Free Fall Paper Shredding Event!
DESCRIPTION:
URL:https://stillwatertownshipnj.com/event/free-fall-paper-shredding-event/
LOCATION:Stillwater Town Hall\, Your Computer\, NJ\, 07860\, United States
CATEGORIES:Events
ATTACH;FMTTYPE=image/jpeg:https://stillwatertownshipnj.com/wp-content/uploads/2024/03/paper-shred.jpg
GEO:41.0572255;-74.8622721
X-APPLE-STRUCTURED-LOCATION;VALUE=URI;X-ADDRESS=Stillwater Town Hall Your Computer NJ 07860 United States;X-APPLE-RADIUS=500;X-TITLE=Your Computer:geo:-74.8622721,41.0572255
END:VEVENT
BEGIN:VEVENT
DTSTART;VALUE=DATE:20251003
DTEND;VALUE=DATE:20251004
DTSTAMP:20260423T034410
CREATED:20250917T132338Z
LAST-MODIFIED:20250929T150815Z
UID:10007661-1759449600-1759535999@stillwatertownshipnj.com
SUMMARY:Municipal Office Closed - In Service/Purge Day
DESCRIPTION:The Stillwater Township Municipal Office will be closed for an in-service purging day. Please leave any items in the drop box located by the front door and we will collect them before leaving.
URL:https://stillwatertownshipnj.com/event/municipal-office-closed-in-service-purge-day-3/
LOCATION:Stillwater Town Hall\, Your Computer\, NJ\, 07860\, United States
CATEGORIES:Events
ATTACH;FMTTYPE=image/jpeg:https://stillwatertownshipnj.com/wp-content/uploads/2023/09/istockphoto-1220588179-612x612-1.jpg
GEO:41.0572255;-74.8622721
X-APPLE-STRUCTURED-LOCATION;VALUE=URI;X-ADDRESS=Stillwater Town Hall Your Computer NJ 07860 United States;X-APPLE-RADIUS=500;X-TITLE=Your Computer:geo:-74.8622721,41.0572255
END:VEVENT
BEGIN:VEVENT
DTSTART;TZID=America/New_York:20250924T190000
DTEND;TZID=America/New_York:20250924T210000
DTSTAMP:20260423T034410
CREATED:20250923T114943Z
LAST-MODIFIED:20250923T114944Z
UID:10005716-1758740400-1758747600@stillwatertownshipnj.com
SUMMARY:CERT Meeting
DESCRIPTION:For the meeting Agenda\, please click here!
URL:https://stillwatertownshipnj.com/event/cert-meeting-2-3-4/
LOCATION:Stillwater Town Hall\, Your Computer\, NJ\, 07860\, United States
CATEGORIES:Events
ATTACH;FMTTYPE=image/jpeg:https://stillwatertownshipnj.com/wp-content/uploads/2022/04/CERT.jpg
GEO:41.0572255;-74.8622721
X-APPLE-STRUCTURED-LOCATION;VALUE=URI;X-ADDRESS=Stillwater Town Hall Your Computer NJ 07860 United States;X-APPLE-RADIUS=500;X-TITLE=Your Computer:geo:-74.8622721,41.0572255
END:VEVENT
BEGIN:VEVENT
DTSTART;TZID=America/New_York:20250922T190000
DTEND;TZID=America/New_York:20250922T210000
DTSTAMP:20260423T034410
CREATED:20250115T133457Z
LAST-MODIFIED:20250115T133457Z
UID:10006365-1758567600-1758574800@stillwatertownshipnj.com
SUMMARY:Zoning Board of Adjustment Regular Meeting
DESCRIPTION:
URL:https://stillwatertownshipnj.com/event/zoning-board-of-adjustment-regular-meeting-16/
LOCATION:Stillwater Town Hall\, Your Computer\, NJ\, 07860\, United States
CATEGORIES:Events
ATTACH;FMTTYPE=image/jpeg:https://stillwatertownshipnj.com/wp-content/uploads/2022/03/Swartswood-State-Park.jpg
GEO:41.0572255;-74.8622721
X-APPLE-STRUCTURED-LOCATION;VALUE=URI;X-ADDRESS=Stillwater Town Hall Your Computer NJ 07860 United States;X-APPLE-RADIUS=500;X-TITLE=Your Computer:geo:-74.8622721,41.0572255
END:VEVENT
BEGIN:VEVENT
DTSTART;TZID=America/New_York:20250917T190000
DTEND;TZID=America/New_York:20250917T210000
DTSTAMP:20260423T034410
CREATED:20250115T134439Z
LAST-MODIFIED:20250115T134439Z
UID:10006377-1758135600-1758142800@stillwatertownshipnj.com
SUMMARY:Planning Board Regular Meeting
DESCRIPTION:
URL:https://stillwatertownshipnj.com/event/planning-board-regular-meeting-15/
LOCATION:Stillwater Town Hall\, Your Computer\, NJ\, 07860\, United States
CATEGORIES:Events
ATTACH;FMTTYPE=image/jpeg:https://stillwatertownshipnj.com/wp-content/uploads/2017/10/Swartswood-State-Park.jpg
GEO:41.0572255;-74.8622721
X-APPLE-STRUCTURED-LOCATION;VALUE=URI;X-ADDRESS=Stillwater Town Hall Your Computer NJ 07860 United States;X-APPLE-RADIUS=500;X-TITLE=Your Computer:geo:-74.8622721,41.0572255
END:VEVENT
BEGIN:VEVENT
DTSTART;TZID=America/New_York:20250916T190000
DTEND;TZID=America/New_York:20250916T220000
DTSTAMP:20260423T034410
CREATED:20241204T162930Z
LAST-MODIFIED:20241204T162930Z
UID:10006241-1758049200-1758060000@stillwatertownshipnj.com
SUMMARY:Township Committee Meeting
DESCRIPTION:To attend the meeting via Zoom\, please click the link below: \nhttps://us02web.zoom.us/j/87830809012
URL:https://stillwatertownshipnj.com/event/township-committee-meeting-30/
LOCATION:Stillwater Town Hall\, Your Computer\, NJ\, 07860\, United States
CATEGORIES:Events
ATTACH;FMTTYPE=image/jpeg:https://stillwatertownshipnj.com/wp-content/uploads/2024/01/3faa73dbc2eb74ebba3e5a6655bdb922.jpg
GEO:41.0572255;-74.8622721
X-APPLE-STRUCTURED-LOCATION;VALUE=URI;X-ADDRESS=Stillwater Town Hall Your Computer NJ 07860 United States;X-APPLE-RADIUS=500;X-TITLE=Your Computer:geo:-74.8622721,41.0572255
END:VEVENT
BEGIN:VEVENT
DTSTART;TZID=America/New_York:20250908T190000
DTEND;TZID=America/New_York:20250908T220000
DTSTAMP:20260423T034410
CREATED:20241231T133831Z
LAST-MODIFIED:20250902T142313Z
UID:10006283-1757358000-1757368800@stillwatertownshipnj.com
SUMMARY:Recreation Commission Meeting
DESCRIPTION:  \nTo attend the meeting via Zoom\, please click the below link: \nhttps://us02web.zoom.us/j/86731527694
URL:https://stillwatertownshipnj.com/event/recreation-commission-meeting-16/
LOCATION:Stillwater Town Hall\, Your Computer\, NJ\, 07860\, United States
CATEGORIES:Events
ATTACH;FMTTYPE=image/jpeg:https://stillwatertownshipnj.com/wp-content/uploads/2024/08/Veterans-Park-Bridge-Sign.jpeg
GEO:41.0572255;-74.8622721
X-APPLE-STRUCTURED-LOCATION;VALUE=URI;X-ADDRESS=Stillwater Town Hall Your Computer NJ 07860 United States;X-APPLE-RADIUS=500;X-TITLE=Your Computer:geo:-74.8622721,41.0572255
END:VEVENT
BEGIN:VEVENT
DTSTART;TZID=America/New_York:20250908T190000
DTEND;TZID=America/New_York:20250908T210000
DTSTAMP:20260423T034410
CREATED:20250902T142423Z
LAST-MODIFIED:20250908T172248Z
UID:10006296-1757358000-1757365200@stillwatertownshipnj.com
SUMMARY:Environmental Commission Meeting-OEM Office
DESCRIPTION:For the meeting agenda\, please click here! \n**This meeting will be held in the OEM Office around the back of the Municipal Building**
URL:https://stillwatertownshipnj.com/event/environmental-commission-meeting-5-5-7/
LOCATION:Stillwater Town Hall\, Your Computer\, NJ\, 07860\, United States
CATEGORIES:Events
ATTACH;FMTTYPE=image/jpeg:https://stillwatertownshipnj.com/wp-content/uploads/2022/01/enviro-image.jpg
GEO:41.0572255;-74.8622721
X-APPLE-STRUCTURED-LOCATION;VALUE=URI;X-ADDRESS=Stillwater Town Hall Your Computer NJ 07860 United States;X-APPLE-RADIUS=500;X-TITLE=Your Computer:geo:-74.8622721,41.0572255
END:VEVENT
BEGIN:VEVENT
DTSTART;TZID=America/New_York:20250902T190000
DTEND;TZID=America/New_York:20250902T220000
DTSTAMP:20260423T034410
CREATED:20241204T162838Z
LAST-MODIFIED:20250829T195515Z
UID:10006240-1756839600-1756850400@stillwatertownshipnj.com
SUMMARY:Township Committee Meeting
DESCRIPTION:To attend the meeting via Zoom\, please click the link below: \nhttps://us02web.zoom.us/j/87830809012 \nFor the meeting Agenda & Corresponding Items\, please click here!
URL:https://stillwatertownshipnj.com/event/township-committee-meeting-29/
LOCATION:Stillwater Town Hall\, Your Computer\, NJ\, 07860\, United States
CATEGORIES:Events
ATTACH;FMTTYPE=image/jpeg:https://stillwatertownshipnj.com/wp-content/uploads/2024/01/3faa73dbc2eb74ebba3e5a6655bdb922.jpg
GEO:41.0572255;-74.8622721
X-APPLE-STRUCTURED-LOCATION;VALUE=URI;X-ADDRESS=Stillwater Town Hall Your Computer NJ 07860 United States;X-APPLE-RADIUS=500;X-TITLE=Your Computer:geo:-74.8622721,41.0572255
END:VEVENT
BEGIN:VEVENT
DTSTART;VALUE=DATE:20250901
DTEND;VALUE=DATE:20250902
DTSTAMP:20260423T034410
CREATED:20241204T160339Z
LAST-MODIFIED:20241204T160339Z
UID:10006219-1756684800-1756771199@stillwatertownshipnj.com
SUMMARY:Municipal Office Closed - Labor Day
DESCRIPTION:
URL:https://stillwatertownshipnj.com/event/municipal-office-closed-labor-day-2/
LOCATION:Stillwater Town Hall\, Your Computer\, NJ\, 07860\, United States
CATEGORIES:Events
ATTACH;FMTTYPE=image/jpeg:https://stillwatertownshipnj.com/wp-content/uploads/2023/09/istockphoto-1220588179-612x612-1.jpg
GEO:41.0572255;-74.8622721
X-APPLE-STRUCTURED-LOCATION;VALUE=URI;X-ADDRESS=Stillwater Town Hall Your Computer NJ 07860 United States;X-APPLE-RADIUS=500;X-TITLE=Your Computer:geo:-74.8622721,41.0572255
END:VEVENT
BEGIN:VEVENT
DTSTART;TZID=America/New_York:20250827T190000
DTEND;TZID=America/New_York:20250827T210000
DTSTAMP:20260423T034410
CREATED:20241126T180844Z
LAST-MODIFIED:20241126T180844Z
UID:10005715-1756321200-1756328400@stillwatertownshipnj.com
SUMMARY:CERT Meeting
DESCRIPTION:
URL:https://stillwatertownshipnj.com/event/cert-meeting-2-3/2025-08-27/
LOCATION:Stillwater Town Hall\, Your Computer\, NJ\, 07860\, United States
CATEGORIES:Events
ATTACH;FMTTYPE=image/jpeg:https://stillwatertownshipnj.com/wp-content/uploads/2022/04/CERT.jpg
GEO:41.0572255;-74.8622721
X-APPLE-STRUCTURED-LOCATION;VALUE=URI;X-ADDRESS=Stillwater Town Hall Your Computer NJ 07860 United States;X-APPLE-RADIUS=500;X-TITLE=Your Computer:geo:-74.8622721,41.0572255
END:VEVENT
BEGIN:VEVENT
DTSTART;TZID=America/New_York:20250825T190000
DTEND;TZID=America/New_York:20250825T210000
DTSTAMP:20260423T034410
CREATED:20250115T133411Z
LAST-MODIFIED:20250115T133411Z
UID:10006364-1756148400-1756155600@stillwatertownshipnj.com
SUMMARY:Zoning Board of Adjustment Regular Meeting
DESCRIPTION:
URL:https://stillwatertownshipnj.com/event/zoning-board-of-adjustment-regular-meeting-15/
LOCATION:Stillwater Town Hall\, Your Computer\, NJ\, 07860\, United States
CATEGORIES:Events
ATTACH;FMTTYPE=image/jpeg:https://stillwatertownshipnj.com/wp-content/uploads/2022/03/Swartswood-State-Park.jpg
GEO:41.0572255;-74.8622721
X-APPLE-STRUCTURED-LOCATION;VALUE=URI;X-ADDRESS=Stillwater Town Hall Your Computer NJ 07860 United States;X-APPLE-RADIUS=500;X-TITLE=Your Computer:geo:-74.8622721,41.0572255
END:VEVENT
BEGIN:VEVENT
DTSTART;TZID=America/New_York:20250820T190000
DTEND;TZID=America/New_York:20250820T210000
DTSTAMP:20260423T034410
CREATED:20250115T134404Z
LAST-MODIFIED:20250115T134404Z
UID:10006376-1755716400-1755723600@stillwatertownshipnj.com
SUMMARY:Planning Board Regular Meeting
DESCRIPTION:
URL:https://stillwatertownshipnj.com/event/planning-board-regular-meeting-14/
LOCATION:Stillwater Town Hall\, Your Computer\, NJ\, 07860\, United States
CATEGORIES:Events
ATTACH;FMTTYPE=image/jpeg:https://stillwatertownshipnj.com/wp-content/uploads/2017/10/Swartswood-State-Park.jpg
GEO:41.0572255;-74.8622721
X-APPLE-STRUCTURED-LOCATION;VALUE=URI;X-ADDRESS=Stillwater Town Hall Your Computer NJ 07860 United States;X-APPLE-RADIUS=500;X-TITLE=Your Computer:geo:-74.8622721,41.0572255
END:VEVENT
BEGIN:VEVENT
DTSTART;TZID=America/New_York:20250819T190000
DTEND;TZID=America/New_York:20250819T220000
DTSTAMP:20260423T034410
CREATED:20241204T162722Z
LAST-MODIFIED:20250815T185006Z
UID:10006239-1755630000-1755640800@stillwatertownshipnj.com
SUMMARY:Township Committee Meeting
DESCRIPTION:To attend the meeting via Zoom\, please click the link below: \nhttps://us02web.zoom.us/j/87830809012 \nFor the meeting agenda & corresponding items\, please click here!
URL:https://stillwatertownshipnj.com/event/township-committee-meeting-28/
LOCATION:Stillwater Town Hall\, Your Computer\, NJ\, 07860\, United States
CATEGORIES:Events
ATTACH;FMTTYPE=image/jpeg:https://stillwatertownshipnj.com/wp-content/uploads/2024/01/3faa73dbc2eb74ebba3e5a6655bdb922.jpg
GEO:41.0572255;-74.8622721
X-APPLE-STRUCTURED-LOCATION;VALUE=URI;X-ADDRESS=Stillwater Town Hall Your Computer NJ 07860 United States;X-APPLE-RADIUS=500;X-TITLE=Your Computer:geo:-74.8622721,41.0572255
END:VEVENT
BEGIN:VEVENT
DTSTART;TZID=America/New_York:20250819T183000
DTEND;TZID=America/New_York:20250819T190000
DTSTAMP:20260423T034410
CREATED:20250814T190125Z
LAST-MODIFIED:20250815T184903Z
UID:10007646-1755628200-1755630000@stillwatertownshipnj.com
SUMMARY:Board of Health Meeting
DESCRIPTION:Zoom Link: https://us02web.zoom.us/j/87830809012 \nFor the meeting agenda\, please click here!
URL:https://stillwatertownshipnj.com/event/board-of-health-meeting-2/
LOCATION:Stillwater Town Hall\, Your Computer\, NJ\, 07860\, United States
CATEGORIES:Events
ATTACH;FMTTYPE=image/jpeg:https://stillwatertownshipnj.com/wp-content/uploads/2024/01/3faa73dbc2eb74ebba3e5a6655bdb922.jpg
GEO:41.0572255;-74.8622721
X-APPLE-STRUCTURED-LOCATION;VALUE=URI;X-ADDRESS=Stillwater Town Hall Your Computer NJ 07860 United States;X-APPLE-RADIUS=500;X-TITLE=Your Computer:geo:-74.8622721,41.0572255
END:VEVENT
BEGIN:VEVENT
DTSTART;TZID=America/New_York:20250811T190000
DTEND;TZID=America/New_York:20250811T210000
DTSTAMP:20260423T034410
CREATED:20250807T124753Z
LAST-MODIFIED:20250807T125353Z
UID:10006295-1754938800-1754946000@stillwatertownshipnj.com
SUMMARY:Environmental Commission Meeting
DESCRIPTION:For the meeting agenda\, please click here!
URL:https://stillwatertownshipnj.com/event/environmental-commission-meeting-5-5-6/
LOCATION:Stillwater Town Hall\, Your Computer\, NJ\, 07860\, United States
CATEGORIES:Events
ATTACH;FMTTYPE=image/jpeg:https://stillwatertownshipnj.com/wp-content/uploads/2022/01/enviro-image.jpg
GEO:41.0572255;-74.8622721
X-APPLE-STRUCTURED-LOCATION;VALUE=URI;X-ADDRESS=Stillwater Town Hall Your Computer NJ 07860 United States;X-APPLE-RADIUS=500;X-TITLE=Your Computer:geo:-74.8622721,41.0572255
END:VEVENT
BEGIN:VEVENT
DTSTART;TZID=America/New_York:20250804T190000
DTEND;TZID=America/New_York:20250804T220000
DTSTAMP:20260423T034410
CREATED:20241231T133441Z
LAST-MODIFIED:20250613T173646Z
UID:10006277-1754334000-1754344800@stillwatertownshipnj.com
SUMMARY:Recreation Commission Meeting
DESCRIPTION:To attend the meeting via Zoom\, please click the below link: \nhttps://us02web.zoom.us/j/86731527694
URL:https://stillwatertownshipnj.com/event/recreation-commission-meeting-11/2025-08-04/
LOCATION:Stillwater Town Hall\, Your Computer\, NJ\, 07860\, United States
CATEGORIES:Events
ATTACH;FMTTYPE=image/jpeg:https://stillwatertownshipnj.com/wp-content/uploads/2024/08/Veterans-Park-Bridge-Sign.jpeg
GEO:41.0572255;-74.8622721
X-APPLE-STRUCTURED-LOCATION;VALUE=URI;X-ADDRESS=Stillwater Town Hall Your Computer NJ 07860 United States;X-APPLE-RADIUS=500;X-TITLE=Your Computer:geo:-74.8622721,41.0572255
END:VEVENT
BEGIN:VEVENT
DTSTART;TZID=America/New_York:20250728T190000
DTEND;TZID=America/New_York:20250728T210000
DTSTAMP:20260423T034410
CREATED:20250115T133335Z
LAST-MODIFIED:20250728T134431Z
UID:10006363-1753729200-1753736400@stillwatertownshipnj.com
SUMMARY:*Cancelled*Zoning Board of Adjustment Regular Meeting
DESCRIPTION:***CANCELLED*** All business will be moved to the August 25\, 2025 Meeting.
URL:https://stillwatertownshipnj.com/event/zoning-board-of-adjustment-regular-meeting-14/
LOCATION:Stillwater Town Hall\, Your Computer\, NJ\, 07860\, United States
CATEGORIES:Events
ATTACH;FMTTYPE=image/jpeg:https://stillwatertownshipnj.com/wp-content/uploads/2022/03/Swartswood-State-Park.jpg
GEO:41.0572255;-74.8622721
X-APPLE-STRUCTURED-LOCATION;VALUE=URI;X-ADDRESS=Stillwater Town Hall Your Computer NJ 07860 United States;X-APPLE-RADIUS=500;X-TITLE=Your Computer:geo:-74.8622721,41.0572255
END:VEVENT
BEGIN:VEVENT
DTSTART;TZID=America/New_York:20250723T190000
DTEND;TZID=America/New_York:20250723T210000
DTSTAMP:20260423T034410
CREATED:20250718T171840Z
LAST-MODIFIED:20250718T171840Z
UID:10005714-1753297200-1753304400@stillwatertownshipnj.com
SUMMARY:CERT Meeting
DESCRIPTION:For the July 23\, 2025 Meeting Agenda\, please click here!
URL:https://stillwatertownshipnj.com/event/cert-meeting-2-3-3/
LOCATION:Stillwater Town Hall\, Your Computer\, NJ\, 07860\, United States
CATEGORIES:Events
ATTACH;FMTTYPE=image/jpeg:https://stillwatertownshipnj.com/wp-content/uploads/2022/04/CERT.jpg
GEO:41.0572255;-74.8622721
X-APPLE-STRUCTURED-LOCATION;VALUE=URI;X-ADDRESS=Stillwater Town Hall Your Computer NJ 07860 United States;X-APPLE-RADIUS=500;X-TITLE=Your Computer:geo:-74.8622721,41.0572255
END:VEVENT
BEGIN:VEVENT
DTSTART;TZID=America/New_York:20250716T190000
DTEND;TZID=America/New_York:20250716T210000
DTSTAMP:20260423T034410
CREATED:20250115T134338Z
LAST-MODIFIED:20250115T134338Z
UID:10006375-1752692400-1752699600@stillwatertownshipnj.com
SUMMARY:Planning Board Regular Meeting
DESCRIPTION:
URL:https://stillwatertownshipnj.com/event/planning-board-regular-meeting-13/
LOCATION:Stillwater Town Hall\, Your Computer\, NJ\, 07860\, United States
CATEGORIES:Events
ATTACH;FMTTYPE=image/jpeg:https://stillwatertownshipnj.com/wp-content/uploads/2017/10/Swartswood-State-Park.jpg
GEO:41.0572255;-74.8622721
X-APPLE-STRUCTURED-LOCATION;VALUE=URI;X-ADDRESS=Stillwater Town Hall Your Computer NJ 07860 United States;X-APPLE-RADIUS=500;X-TITLE=Your Computer:geo:-74.8622721,41.0572255
END:VEVENT
BEGIN:VEVENT
DTSTART;TZID=America/New_York:20250715T190000
DTEND;TZID=America/New_York:20250715T220000
DTSTAMP:20260423T034410
CREATED:20241204T162632Z
LAST-MODIFIED:20250715T194650Z
UID:10006238-1752606000-1752616800@stillwatertownshipnj.com
SUMMARY:Township Committee Meeting
DESCRIPTION:To attend the meeting via Zoom\, please click the link below: \nhttps://us02web.zoom.us/j/87830809012 \nFor the meeting agenda & corresponding items\, please click here!
URL:https://stillwatertownshipnj.com/event/township-committee-meeting-27/
LOCATION:Stillwater Town Hall\, Your Computer\, NJ\, 07860\, United States
CATEGORIES:Events
ATTACH;FMTTYPE=image/jpeg:https://stillwatertownshipnj.com/wp-content/uploads/2024/01/3faa73dbc2eb74ebba3e5a6655bdb922.jpg
GEO:41.0572255;-74.8622721
X-APPLE-STRUCTURED-LOCATION;VALUE=URI;X-ADDRESS=Stillwater Town Hall Your Computer NJ 07860 United States;X-APPLE-RADIUS=500;X-TITLE=Your Computer:geo:-74.8622721,41.0572255
END:VEVENT
BEGIN:VEVENT
DTSTART;TZID=America/New_York:20250714T190000
DTEND;TZID=America/New_York:20250714T210000
DTSTAMP:20260423T034410
CREATED:20241206T135422Z
LAST-MODIFIED:20250107T175218Z
UID:10006294-1752519600-1752526800@stillwatertownshipnj.com
SUMMARY:Environmental Commission Meeting
DESCRIPTION:For the meeting agenda\, please click here!
URL:https://stillwatertownshipnj.com/event/environmental-commission-meeting-5-5/2025-07-14/
LOCATION:Stillwater Town Hall\, Your Computer\, NJ\, 07860\, United States
CATEGORIES:Events
ATTACH;FMTTYPE=image/jpeg:https://stillwatertownshipnj.com/wp-content/uploads/2022/01/enviro-image.jpg
GEO:41.0572255;-74.8622721
X-APPLE-STRUCTURED-LOCATION;VALUE=URI;X-ADDRESS=Stillwater Town Hall Your Computer NJ 07860 United States;X-APPLE-RADIUS=500;X-TITLE=Your Computer:geo:-74.8622721,41.0572255
END:VEVENT
END:VCALENDAR