BEGIN:VCALENDAR
VERSION:2.0
PRODID:-//Stillwater Township - ECPv6.15.18//NONSGML v1.0//EN
CALSCALE:GREGORIAN
METHOD:PUBLISH
X-WR-CALNAME:Stillwater Township
X-ORIGINAL-URL:https://stillwatertownshipnj.com
X-WR-CALDESC:Events for Stillwater Township
REFRESH-INTERVAL;VALUE=DURATION:PT1H
X-Robots-Tag:noindex
X-PUBLISHED-TTL:PT1H
BEGIN:VTIMEZONE
TZID:America/New_York
BEGIN:DAYLIGHT
TZOFFSETFROM:-0500
TZOFFSETTO:-0400
TZNAME:EDT
DTSTART:20240310T070000
END:DAYLIGHT
BEGIN:STANDARD
TZOFFSETFROM:-0400
TZOFFSETTO:-0500
TZNAME:EST
DTSTART:20241103T060000
END:STANDARD
BEGIN:DAYLIGHT
TZOFFSETFROM:-0500
TZOFFSETTO:-0400
TZNAME:EDT
DTSTART:20250309T070000
END:DAYLIGHT
BEGIN:STANDARD
TZOFFSETFROM:-0400
TZOFFSETTO:-0500
TZNAME:EST
DTSTART:20251102T060000
END:STANDARD
BEGIN:DAYLIGHT
TZOFFSETFROM:-0500
TZOFFSETTO:-0400
TZNAME:EDT
DTSTART:20260308T070000
END:DAYLIGHT
BEGIN:STANDARD
TZOFFSETFROM:-0400
TZOFFSETTO:-0500
TZNAME:EST
DTSTART:20261101T060000
END:STANDARD
END:VTIMEZONE
BEGIN:VEVENT
DTSTART;VALUE=DATE:20251225
DTEND;VALUE=DATE:20251226
DTSTAMP:20260422T182623
CREATED:20241204T160816Z
LAST-MODIFIED:20241204T160816Z
UID:10006225-1766620800-1766707199@stillwatertownshipnj.com
SUMMARY:Municipal Office Closed - Christmas Day
DESCRIPTION:
URL:https://stillwatertownshipnj.com/event/municipal-office-closed-christmas-day-2/
LOCATION:Stillwater Town Hall\, Your Computer\, NJ\, 07860\, United States
CATEGORIES:Events
ATTACH;FMTTYPE=image/jpeg:https://stillwatertownshipnj.com/wp-content/uploads/2023/09/istockphoto-1220588179-612x612-1.jpg
GEO:41.0572255;-74.8622721
X-APPLE-STRUCTURED-LOCATION;VALUE=URI;X-ADDRESS=Stillwater Town Hall Your Computer NJ 07860 United States;X-APPLE-RADIUS=500;X-TITLE=Your Computer:geo:-74.8622721,41.0572255
END:VEVENT
BEGIN:VEVENT
DTSTART;TZID=America/New_York:20251223T180000
DTEND;TZID=America/New_York:20251223T180000
DTSTAMP:20260422T182623
CREATED:20251223T174424Z
LAST-MODIFIED:20251223T194951Z
UID:10007739-1766512800-1766512800@stillwatertownshipnj.com
SUMMARY:Special Meeting- Township Committee
DESCRIPTION:NOTICE IS HEREBY GIVEN that the Stillwater Township Committee has scheduled a special meeting for Tuesday\, December 30th\, 2025\, at 6:00 p.m. at the Municipal Building\, 964 Stillwater Road\, Stillwater\, New Jersey\, Sussex County\, and via Zoom. This meeting will be to adopt lien redemption resolutions and an executive session on personnel matters. To attend the meeting via Zoom\, enter: https://us02web.zoom.us/j/8783080901 \nFor the meeting agenda & corresponding items\, please click here!
URL:https://stillwatertownshipnj.com/event/special-meeting-township-committee/
LOCATION:Stillwater Town Hall\, Your Computer\, NJ\, 07860\, United States
CATEGORIES:Events
ATTACH;FMTTYPE=image/jpeg:https://stillwatertownshipnj.com/wp-content/uploads/2024/01/3faa73dbc2eb74ebba3e5a6655bdb922.jpg
GEO:41.0572255;-74.8622721
X-APPLE-STRUCTURED-LOCATION;VALUE=URI;X-ADDRESS=Stillwater Town Hall Your Computer NJ 07860 United States;X-APPLE-RADIUS=500;X-TITLE=Your Computer:geo:-74.8622721,41.0572255
END:VEVENT
BEGIN:VEVENT
DTSTART;TZID=America/New_York:20251219T080000
DTEND;TZID=America/New_York:20251219T120000
DTSTAMP:20260422T182623
CREATED:20251114T163728Z
LAST-MODIFIED:20251114T163728Z
UID:10007677-1766131200-1766145600@stillwatertownshipnj.com
SUMMARY:Municipal Office Closing at 12 p.m.
DESCRIPTION:The Township Municipal Office will be closing at 12 p.m. for the staff holiday lunch. Please leave any items in the locked drop box and we will collect on Monday.
URL:https://stillwatertownshipnj.com/event/municipal-office-closing-at-12-p-m/
LOCATION:Stillwater Town Hall\, Your Computer\, NJ\, 07860\, United States
CATEGORIES:Events
ATTACH;FMTTYPE=image/jpeg:https://stillwatertownshipnj.com/wp-content/uploads/2024/10/Closing-early.jpg
GEO:41.0572255;-74.8622721
X-APPLE-STRUCTURED-LOCATION;VALUE=URI;X-ADDRESS=Stillwater Town Hall Your Computer NJ 07860 United States;X-APPLE-RADIUS=500;X-TITLE=Your Computer:geo:-74.8622721,41.0572255
END:VEVENT
BEGIN:VEVENT
DTSTART;TZID=America/New_York:20251217T190000
DTEND;TZID=America/New_York:20251217T210000
DTSTAMP:20260422T182623
CREATED:20250115T134618Z
LAST-MODIFIED:20251217T205752Z
UID:10006380-1765998000-1766005200@stillwatertownshipnj.com
SUMMARY:**Cancelled**Planning Board Regular Meeting
DESCRIPTION:We apologize\, but the Planning Board meeting tonight has been cancelled. All business will be moved to the January 2026 meeting.
URL:https://stillwatertownshipnj.com/event/planning-board-regular-meeting-18/
LOCATION:Stillwater Town Hall\, Your Computer\, NJ\, 07860\, United States
CATEGORIES:Events
ATTACH;FMTTYPE=image/jpeg:https://stillwatertownshipnj.com/wp-content/uploads/2017/10/Swartswood-State-Park.jpg
GEO:41.0572255;-74.8622721
X-APPLE-STRUCTURED-LOCATION;VALUE=URI;X-ADDRESS=Stillwater Town Hall Your Computer NJ 07860 United States;X-APPLE-RADIUS=500;X-TITLE=Your Computer:geo:-74.8622721,41.0572255
END:VEVENT
BEGIN:VEVENT
DTSTART;TZID=America/New_York:20251216T190000
DTEND;TZID=America/New_York:20251216T220000
DTSTAMP:20260422T182623
CREATED:20241204T163642Z
LAST-MODIFIED:20251212T210026Z
UID:10006246-1765911600-1765922400@stillwatertownshipnj.com
SUMMARY:Township Committee Meeting
DESCRIPTION:To attend the meeting via Zoom\, please click the link below: \nhttps://us02web.zoom.us/j/87830809012 \nFor the meeting agenda & corresponding items\, please click here!
URL:https://stillwatertownshipnj.com/event/township-committee-meeting-35/
LOCATION:Stillwater Town Hall\, Your Computer\, NJ\, 07860\, United States
CATEGORIES:Events
ATTACH;FMTTYPE=image/jpeg:https://stillwatertownshipnj.com/wp-content/uploads/2024/01/3faa73dbc2eb74ebba3e5a6655bdb922.jpg
GEO:41.0572255;-74.8622721
X-APPLE-STRUCTURED-LOCATION;VALUE=URI;X-ADDRESS=Stillwater Town Hall Your Computer NJ 07860 United States;X-APPLE-RADIUS=500;X-TITLE=Your Computer:geo:-74.8622721,41.0572255
END:VEVENT
BEGIN:VEVENT
DTSTART;TZID=America/New_York:20251215T190000
DTEND;TZID=America/New_York:20251215T210000
DTSTAMP:20260422T182623
CREATED:20250115T133718Z
LAST-MODIFIED:20250115T133718Z
UID:10006368-1765825200-1765832400@stillwatertownshipnj.com
SUMMARY:Zoning Board of Adjustment Regular Meeting
DESCRIPTION:
URL:https://stillwatertownshipnj.com/event/zoning-board-of-adjustment-regular-meeting-19/
LOCATION:Stillwater Town Hall\, Your Computer\, NJ\, 07860\, United States
CATEGORIES:Events
ATTACH;FMTTYPE=image/jpeg:https://stillwatertownshipnj.com/wp-content/uploads/2022/03/Swartswood-State-Park.jpg
GEO:41.0572255;-74.8622721
X-APPLE-STRUCTURED-LOCATION;VALUE=URI;X-ADDRESS=Stillwater Town Hall Your Computer NJ 07860 United States;X-APPLE-RADIUS=500;X-TITLE=Your Computer:geo:-74.8622721,41.0572255
END:VEVENT
BEGIN:VEVENT
DTSTART;TZID=America/New_York:20251208T190000
DTEND;TZID=America/New_York:20251208T210000
DTSTAMP:20260422T182623
CREATED:20241206T135422Z
LAST-MODIFIED:20250107T175218Z
UID:10006299-1765220400-1765227600@stillwatertownshipnj.com
SUMMARY:Environmental Commission Meeting
DESCRIPTION:For the meeting agenda\, please click here!
URL:https://stillwatertownshipnj.com/event/environmental-commission-meeting-5-5/2025-12-08/
LOCATION:Stillwater Town Hall\, Your Computer\, NJ\, 07860\, United States
CATEGORIES:Events
ATTACH;FMTTYPE=image/jpeg:https://stillwatertownshipnj.com/wp-content/uploads/2022/01/enviro-image.jpg
GEO:41.0572255;-74.8622721
X-APPLE-STRUCTURED-LOCATION;VALUE=URI;X-ADDRESS=Stillwater Town Hall Your Computer NJ 07860 United States;X-APPLE-RADIUS=500;X-TITLE=Your Computer:geo:-74.8622721,41.0572255
END:VEVENT
BEGIN:VEVENT
DTSTART;TZID=America/New_York:20251202T190000
DTEND;TZID=America/New_York:20251202T220000
DTSTAMP:20260422T182623
CREATED:20241204T163602Z
LAST-MODIFIED:20251126T175429Z
UID:10006245-1764702000-1764712800@stillwatertownshipnj.com
SUMMARY:Township Committee Meeting
DESCRIPTION:To attend the meeting via Zoom\, please click the link below: \nhttps://us02web.zoom.us/j/87830809012 \nFor the agenda & corresponding items\, please click here!
URL:https://stillwatertownshipnj.com/event/township-committee-meeting-34/
LOCATION:Stillwater Town Hall\, Your Computer\, NJ\, 07860\, United States
CATEGORIES:Events
ATTACH;FMTTYPE=image/jpeg:https://stillwatertownshipnj.com/wp-content/uploads/2024/01/3faa73dbc2eb74ebba3e5a6655bdb922.jpg
GEO:41.0572255;-74.8622721
X-APPLE-STRUCTURED-LOCATION;VALUE=URI;X-ADDRESS=Stillwater Town Hall Your Computer NJ 07860 United States;X-APPLE-RADIUS=500;X-TITLE=Your Computer:geo:-74.8622721,41.0572255
END:VEVENT
BEGIN:VEVENT
DTSTART;TZID=America/New_York:20251202T183000
DTEND;TZID=America/New_York:20251202T190000
DTSTAMP:20260422T182623
CREATED:20251202T135936Z
LAST-MODIFIED:20251202T135936Z
UID:10007685-1764700200-1764702000@stillwatertownshipnj.com
SUMMARY:Board of Health Meeting
DESCRIPTION:To access the meeting via Zoom\, please click the following link: \nhttps://us02web.zoom.us/j/87830809012
URL:https://stillwatertownshipnj.com/event/board-of-health-meeting-3/
LOCATION:Stillwater Town Hall\, Your Computer\, NJ\, 07860\, United States
CATEGORIES:Events
ATTACH;FMTTYPE=image/png:https://stillwatertownshipnj.com/wp-content/uploads/2025/07/word-image-20100-1.png
GEO:41.0572255;-74.8622721
X-APPLE-STRUCTURED-LOCATION;VALUE=URI;X-ADDRESS=Stillwater Town Hall Your Computer NJ 07860 United States;X-APPLE-RADIUS=500;X-TITLE=Your Computer:geo:-74.8622721,41.0572255
END:VEVENT
BEGIN:VEVENT
DTSTART;TZID=America/New_York:20251202T093000
DTEND;TZID=America/New_York:20251202T160000
DTSTAMP:20260422T182623
CREATED:20251202T135623Z
LAST-MODIFIED:20251202T135731Z
UID:10007684-1764667800-1764691200@stillwatertownshipnj.com
SUMMARY:Offices Closing Early 12/2
DESCRIPTION:Due to the weather\, the Stillwater Township Municipal Office will be closing at 9:30am. There is a locked drop box located outside the front doors that we will check in the morning. We are still having our Township Committee meeting this evening. The Board of Health meeting begins at 6:30 pm and the Township Committee meeting at 7:00pm. Both can be accessed via Zoom as well- https://us02web.zoom.us/j/87830809012
URL:https://stillwatertownshipnj.com/event/offices-closing-early-12-2/
LOCATION:Stillwater Town Hall\, Your Computer\, NJ\, 07860\, United States
CATEGORIES:Events
ATTACH;FMTTYPE=image/jpeg:https://stillwatertownshipnj.com/wp-content/uploads/2024/10/Closing-early.jpg
GEO:41.0572255;-74.8622721
X-APPLE-STRUCTURED-LOCATION;VALUE=URI;X-ADDRESS=Stillwater Town Hall Your Computer NJ 07860 United States;X-APPLE-RADIUS=500;X-TITLE=Your Computer:geo:-74.8622721,41.0572255
END:VEVENT
BEGIN:VEVENT
DTSTART;TZID=America/New_York:20251201T190000
DTEND;TZID=America/New_York:20251201T220000
DTSTAMP:20260422T182623
CREATED:20241231T133441Z
LAST-MODIFIED:20250613T173646Z
UID:10006280-1764615600-1764626400@stillwatertownshipnj.com
SUMMARY:Recreation Commission Meeting
DESCRIPTION:To attend the meeting via Zoom\, please click the below link: \nhttps://us02web.zoom.us/j/86731527694
URL:https://stillwatertownshipnj.com/event/recreation-commission-meeting-11/2025-12-01/
LOCATION:Stillwater Town Hall\, Your Computer\, NJ\, 07860\, United States
CATEGORIES:Events
ATTACH;FMTTYPE=image/jpeg:https://stillwatertownshipnj.com/wp-content/uploads/2024/08/Veterans-Park-Bridge-Sign.jpeg
GEO:41.0572255;-74.8622721
X-APPLE-STRUCTURED-LOCATION;VALUE=URI;X-ADDRESS=Stillwater Town Hall Your Computer NJ 07860 United States;X-APPLE-RADIUS=500;X-TITLE=Your Computer:geo:-74.8622721,41.0572255
END:VEVENT
BEGIN:VEVENT
DTSTART;VALUE=DATE:20251128
DTEND;VALUE=DATE:20251129
DTSTAMP:20260422T182623
CREATED:20241204T160737Z
LAST-MODIFIED:20241204T160737Z
UID:10006224-1764288000-1764374399@stillwatertownshipnj.com
SUMMARY:Municipal Office Closed - Day After Thanksgiving
DESCRIPTION:
URL:https://stillwatertownshipnj.com/event/municipal-office-closed-day-after-thanksgiving/
LOCATION:Stillwater Town Hall\, Your Computer\, NJ\, 07860\, United States
CATEGORIES:Events
ATTACH;FMTTYPE=image/jpeg:https://stillwatertownshipnj.com/wp-content/uploads/2023/09/istockphoto-1220588179-612x612-1.jpg
GEO:41.0572255;-74.8622721
X-APPLE-STRUCTURED-LOCATION;VALUE=URI;X-ADDRESS=Stillwater Town Hall Your Computer NJ 07860 United States;X-APPLE-RADIUS=500;X-TITLE=Your Computer:geo:-74.8622721,41.0572255
END:VEVENT
BEGIN:VEVENT
DTSTART;TZID=America/New_York:20251127T080000
DTEND;TZID=America/New_York:20251127T170000
DTSTAMP:20260422T182623
CREATED:20241204T160659Z
LAST-MODIFIED:20241204T160659Z
UID:10006223-1764230400-1764262800@stillwatertownshipnj.com
SUMMARY:Municipal Office Closed - Thanksgiving Day
DESCRIPTION:
URL:https://stillwatertownshipnj.com/event/municipal-office-closed-thanksgiving-day/
LOCATION:Stillwater Town Hall\, Your Computer\, NJ\, 07860\, United States
CATEGORIES:Events
ATTACH;FMTTYPE=image/jpeg:https://stillwatertownshipnj.com/wp-content/uploads/2023/09/istockphoto-1220588179-612x612-1.jpg
GEO:41.0572255;-74.8622721
X-APPLE-STRUCTURED-LOCATION;VALUE=URI;X-ADDRESS=Stillwater Town Hall Your Computer NJ 07860 United States;X-APPLE-RADIUS=500;X-TITLE=Your Computer:geo:-74.8622721,41.0572255
END:VEVENT
BEGIN:VEVENT
DTSTART;TZID=America/New_York:20251119T190000
DTEND;TZID=America/New_York:20251119T210000
DTSTAMP:20260422T182623
CREATED:20250115T134547Z
LAST-MODIFIED:20250115T134547Z
UID:10006379-1763578800-1763586000@stillwatertownshipnj.com
SUMMARY:Planning Board Regular Meeting
DESCRIPTION:
URL:https://stillwatertownshipnj.com/event/planning-board-regular-meeting-17/
LOCATION:Stillwater Town Hall\, Your Computer\, NJ\, 07860\, United States
CATEGORIES:Events
ATTACH;FMTTYPE=image/jpeg:https://stillwatertownshipnj.com/wp-content/uploads/2017/10/Swartswood-State-Park.jpg
GEO:41.0572255;-74.8622721
X-APPLE-STRUCTURED-LOCATION;VALUE=URI;X-ADDRESS=Stillwater Town Hall Your Computer NJ 07860 United States;X-APPLE-RADIUS=500;X-TITLE=Your Computer:geo:-74.8622721,41.0572255
END:VEVENT
BEGIN:VEVENT
DTSTART;TZID=America/New_York:20251117T190000
DTEND;TZID=America/New_York:20251117T210000
DTSTAMP:20260422T182623
CREATED:20250115T133648Z
LAST-MODIFIED:20250115T133648Z
UID:10006367-1763406000-1763413200@stillwatertownshipnj.com
SUMMARY:Zoning Board of Adjustment Regular Meeting
DESCRIPTION:
URL:https://stillwatertownshipnj.com/event/zoning-board-of-adjustment-regular-meeting-18/
LOCATION:Stillwater Town Hall\, Your Computer\, NJ\, 07860\, United States
CATEGORIES:Events
ATTACH;FMTTYPE=image/jpeg:https://stillwatertownshipnj.com/wp-content/uploads/2022/03/Swartswood-State-Park.jpg
GEO:41.0572255;-74.8622721
X-APPLE-STRUCTURED-LOCATION;VALUE=URI;X-ADDRESS=Stillwater Town Hall Your Computer NJ 07860 United States;X-APPLE-RADIUS=500;X-TITLE=Your Computer:geo:-74.8622721,41.0572255
END:VEVENT
BEGIN:VEVENT
DTSTART;TZID=America/New_York:20251114T183000
DTEND;TZID=America/New_York:20251114T210000
DTSTAMP:20260422T182623
CREATED:20250916T143417Z
LAST-MODIFIED:20250916T143637Z
UID:10007659-1763145000-1763154000@stillwatertownshipnj.com
SUMMARY:CERT Training
DESCRIPTION:
URL:https://stillwatertownshipnj.com/event/cert-training-3/
LOCATION:Stillwater Town Hall\, Your Computer\, NJ\, 07860\, United States
CATEGORIES:Events
ATTACH;FMTTYPE=image/jpeg:https://stillwatertownshipnj.com/wp-content/uploads/2025/07/c-users-lknott-pictures-cert-jpg-1.jpeg
GEO:41.0572255;-74.8622721
X-APPLE-STRUCTURED-LOCATION;VALUE=URI;X-ADDRESS=Stillwater Town Hall Your Computer NJ 07860 United States;X-APPLE-RADIUS=500;X-TITLE=Your Computer:geo:-74.8622721,41.0572255
END:VEVENT
BEGIN:VEVENT
DTSTART;TZID=America/New_York:20251112T190000
DTEND;TZID=America/New_York:20251112T220000
DTSTAMP:20260422T182623
CREATED:20241204T163517Z
LAST-MODIFIED:20251110T210329Z
UID:10006244-1762974000-1762984800@stillwatertownshipnj.com
SUMMARY:Township Committee Meeting
DESCRIPTION:To attend the meeting via Zoom\, please click the link below: \nhttps://us02web.zoom.us/j/87830809012 \nFor the meeting agenda & corresponding items\, please click here!
URL:https://stillwatertownshipnj.com/event/township-committee-meeting-33/
LOCATION:Stillwater Town Hall\, Your Computer\, NJ\, 07860\, United States
CATEGORIES:Events
ATTACH;FMTTYPE=image/jpeg:https://stillwatertownshipnj.com/wp-content/uploads/2024/01/3faa73dbc2eb74ebba3e5a6655bdb922.jpg
GEO:41.0572255;-74.8622721
X-APPLE-STRUCTURED-LOCATION;VALUE=URI;X-ADDRESS=Stillwater Town Hall Your Computer NJ 07860 United States;X-APPLE-RADIUS=500;X-TITLE=Your Computer:geo:-74.8622721,41.0572255
END:VEVENT
BEGIN:VEVENT
DTSTART;VALUE=DATE:20251111
DTEND;VALUE=DATE:20251112
DTSTAMP:20260422T182623
CREATED:20241204T160617Z
LAST-MODIFIED:20241204T160617Z
UID:10006222-1762819200-1762905599@stillwatertownshipnj.com
SUMMARY:Municipal Office Closed - Veteran's Day (Observed)
DESCRIPTION:
URL:https://stillwatertownshipnj.com/event/municipal-office-closed-veterans-day-observed-2/
LOCATION:Stillwater Town Hall\, Your Computer\, NJ\, 07860\, United States
CATEGORIES:Events
ATTACH;FMTTYPE=image/jpeg:https://stillwatertownshipnj.com/wp-content/uploads/2023/09/istockphoto-1220588179-612x612-1.jpg
GEO:41.0572255;-74.8622721
X-APPLE-STRUCTURED-LOCATION;VALUE=URI;X-ADDRESS=Stillwater Town Hall Your Computer NJ 07860 United States;X-APPLE-RADIUS=500;X-TITLE=Your Computer:geo:-74.8622721,41.0572255
END:VEVENT
BEGIN:VEVENT
DTSTART;TZID=America/New_York:20251110T190000
DTEND;TZID=America/New_York:20251110T210000
DTSTAMP:20260422T182623
CREATED:20251017T174904Z
LAST-MODIFIED:20251017T174904Z
UID:10006298-1762801200-1762808400@stillwatertownshipnj.com
SUMMARY:Environmental Commission Meeting-OEM Office*
DESCRIPTION:**This meeting will be in the OEM office** \nFor the meeting agenda\, please click here!
URL:https://stillwatertownshipnj.com/event/environmental-commission-meeting-5-5-9/
LOCATION:Stillwater Town Hall\, Your Computer\, NJ\, 07860\, United States
CATEGORIES:Events
ATTACH;FMTTYPE=image/jpeg:https://stillwatertownshipnj.com/wp-content/uploads/2022/01/enviro-image.jpg
GEO:41.0572255;-74.8622721
X-APPLE-STRUCTURED-LOCATION;VALUE=URI;X-ADDRESS=Stillwater Town Hall Your Computer NJ 07860 United States;X-APPLE-RADIUS=500;X-TITLE=Your Computer:geo:-74.8622721,41.0572255
END:VEVENT
BEGIN:VEVENT
DTSTART;TZID=America/New_York:20251110T183000
DTEND;TZID=America/New_York:20251110T210000
DTSTAMP:20260422T182623
CREATED:20251017T174644Z
LAST-MODIFIED:20251017T174645Z
UID:10007656-1762799400-1762808400@stillwatertownshipnj.com
SUMMARY:CERT Training
DESCRIPTION:
URL:https://stillwatertownshipnj.com/event/cert-training-2-2/
LOCATION:Stillwater Town Hall\, Your Computer\, NJ\, 07860\, United States
CATEGORIES:Events
ATTACH;FMTTYPE=image/jpeg:https://stillwatertownshipnj.com/wp-content/uploads/2025/07/c-users-lknott-pictures-cert-jpg-1.jpeg
GEO:41.0572255;-74.8622721
X-APPLE-STRUCTURED-LOCATION;VALUE=URI;X-ADDRESS=Stillwater Town Hall Your Computer NJ 07860 United States;X-APPLE-RADIUS=500;X-TITLE=Your Computer:geo:-74.8622721,41.0572255
END:VEVENT
BEGIN:VEVENT
DTSTART;TZID=America/New_York:20251103T190000
DTEND;TZID=America/New_York:20251103T220000
DTSTAMP:20260422T182623
CREATED:20241231T133441Z
LAST-MODIFIED:20250613T173646Z
UID:10006279-1762196400-1762207200@stillwatertownshipnj.com
SUMMARY:Recreation Commission Meeting
DESCRIPTION:To attend the meeting via Zoom\, please click the below link: \nhttps://us02web.zoom.us/j/86731527694
URL:https://stillwatertownshipnj.com/event/recreation-commission-meeting-11/2025-11-03/
LOCATION:Stillwater Town Hall\, Your Computer\, NJ\, 07860\, United States
CATEGORIES:Events
ATTACH;FMTTYPE=image/jpeg:https://stillwatertownshipnj.com/wp-content/uploads/2024/08/Veterans-Park-Bridge-Sign.jpeg
GEO:41.0572255;-74.8622721
X-APPLE-STRUCTURED-LOCATION;VALUE=URI;X-ADDRESS=Stillwater Town Hall Your Computer NJ 07860 United States;X-APPLE-RADIUS=500;X-TITLE=Your Computer:geo:-74.8622721,41.0572255
END:VEVENT
BEGIN:VEVENT
DTSTART;TZID=America/New_York:20251027T190000
DTEND;TZID=America/New_York:20251027T210000
DTSTAMP:20260422T182623
CREATED:20250115T133528Z
LAST-MODIFIED:20250115T133528Z
UID:10006366-1761591600-1761598800@stillwatertownshipnj.com
SUMMARY:Zoning Board of Adjustment Regular Meeting
DESCRIPTION:
URL:https://stillwatertownshipnj.com/event/zoning-board-of-adjustment-regular-meeting-17/
LOCATION:Stillwater Town Hall\, Your Computer\, NJ\, 07860\, United States
CATEGORIES:Events
ATTACH;FMTTYPE=image/jpeg:https://stillwatertownshipnj.com/wp-content/uploads/2022/03/Swartswood-State-Park.jpg
GEO:41.0572255;-74.8622721
X-APPLE-STRUCTURED-LOCATION;VALUE=URI;X-ADDRESS=Stillwater Town Hall Your Computer NJ 07860 United States;X-APPLE-RADIUS=500;X-TITLE=Your Computer:geo:-74.8622721,41.0572255
END:VEVENT
BEGIN:VEVENT
DTSTART;TZID=America/New_York:20251022T190000
DTEND;TZID=America/New_York:20251022T210000
DTSTAMP:20260422T182623
CREATED:20241126T180844Z
LAST-MODIFIED:20241126T180844Z
UID:10005717-1761159600-1761166800@stillwatertownshipnj.com
SUMMARY:CERT Meeting
DESCRIPTION:
URL:https://stillwatertownshipnj.com/event/cert-meeting-2-3/2025-10-22/
LOCATION:Stillwater Town Hall\, Your Computer\, NJ\, 07860\, United States
CATEGORIES:Events
ATTACH;FMTTYPE=image/jpeg:https://stillwatertownshipnj.com/wp-content/uploads/2022/04/CERT.jpg
GEO:41.0572255;-74.8622721
X-APPLE-STRUCTURED-LOCATION;VALUE=URI;X-ADDRESS=Stillwater Town Hall Your Computer NJ 07860 United States;X-APPLE-RADIUS=500;X-TITLE=Your Computer:geo:-74.8622721,41.0572255
END:VEVENT
BEGIN:VEVENT
DTSTART;TZID=America/New_York:20251021T190000
DTEND;TZID=America/New_York:20251021T220000
DTSTAMP:20260422T182623
CREATED:20241204T163432Z
LAST-MODIFIED:20251017T175639Z
UID:10006243-1761073200-1761084000@stillwatertownshipnj.com
SUMMARY:Township Committee Meeting-Plymouth Lake
DESCRIPTION:To attend the meeting via Zoom\, please click the link below: \nhttps://us02web.zoom.us/j/87830809012 \nFor the meeting agenda & corresponding items\, please click here!
URL:https://stillwatertownshipnj.com/event/township-committee-meeting-32/
LOCATION:Stillwater Town Hall\, Your Computer\, NJ\, 07860\, United States
CATEGORIES:Events
ATTACH;FMTTYPE=image/jpeg:https://stillwatertownshipnj.com/wp-content/uploads/2024/01/3faa73dbc2eb74ebba3e5a6655bdb922.jpg
GEO:41.0572255;-74.8622721
X-APPLE-STRUCTURED-LOCATION;VALUE=URI;X-ADDRESS=Stillwater Town Hall Your Computer NJ 07860 United States;X-APPLE-RADIUS=500;X-TITLE=Your Computer:geo:-74.8622721,41.0572255
END:VEVENT
BEGIN:VEVENT
DTSTART;TZID=America/New_York:20251020T190000
DTEND;TZID=America/New_York:20251020T210000
DTSTAMP:20260422T182623
CREATED:20251017T174805Z
LAST-MODIFIED:20251017T174805Z
UID:10006297-1760986800-1760994000@stillwatertownshipnj.com
SUMMARY:Environmental Commission Meeting
DESCRIPTION:For the meeting agenda\, please click here!
URL:https://stillwatertownshipnj.com/event/environmental-commission-meeting-5-5-8/
LOCATION:Stillwater Town Hall\, Your Computer\, NJ\, 07860\, United States
CATEGORIES:Events
ATTACH;FMTTYPE=image/jpeg:https://stillwatertownshipnj.com/wp-content/uploads/2022/01/enviro-image.jpg
GEO:41.0572255;-74.8622721
X-APPLE-STRUCTURED-LOCATION;VALUE=URI;X-ADDRESS=Stillwater Town Hall Your Computer NJ 07860 United States;X-APPLE-RADIUS=500;X-TITLE=Your Computer:geo:-74.8622721,41.0572255
END:VEVENT
BEGIN:VEVENT
DTSTART;TZID=America/New_York:20251015T190000
DTEND;TZID=America/New_York:20251015T210000
DTSTAMP:20260422T182623
CREATED:20250115T134513Z
LAST-MODIFIED:20251007T154849Z
UID:10006378-1760554800-1760562000@stillwatertownshipnj.com
SUMMARY:Planning Board Regular Meeting ***CANCELED***
DESCRIPTION:
URL:https://stillwatertownshipnj.com/event/planning-board-regular-meeting-16/
LOCATION:Stillwater Town Hall\, Your Computer\, NJ\, 07860\, United States
CATEGORIES:Events
ATTACH;FMTTYPE=image/jpeg:https://stillwatertownshipnj.com/wp-content/uploads/2017/10/Swartswood-State-Park.jpg
GEO:41.0572255;-74.8622721
X-APPLE-STRUCTURED-LOCATION;VALUE=URI;X-ADDRESS=Stillwater Town Hall Your Computer NJ 07860 United States;X-APPLE-RADIUS=500;X-TITLE=Your Computer:geo:-74.8622721,41.0572255
END:VEVENT
BEGIN:VEVENT
DTSTART;VALUE=DATE:20251013
DTEND;VALUE=DATE:20251014
DTSTAMP:20260422T182623
CREATED:20241204T160428Z
LAST-MODIFIED:20241216T165158Z
UID:10006220-1760313600-1760399999@stillwatertownshipnj.com
SUMMARY:Municipal Office Closed - Columbus Day
DESCRIPTION:
URL:https://stillwatertownshipnj.com/event/municipal-office-closed-columbus-day-2/
LOCATION:Stillwater Town Hall\, Your Computer\, NJ\, 07860\, United States
CATEGORIES:Events
ATTACH;FMTTYPE=image/jpeg:https://stillwatertownshipnj.com/wp-content/uploads/2023/09/istockphoto-1220588179-612x612-1.jpg
GEO:41.0572255;-74.8622721
X-APPLE-STRUCTURED-LOCATION;VALUE=URI;X-ADDRESS=Stillwater Town Hall Your Computer NJ 07860 United States;X-APPLE-RADIUS=500;X-TITLE=Your Computer:geo:-74.8622721,41.0572255
END:VEVENT
BEGIN:VEVENT
DTSTART;TZID=America/New_York:20251007T190000
DTEND;TZID=America/New_York:20251007T220000
DTSTAMP:20260422T182623
CREATED:20241204T163125Z
LAST-MODIFIED:20251003T173347Z
UID:10006242-1759863600-1759874400@stillwatertownshipnj.com
SUMMARY:Township Committee Meeting
DESCRIPTION:To attend the meeting via Zoom\, please click the link below: \nhttps://us02web.zoom.us/j/87830809012 \nFor the meeting agenda & items\, please click here!
URL:https://stillwatertownshipnj.com/event/township-committee-meeting-31/
LOCATION:Stillwater Town Hall\, Your Computer\, NJ\, 07860\, United States
CATEGORIES:Events
ATTACH;FMTTYPE=image/jpeg:https://stillwatertownshipnj.com/wp-content/uploads/2024/01/3faa73dbc2eb74ebba3e5a6655bdb922.jpg
GEO:41.0572255;-74.8622721
X-APPLE-STRUCTURED-LOCATION;VALUE=URI;X-ADDRESS=Stillwater Town Hall Your Computer NJ 07860 United States;X-APPLE-RADIUS=500;X-TITLE=Your Computer:geo:-74.8622721,41.0572255
END:VEVENT
BEGIN:VEVENT
DTSTART;TZID=America/New_York:20251006T190000
DTEND;TZID=America/New_York:20251006T220000
DTSTAMP:20260422T182623
CREATED:20241231T133441Z
LAST-MODIFIED:20250613T173646Z
UID:10006278-1759777200-1759788000@stillwatertownshipnj.com
SUMMARY:Recreation Commission Meeting
DESCRIPTION:To attend the meeting via Zoom\, please click the below link: \nhttps://us02web.zoom.us/j/86731527694
URL:https://stillwatertownshipnj.com/event/recreation-commission-meeting-11/2025-10-06/
LOCATION:Stillwater Town Hall\, Your Computer\, NJ\, 07860\, United States
CATEGORIES:Events
ATTACH;FMTTYPE=image/jpeg:https://stillwatertownshipnj.com/wp-content/uploads/2024/08/Veterans-Park-Bridge-Sign.jpeg
GEO:41.0572255;-74.8622721
X-APPLE-STRUCTURED-LOCATION;VALUE=URI;X-ADDRESS=Stillwater Town Hall Your Computer NJ 07860 United States;X-APPLE-RADIUS=500;X-TITLE=Your Computer:geo:-74.8622721,41.0572255
END:VEVENT
BEGIN:VEVENT
DTSTART;TZID=America/New_York:20251004T090000
DTEND;TZID=America/New_York:20251004T120000
DTSTAMP:20260422T182623
CREATED:20250903T141611Z
LAST-MODIFIED:20250903T141611Z
UID:10007650-1759568400-1759579200@stillwatertownshipnj.com
SUMMARY:Free Fall Paper Shredding Event!
DESCRIPTION:
URL:https://stillwatertownshipnj.com/event/free-fall-paper-shredding-event/
LOCATION:Stillwater Town Hall\, Your Computer\, NJ\, 07860\, United States
CATEGORIES:Events
ATTACH;FMTTYPE=image/jpeg:https://stillwatertownshipnj.com/wp-content/uploads/2024/03/paper-shred.jpg
GEO:41.0572255;-74.8622721
X-APPLE-STRUCTURED-LOCATION;VALUE=URI;X-ADDRESS=Stillwater Town Hall Your Computer NJ 07860 United States;X-APPLE-RADIUS=500;X-TITLE=Your Computer:geo:-74.8622721,41.0572255
END:VEVENT
END:VCALENDAR