BEGIN:VCALENDAR
VERSION:2.0
PRODID:-//Stillwater Township - ECPv6.15.18//NONSGML v1.0//EN
CALSCALE:GREGORIAN
METHOD:PUBLISH
X-ORIGINAL-URL:https://stillwatertownshipnj.com
X-WR-CALDESC:Events for Stillwater Township
REFRESH-INTERVAL;VALUE=DURATION:PT1H
X-Robots-Tag:noindex
X-PUBLISHED-TTL:PT1H
BEGIN:VTIMEZONE
TZID:America/New_York
BEGIN:DAYLIGHT
TZOFFSETFROM:-0500
TZOFFSETTO:-0400
TZNAME:EDT
DTSTART:20250309T070000
END:DAYLIGHT
BEGIN:STANDARD
TZOFFSETFROM:-0400
TZOFFSETTO:-0500
TZNAME:EST
DTSTART:20251102T060000
END:STANDARD
BEGIN:DAYLIGHT
TZOFFSETFROM:-0500
TZOFFSETTO:-0400
TZNAME:EDT
DTSTART:20260308T070000
END:DAYLIGHT
BEGIN:STANDARD
TZOFFSETFROM:-0400
TZOFFSETTO:-0500
TZNAME:EST
DTSTART:20261101T060000
END:STANDARD
BEGIN:DAYLIGHT
TZOFFSETFROM:-0500
TZOFFSETTO:-0400
TZNAME:EDT
DTSTART:20270314T070000
END:DAYLIGHT
BEGIN:STANDARD
TZOFFSETFROM:-0400
TZOFFSETTO:-0500
TZNAME:EST
DTSTART:20271107T060000
END:STANDARD
END:VTIMEZONE
BEGIN:VEVENT
DTSTART;TZID=America/New_York:20260506T153000
DTEND;TZID=America/New_York:20260506T163000
DTSTAMP:20260425T085813
CREATED:20250807T133351Z
LAST-MODIFIED:20250807T133351Z
UID:10007552-1778081400-1778085000@stillwatertownshipnj.com
SUMMARY:Social Circle
DESCRIPTION:Hosted by the Sussex County Division of Social Services- more info to come soon!
URL:https://stillwatertownshipnj.com/event/social-circle/2026-05-06/
LOCATION:Stillwater Community Center/Stillwater Park\, 931 Swartswood Road\, Newton\, NJ\, 07877\, United States
CATEGORIES:Community Center Event
GEO:41.0840058;-74.8237998
X-APPLE-STRUCTURED-LOCATION;VALUE=URI;X-ADDRESS=Stillwater Community Center/Stillwater Park 931 Swartswood Road Newton NJ 07877 United States;X-APPLE-RADIUS=500;X-TITLE=931 Swartswood Road:geo:-74.8237998,41.0840058
END:VEVENT
BEGIN:VEVENT
DTSTART;TZID=America/New_York:20260506T173000
DTEND;TZID=America/New_York:20260506T203000
DTSTAMP:20260425T085813
CREATED:20250807T142759Z
LAST-MODIFIED:20250807T142759Z
UID:10007580-1778088600-1778099400@stillwatertownshipnj.com
SUMMARY:GS Troop 98451
DESCRIPTION:
URL:https://stillwatertownshipnj.com/event/gs-troop-98451-2/2026-05-06/
LOCATION:Stillwater Community Center/Stillwater Park\, 931 Swartswood Road\, Newton\, NJ\, 07877\, United States
CATEGORIES:Community Center Event
ATTACH;FMTTYPE=image/jpeg:https://stillwatertownshipnj.com/wp-content/uploads/2021/06/girl-scouts.jpg
GEO:41.0840058;-74.8237998
X-APPLE-STRUCTURED-LOCATION;VALUE=URI;X-ADDRESS=Stillwater Community Center/Stillwater Park 931 Swartswood Road Newton NJ 07877 United States;X-APPLE-RADIUS=500;X-TITLE=931 Swartswood Road:geo:-74.8237998,41.0840058
END:VEVENT
BEGIN:VEVENT
DTSTART;VALUE=DATE:20260509
DTEND;VALUE=DATE:20260510
DTSTAMP:20260425T085813
CREATED:20260323T144325Z
LAST-MODIFIED:20260323T145123Z
UID:10007995-1778284800-1778371199@stillwatertownshipnj.com
SUMMARY:Private Event - Profeta
DESCRIPTION:
URL:https://stillwatertownshipnj.com/event/private-event-profeta/
LOCATION:Stillwater Community Center/Stillwater Park\, 931 Swartswood Road\, Newton\, NJ\, 07877\, United States
CATEGORIES:Community Center Event
GEO:41.0840058;-74.8237998
X-APPLE-STRUCTURED-LOCATION;VALUE=URI;X-ADDRESS=Stillwater Community Center/Stillwater Park 931 Swartswood Road Newton NJ 07877 United States;X-APPLE-RADIUS=500;X-TITLE=931 Swartswood Road:geo:-74.8237998,41.0840058
END:VEVENT
BEGIN:VEVENT
DTSTART;TZID=America/New_York:20260511T093000
DTEND;TZID=America/New_York:20260511T103000
DTSTAMP:20260425T085813
CREATED:20250807T131709Z
LAST-MODIFIED:20250807T131709Z
UID:10007420-1778491800-1778495400@stillwatertownshipnj.com
SUMMARY:Chair Yoga
DESCRIPTION:
URL:https://stillwatertownshipnj.com/event/chair-yoga-13/2026-05-11/
LOCATION:Stillwater Community Center/Stillwater Park\, 931 Swartswood Road\, Newton\, NJ\, 07877\, United States
CATEGORIES:Community Center Event
ATTACH;FMTTYPE=image/jpeg:https://stillwatertownshipnj.com/wp-content/uploads/2024/04/chair-yoga.jpg
GEO:41.0840058;-74.8237998
X-APPLE-STRUCTURED-LOCATION;VALUE=URI;X-ADDRESS=Stillwater Community Center/Stillwater Park 931 Swartswood Road Newton NJ 07877 United States;X-APPLE-RADIUS=500;X-TITLE=931 Swartswood Road:geo:-74.8237998,41.0840058
END:VEVENT
BEGIN:VEVENT
DTSTART;TZID=America/New_York:20260511T110000
DTEND;TZID=America/New_York:20260511T120000
DTSTAMP:20260425T085813
CREATED:20250807T132201Z
LAST-MODIFIED:20250807T132201Z
UID:10007443-1778497200-1778500800@stillwatertownshipnj.com
SUMMARY:Regular Yoga
DESCRIPTION:
URL:https://stillwatertownshipnj.com/event/regular-yoga/2026-05-11/
LOCATION:Stillwater Community Center/Stillwater Park\, 931 Swartswood Road\, Newton\, NJ\, 07877\, United States
CATEGORIES:Community Center Event
GEO:41.0840058;-74.8237998
X-APPLE-STRUCTURED-LOCATION;VALUE=URI;X-ADDRESS=Stillwater Community Center/Stillwater Park 931 Swartswood Road Newton NJ 07877 United States;X-APPLE-RADIUS=500;X-TITLE=931 Swartswood Road:geo:-74.8237998,41.0840058
END:VEVENT
BEGIN:VEVENT
DTSTART;TZID=America/New_York:20260511T130000
DTEND;TZID=America/New_York:20260511T170000
DTSTAMP:20260425T085813
CREATED:20241126T180203Z
LAST-MODIFIED:20250128T144646Z
UID:10004597-1778504400-1778518800@stillwatertownshipnj.com
SUMMARY:Private Group
DESCRIPTION:
URL:https://stillwatertownshipnj.com/event/womens-mahjong/2026-05-11/
LOCATION:Stillwater Community Center/Stillwater Park\, 931 Swartswood Road\, Newton\, NJ\, 07877\, United States
CATEGORIES:Community Center Event
ATTACH;FMTTYPE=image/jpeg:https://stillwatertownshipnj.com/wp-content/uploads/2024/02/Mah-Jongg.jpg
GEO:41.0840058;-74.8237998
X-APPLE-STRUCTURED-LOCATION;VALUE=URI;X-ADDRESS=Stillwater Community Center/Stillwater Park 931 Swartswood Road Newton NJ 07877 United States;X-APPLE-RADIUS=500;X-TITLE=931 Swartswood Road:geo:-74.8237998,41.0840058
END:VEVENT
BEGIN:VEVENT
DTSTART;TZID=America/New_York:20260511T180000
DTEND;TZID=America/New_York:20260511T193000
DTSTAMP:20260425T085813
CREATED:20241126T180305Z
LAST-MODIFIED:20250107T180137Z
UID:10005172-1778522400-1778527800@stillwatertownshipnj.com
SUMMARY:Happy Together
DESCRIPTION:Women’s Acapella Singing Group
URL:https://stillwatertownshipnj.com/event/happy-together/2026-05-11/
LOCATION:Stillwater Community Center/Stillwater Park\, 931 Swartswood Road\, Newton\, NJ\, 07877\, United States
CATEGORIES:Community Center Event
ATTACH;FMTTYPE=image/jpeg:https://stillwatertownshipnj.com/wp-content/uploads/2024/05/music.jpg
GEO:41.0840058;-74.8237998
X-APPLE-STRUCTURED-LOCATION;VALUE=URI;X-ADDRESS=Stillwater Community Center/Stillwater Park 931 Swartswood Road Newton NJ 07877 United States;X-APPLE-RADIUS=500;X-TITLE=931 Swartswood Road:geo:-74.8237998,41.0840058
END:VEVENT
BEGIN:VEVENT
DTSTART;TZID=America/New_York:20260512T183000
DTEND;TZID=America/New_York:20260512T200000
DTSTAMP:20260425T085813
CREATED:20260224T170219Z
LAST-MODIFIED:20260224T170219Z
UID:10007891-1778610600-1778616000@stillwatertownshipnj.com
SUMMARY:Stress-Busting for Family Caregivers for Chronic Illnesses
DESCRIPTION:
URL:https://stillwatertownshipnj.com/event/stress-busting-for-family-caregivers-for-chronic-illnesses-6/
LOCATION:Stillwater Community Center/Stillwater Park\, 931 Swartswood Road\, Newton\, NJ\, 07877\, United States
CATEGORIES:Community Center Event
GEO:41.0840058;-74.8237998
X-APPLE-STRUCTURED-LOCATION;VALUE=URI;X-ADDRESS=Stillwater Community Center/Stillwater Park 931 Swartswood Road Newton NJ 07877 United States;X-APPLE-RADIUS=500;X-TITLE=931 Swartswood Road:geo:-74.8237998,41.0840058
END:VEVENT
BEGIN:VEVENT
DTSTART;TZID=America/New_York:20260513T103000
DTEND;TZID=America/New_York:20260513T110000
DTSTAMP:20260425T085813
CREATED:20250807T132754Z
LAST-MODIFIED:20260211T154456Z
UID:10007476-1778668200-1778670000@stillwatertownshipnj.com
SUMMARY:Move & Groove
DESCRIPTION:Hosted by the Sussex County Division of Social Services- more info to come soon!
URL:https://stillwatertownshipnj.com/event/move-groove-3/2026-05-13/
LOCATION:Stillwater Community Center/Stillwater Park\, 931 Swartswood Road\, Newton\, NJ\, 07877\, United States
CATEGORIES:Community Center Event
GEO:41.0840058;-74.8237998
X-APPLE-STRUCTURED-LOCATION;VALUE=URI;X-ADDRESS=Stillwater Community Center/Stillwater Park 931 Swartswood Road Newton NJ 07877 United States;X-APPLE-RADIUS=500;X-TITLE=931 Swartswood Road:geo:-74.8237998,41.0840058
END:VEVENT
BEGIN:VEVENT
DTSTART;TZID=America/New_York:20260513T190000
DTEND;TZID=America/New_York:20260513T220000
DTSTAMP:20260425T085813
CREATED:20241126T180304Z
LAST-MODIFIED:20241126T180304Z
UID:10004324-1778698800-1778709600@stillwatertownshipnj.com
SUMMARY:Paulinskill Lake Association Meeting
DESCRIPTION:Paulinskill Lake Association Meeting at the Stillwater Community Center. Second Wednesday of each month at 7:00pm.
URL:https://stillwatertownshipnj.com/event/paulinskill-lake-association-meeting-2/2026-05-13/
LOCATION:Stillwater Community Center/Stillwater Park\, 931 Swartswood Road\, Newton\, NJ\, 07877\, United States
CATEGORIES:Community Center Event
ATTACH;FMTTYPE=image/jpeg:https://stillwatertownshipnj.com/wp-content/uploads/2023/12/paulinskill-lake-association-image.jpg
GEO:41.0840058;-74.8237998
X-APPLE-STRUCTURED-LOCATION;VALUE=URI;X-ADDRESS=Stillwater Community Center/Stillwater Park 931 Swartswood Road Newton NJ 07877 United States;X-APPLE-RADIUS=500;X-TITLE=931 Swartswood Road:geo:-74.8237998,41.0840058
END:VEVENT
BEGIN:VEVENT
DTSTART;TZID=America/New_York:20260515T090000
DTEND;TZID=America/New_York:20260515T150000
DTSTAMP:20260425T085813
CREATED:20251204T163638Z
LAST-MODIFIED:20251204T163638Z
UID:10007688-1778835600-1778857200@stillwatertownshipnj.com
SUMMARY:American Sewing Guild
DESCRIPTION:
URL:https://stillwatertownshipnj.com/event/american-sewing-guild-12/
LOCATION:Stillwater Community Center/Stillwater Park\, 931 Swartswood Road\, Newton\, NJ\, 07877\, United States
CATEGORIES:Community Center Event
GEO:41.0840058;-74.8237998
X-APPLE-STRUCTURED-LOCATION;VALUE=URI;X-ADDRESS=Stillwater Community Center/Stillwater Park 931 Swartswood Road Newton NJ 07877 United States;X-APPLE-RADIUS=500;X-TITLE=931 Swartswood Road:geo:-74.8237998,41.0840058
END:VEVENT
BEGIN:VEVENT
DTSTART;TZID=America/New_York:20260515T173000
DTEND;TZID=America/New_York:20260515T210000
DTSTAMP:20260425T085813
CREATED:20250314T125315Z
LAST-MODIFIED:20250314T125845Z
UID:10006820-1778866200-1778878800@stillwatertownshipnj.com
SUMMARY:Cub Scout Pack 83 Meeting
DESCRIPTION:
URL:https://stillwatertownshipnj.com/event/cub-scout-pack-83-meeting-4-2/2026-05-15/
LOCATION:Stillwater Community Center/Stillwater Park\, 931 Swartswood Road\, Newton\, NJ\, 07877\, United States
CATEGORIES:Community Center Event
GEO:41.0840058;-74.8237998
X-APPLE-STRUCTURED-LOCATION;VALUE=URI;X-ADDRESS=Stillwater Community Center/Stillwater Park 931 Swartswood Road Newton NJ 07877 United States;X-APPLE-RADIUS=500;X-TITLE=931 Swartswood Road:geo:-74.8237998,41.0840058
END:VEVENT
BEGIN:VEVENT
DTSTART;TZID=America/New_York:20260518T093000
DTEND;TZID=America/New_York:20260518T103000
DTSTAMP:20260425T085813
CREATED:20250807T131709Z
LAST-MODIFIED:20250807T131709Z
UID:10007421-1779096600-1779100200@stillwatertownshipnj.com
SUMMARY:Chair Yoga
DESCRIPTION:
URL:https://stillwatertownshipnj.com/event/chair-yoga-13/2026-05-18/
LOCATION:Stillwater Community Center/Stillwater Park\, 931 Swartswood Road\, Newton\, NJ\, 07877\, United States
CATEGORIES:Community Center Event
ATTACH;FMTTYPE=image/jpeg:https://stillwatertownshipnj.com/wp-content/uploads/2024/04/chair-yoga.jpg
GEO:41.0840058;-74.8237998
X-APPLE-STRUCTURED-LOCATION;VALUE=URI;X-ADDRESS=Stillwater Community Center/Stillwater Park 931 Swartswood Road Newton NJ 07877 United States;X-APPLE-RADIUS=500;X-TITLE=931 Swartswood Road:geo:-74.8237998,41.0840058
END:VEVENT
BEGIN:VEVENT
DTSTART;TZID=America/New_York:20260518T110000
DTEND;TZID=America/New_York:20260518T120000
DTSTAMP:20260425T085813
CREATED:20250807T132201Z
LAST-MODIFIED:20250807T132201Z
UID:10007444-1779102000-1779105600@stillwatertownshipnj.com
SUMMARY:Regular Yoga
DESCRIPTION:
URL:https://stillwatertownshipnj.com/event/regular-yoga/2026-05-18/
LOCATION:Stillwater Community Center/Stillwater Park\, 931 Swartswood Road\, Newton\, NJ\, 07877\, United States
CATEGORIES:Community Center Event
GEO:41.0840058;-74.8237998
X-APPLE-STRUCTURED-LOCATION;VALUE=URI;X-ADDRESS=Stillwater Community Center/Stillwater Park 931 Swartswood Road Newton NJ 07877 United States;X-APPLE-RADIUS=500;X-TITLE=931 Swartswood Road:geo:-74.8237998,41.0840058
END:VEVENT
BEGIN:VEVENT
DTSTART;TZID=America/New_York:20260518T130000
DTEND;TZID=America/New_York:20260518T170000
DTSTAMP:20260425T085813
CREATED:20241126T180203Z
LAST-MODIFIED:20250128T144646Z
UID:10004598-1779109200-1779123600@stillwatertownshipnj.com
SUMMARY:Private Group
DESCRIPTION:
URL:https://stillwatertownshipnj.com/event/womens-mahjong/2026-05-18/
LOCATION:Stillwater Community Center/Stillwater Park\, 931 Swartswood Road\, Newton\, NJ\, 07877\, United States
CATEGORIES:Community Center Event
ATTACH;FMTTYPE=image/jpeg:https://stillwatertownshipnj.com/wp-content/uploads/2024/02/Mah-Jongg.jpg
GEO:41.0840058;-74.8237998
X-APPLE-STRUCTURED-LOCATION;VALUE=URI;X-ADDRESS=Stillwater Community Center/Stillwater Park 931 Swartswood Road Newton NJ 07877 United States;X-APPLE-RADIUS=500;X-TITLE=931 Swartswood Road:geo:-74.8237998,41.0840058
END:VEVENT
BEGIN:VEVENT
DTSTART;TZID=America/New_York:20260518T180000
DTEND;TZID=America/New_York:20260518T193000
DTSTAMP:20260425T085813
CREATED:20241126T180305Z
LAST-MODIFIED:20250107T180137Z
UID:10005173-1779127200-1779132600@stillwatertownshipnj.com
SUMMARY:Happy Together
DESCRIPTION:Women’s Acapella Singing Group
URL:https://stillwatertownshipnj.com/event/happy-together/2026-05-18/
LOCATION:Stillwater Community Center/Stillwater Park\, 931 Swartswood Road\, Newton\, NJ\, 07877\, United States
CATEGORIES:Community Center Event
ATTACH;FMTTYPE=image/jpeg:https://stillwatertownshipnj.com/wp-content/uploads/2024/05/music.jpg
GEO:41.0840058;-74.8237998
X-APPLE-STRUCTURED-LOCATION;VALUE=URI;X-ADDRESS=Stillwater Community Center/Stillwater Park 931 Swartswood Road Newton NJ 07877 United States;X-APPLE-RADIUS=500;X-TITLE=931 Swartswood Road:geo:-74.8237998,41.0840058
END:VEVENT
BEGIN:VEVENT
DTSTART;TZID=America/New_York:20260519T183000
DTEND;TZID=America/New_York:20260519T200000
DTSTAMP:20260425T085813
CREATED:20260224T170238Z
LAST-MODIFIED:20260224T170238Z
UID:10007892-1779215400-1779220800@stillwatertownshipnj.com
SUMMARY:Stress-Busting for Family Caregivers for Chronic Illnesses
DESCRIPTION:
URL:https://stillwatertownshipnj.com/event/stress-busting-for-family-caregivers-for-chronic-illnesses-7/
LOCATION:Stillwater Community Center/Stillwater Park\, 931 Swartswood Road\, Newton\, NJ\, 07877\, United States
CATEGORIES:Community Center Event
GEO:41.0840058;-74.8237998
X-APPLE-STRUCTURED-LOCATION;VALUE=URI;X-ADDRESS=Stillwater Community Center/Stillwater Park 931 Swartswood Road Newton NJ 07877 United States;X-APPLE-RADIUS=500;X-TITLE=931 Swartswood Road:geo:-74.8237998,41.0840058
END:VEVENT
BEGIN:VEVENT
DTSTART;TZID=America/New_York:20260520T103000
DTEND;TZID=America/New_York:20260520T110000
DTSTAMP:20260425T085813
CREATED:20250807T132754Z
LAST-MODIFIED:20260211T154456Z
UID:10007477-1779273000-1779274800@stillwatertownshipnj.com
SUMMARY:Move & Groove
DESCRIPTION:Hosted by the Sussex County Division of Social Services- more info to come soon!
URL:https://stillwatertownshipnj.com/event/move-groove-3/2026-05-20/
LOCATION:Stillwater Community Center/Stillwater Park\, 931 Swartswood Road\, Newton\, NJ\, 07877\, United States
CATEGORIES:Community Center Event
GEO:41.0840058;-74.8237998
X-APPLE-STRUCTURED-LOCATION;VALUE=URI;X-ADDRESS=Stillwater Community Center/Stillwater Park 931 Swartswood Road Newton NJ 07877 United States;X-APPLE-RADIUS=500;X-TITLE=931 Swartswood Road:geo:-74.8237998,41.0840058
END:VEVENT
BEGIN:VEVENT
DTSTART;TZID=America/New_York:20260525T130000
DTEND;TZID=America/New_York:20260525T170000
DTSTAMP:20260425T085813
CREATED:20241126T180203Z
LAST-MODIFIED:20250128T144646Z
UID:10004599-1779714000-1779728400@stillwatertownshipnj.com
SUMMARY:Private Group
DESCRIPTION:
URL:https://stillwatertownshipnj.com/event/womens-mahjong/2026-05-25/
LOCATION:Stillwater Community Center/Stillwater Park\, 931 Swartswood Road\, Newton\, NJ\, 07877\, United States
CATEGORIES:Community Center Event
ATTACH;FMTTYPE=image/jpeg:https://stillwatertownshipnj.com/wp-content/uploads/2024/02/Mah-Jongg.jpg
GEO:41.0840058;-74.8237998
X-APPLE-STRUCTURED-LOCATION;VALUE=URI;X-ADDRESS=Stillwater Community Center/Stillwater Park 931 Swartswood Road Newton NJ 07877 United States;X-APPLE-RADIUS=500;X-TITLE=931 Swartswood Road:geo:-74.8237998,41.0840058
END:VEVENT
BEGIN:VEVENT
DTSTART;TZID=America/New_York:20260525T180000
DTEND;TZID=America/New_York:20260525T193000
DTSTAMP:20260425T085813
CREATED:20241126T180305Z
LAST-MODIFIED:20250107T180137Z
UID:10005174-1779732000-1779737400@stillwatertownshipnj.com
SUMMARY:Happy Together
DESCRIPTION:Women’s Acapella Singing Group
URL:https://stillwatertownshipnj.com/event/happy-together/2026-05-25/
LOCATION:Stillwater Community Center/Stillwater Park\, 931 Swartswood Road\, Newton\, NJ\, 07877\, United States
CATEGORIES:Community Center Event
ATTACH;FMTTYPE=image/jpeg:https://stillwatertownshipnj.com/wp-content/uploads/2024/05/music.jpg
GEO:41.0840058;-74.8237998
X-APPLE-STRUCTURED-LOCATION;VALUE=URI;X-ADDRESS=Stillwater Community Center/Stillwater Park 931 Swartswood Road Newton NJ 07877 United States;X-APPLE-RADIUS=500;X-TITLE=931 Swartswood Road:geo:-74.8237998,41.0840058
END:VEVENT
BEGIN:VEVENT
DTSTART;TZID=America/New_York:20260526T183000
DTEND;TZID=America/New_York:20260526T200000
DTSTAMP:20260425T085813
CREATED:20260224T170257Z
LAST-MODIFIED:20260224T170257Z
UID:10007893-1779820200-1779825600@stillwatertownshipnj.com
SUMMARY:Stress-Busting for Family Caregivers for Chronic Illnesses
DESCRIPTION:
URL:https://stillwatertownshipnj.com/event/stress-busting-for-family-caregivers-for-chronic-illnesses-8/
LOCATION:Stillwater Community Center/Stillwater Park\, 931 Swartswood Road\, Newton\, NJ\, 07877\, United States
CATEGORIES:Community Center Event
GEO:41.0840058;-74.8237998
X-APPLE-STRUCTURED-LOCATION;VALUE=URI;X-ADDRESS=Stillwater Community Center/Stillwater Park 931 Swartswood Road Newton NJ 07877 United States;X-APPLE-RADIUS=500;X-TITLE=931 Swartswood Road:geo:-74.8237998,41.0840058
END:VEVENT
BEGIN:VEVENT
DTSTART;TZID=America/New_York:20260527T103000
DTEND;TZID=America/New_York:20260527T110000
DTSTAMP:20260425T085813
CREATED:20250807T132754Z
LAST-MODIFIED:20260211T154456Z
UID:10007478-1779877800-1779879600@stillwatertownshipnj.com
SUMMARY:Move & Groove
DESCRIPTION:Hosted by the Sussex County Division of Social Services- more info to come soon!
URL:https://stillwatertownshipnj.com/event/move-groove-3/2026-05-27/
LOCATION:Stillwater Community Center/Stillwater Park\, 931 Swartswood Road\, Newton\, NJ\, 07877\, United States
CATEGORIES:Community Center Event
GEO:41.0840058;-74.8237998
X-APPLE-STRUCTURED-LOCATION;VALUE=URI;X-ADDRESS=Stillwater Community Center/Stillwater Park 931 Swartswood Road Newton NJ 07877 United States;X-APPLE-RADIUS=500;X-TITLE=931 Swartswood Road:geo:-74.8237998,41.0840058
END:VEVENT
BEGIN:VEVENT
DTSTART;TZID=America/New_York:20260527T173000
DTEND;TZID=America/New_York:20260527T203000
DTSTAMP:20260425T085813
CREATED:20250807T141232Z
LAST-MODIFIED:20250807T141232Z
UID:10007577-1779903000-1779913800@stillwatertownshipnj.com
SUMMARY:GS Troop 98451
DESCRIPTION:
URL:https://stillwatertownshipnj.com/event/gs-troop-98451/2026-05-27/
LOCATION:Stillwater Community Center/Stillwater Park\, 931 Swartswood Road\, Newton\, NJ\, 07877\, United States
CATEGORIES:Community Center Event
ATTACH;FMTTYPE=image/jpeg:https://stillwatertownshipnj.com/wp-content/uploads/2021/06/girl-scouts.jpg
GEO:41.0840058;-74.8237998
X-APPLE-STRUCTURED-LOCATION;VALUE=URI;X-ADDRESS=Stillwater Community Center/Stillwater Park 931 Swartswood Road Newton NJ 07877 United States;X-APPLE-RADIUS=500;X-TITLE=931 Swartswood Road:geo:-74.8237998,41.0840058
END:VEVENT
BEGIN:VEVENT
DTSTART;TZID=America/New_York:20260530T080000
DTEND;TZID=America/New_York:20260530T120000
DTSTAMP:20260425T085813
CREATED:20260224T135900Z
LAST-MODIFIED:20260224T135900Z
UID:10007884-1780128000-1780142400@stillwatertownshipnj.com
SUMMARY:GS Troop 98451
DESCRIPTION:
URL:https://stillwatertownshipnj.com/event/gs-troop-98451-3/
LOCATION:Stillwater Community Center/Stillwater Park\, 931 Swartswood Road\, Newton\, NJ\, 07877\, United States
CATEGORIES:Community Center Event
GEO:41.0840058;-74.8237998
X-APPLE-STRUCTURED-LOCATION;VALUE=URI;X-ADDRESS=Stillwater Community Center/Stillwater Park 931 Swartswood Road Newton NJ 07877 United States;X-APPLE-RADIUS=500;X-TITLE=931 Swartswood Road:geo:-74.8237998,41.0840058
END:VEVENT
BEGIN:VEVENT
DTSTART;TZID=America/New_York:20260531T110000
DTEND;TZID=America/New_York:20260531T180000
DTSTAMP:20260425T085813
CREATED:20260209T202406Z
LAST-MODIFIED:20260209T202406Z
UID:10007817-1780225200-1780250400@stillwatertownshipnj.com
SUMMARY:Miss Stillwater Contest
DESCRIPTION:
URL:https://stillwatertownshipnj.com/event/miss-stillwater-contest-2/
LOCATION:Stillwater Community Center/Stillwater Park\, 931 Swartswood Road\, Newton\, NJ\, 07877\, United States
CATEGORIES:Community Center Event
ATTACH;FMTTYPE=image/jpeg:https://stillwatertownshipnj.com/wp-content/uploads/2024/06/miss-s.jpg
GEO:41.0840058;-74.8237998
X-APPLE-STRUCTURED-LOCATION;VALUE=URI;X-ADDRESS=Stillwater Community Center/Stillwater Park 931 Swartswood Road Newton NJ 07877 United States;X-APPLE-RADIUS=500;X-TITLE=931 Swartswood Road:geo:-74.8237998,41.0840058
END:VEVENT
BEGIN:VEVENT
DTSTART;TZID=America/New_York:20260601T093000
DTEND;TZID=America/New_York:20260601T103000
DTSTAMP:20260425T085813
CREATED:20260226T143330Z
LAST-MODIFIED:20260226T143414Z
UID:10007895-1780306200-1780309800@stillwatertownshipnj.com
SUMMARY:Chair Yoga
DESCRIPTION:
URL:https://stillwatertownshipnj.com/event/chair-yoga-11/2026-06-01/
LOCATION:Stillwater Community Center/Stillwater Park\, 931 Swartswood Road\, Newton\, NJ\, 07877\, United States
CATEGORIES:Community Center Event
ATTACH;FMTTYPE=image/jpeg:https://stillwatertownshipnj.com/wp-content/uploads/2024/04/chair-yoga.jpg
GEO:41.0840058;-74.8237998
X-APPLE-STRUCTURED-LOCATION;VALUE=URI;X-ADDRESS=Stillwater Community Center/Stillwater Park 931 Swartswood Road Newton NJ 07877 United States;X-APPLE-RADIUS=500;X-TITLE=931 Swartswood Road:geo:-74.8237998,41.0840058
END:VEVENT
BEGIN:VEVENT
DTSTART;TZID=America/New_York:20260601T130000
DTEND;TZID=America/New_York:20260601T170000
DTSTAMP:20260425T085813
CREATED:20241126T180203Z
LAST-MODIFIED:20250128T144646Z
UID:10004600-1780318800-1780333200@stillwatertownshipnj.com
SUMMARY:Private Group
DESCRIPTION:
URL:https://stillwatertownshipnj.com/event/womens-mahjong/2026-06-01/
LOCATION:Stillwater Community Center/Stillwater Park\, 931 Swartswood Road\, Newton\, NJ\, 07877\, United States
CATEGORIES:Community Center Event
ATTACH;FMTTYPE=image/jpeg:https://stillwatertownshipnj.com/wp-content/uploads/2024/02/Mah-Jongg.jpg
GEO:41.0840058;-74.8237998
X-APPLE-STRUCTURED-LOCATION;VALUE=URI;X-ADDRESS=Stillwater Community Center/Stillwater Park 931 Swartswood Road Newton NJ 07877 United States;X-APPLE-RADIUS=500;X-TITLE=931 Swartswood Road:geo:-74.8237998,41.0840058
END:VEVENT
BEGIN:VEVENT
DTSTART;TZID=America/New_York:20260601T180000
DTEND;TZID=America/New_York:20260601T193000
DTSTAMP:20260425T085813
CREATED:20241126T180305Z
LAST-MODIFIED:20250107T180137Z
UID:10005175-1780336800-1780342200@stillwatertownshipnj.com
SUMMARY:Happy Together
DESCRIPTION:Women’s Acapella Singing Group
URL:https://stillwatertownshipnj.com/event/happy-together/2026-06-01/
LOCATION:Stillwater Community Center/Stillwater Park\, 931 Swartswood Road\, Newton\, NJ\, 07877\, United States
CATEGORIES:Community Center Event
ATTACH;FMTTYPE=image/jpeg:https://stillwatertownshipnj.com/wp-content/uploads/2024/05/music.jpg
GEO:41.0840058;-74.8237998
X-APPLE-STRUCTURED-LOCATION;VALUE=URI;X-ADDRESS=Stillwater Community Center/Stillwater Park 931 Swartswood Road Newton NJ 07877 United States;X-APPLE-RADIUS=500;X-TITLE=931 Swartswood Road:geo:-74.8237998,41.0840058
END:VEVENT
BEGIN:VEVENT
DTSTART;TZID=America/New_York:20260602T060000
DTEND;TZID=America/New_York:20260602T200000
DTSTAMP:20260425T085813
CREATED:20250924T151352Z
LAST-MODIFIED:20250924T151352Z
UID:10007668-1780380000-1780430400@stillwatertownshipnj.com
SUMMARY:Primary Election Day
DESCRIPTION:
URL:https://stillwatertownshipnj.com/event/primary-election-day-3/
LOCATION:Stillwater Community Center/Stillwater Park\, 931 Swartswood Road\, Newton\, NJ\, 07877\, United States
CATEGORIES:Community Center Event,Events
ATTACH;FMTTYPE=image/jpeg:https://stillwatertownshipnj.com/wp-content/uploads/2023/01/Primary-Elections.jpg
GEO:41.0840058;-74.8237998
X-APPLE-STRUCTURED-LOCATION;VALUE=URI;X-ADDRESS=Stillwater Community Center/Stillwater Park 931 Swartswood Road Newton NJ 07877 United States;X-APPLE-RADIUS=500;X-TITLE=931 Swartswood Road:geo:-74.8237998,41.0840058
END:VEVENT
BEGIN:VEVENT
DTSTART;TZID=America/New_York:20260603T103000
DTEND;TZID=America/New_York:20260603T110000
DTSTAMP:20260425T085813
CREATED:20250807T132754Z
LAST-MODIFIED:20260211T154456Z
UID:10007479-1780482600-1780484400@stillwatertownshipnj.com
SUMMARY:Move & Groove
DESCRIPTION:Hosted by the Sussex County Division of Social Services- more info to come soon!
URL:https://stillwatertownshipnj.com/event/move-groove-3/2026-06-03/
LOCATION:Stillwater Community Center/Stillwater Park\, 931 Swartswood Road\, Newton\, NJ\, 07877\, United States
CATEGORIES:Community Center Event
GEO:41.0840058;-74.8237998
X-APPLE-STRUCTURED-LOCATION;VALUE=URI;X-ADDRESS=Stillwater Community Center/Stillwater Park 931 Swartswood Road Newton NJ 07877 United States;X-APPLE-RADIUS=500;X-TITLE=931 Swartswood Road:geo:-74.8237998,41.0840058
END:VEVENT
END:VCALENDAR