BEGIN:VCALENDAR
VERSION:2.0
PRODID:-//Stillwater Township - ECPv6.15.18//NONSGML v1.0//EN
CALSCALE:GREGORIAN
METHOD:PUBLISH
X-WR-CALNAME:Stillwater Township
X-ORIGINAL-URL:https://stillwatertownshipnj.com
X-WR-CALDESC:Events for Stillwater Township
REFRESH-INTERVAL;VALUE=DURATION:PT1H
X-Robots-Tag:noindex
X-PUBLISHED-TTL:PT1H
BEGIN:VTIMEZONE
TZID:America/New_York
BEGIN:DAYLIGHT
TZOFFSETFROM:-0500
TZOFFSETTO:-0400
TZNAME:EDT
DTSTART:20250309T070000
END:DAYLIGHT
BEGIN:STANDARD
TZOFFSETFROM:-0400
TZOFFSETTO:-0500
TZNAME:EST
DTSTART:20251102T060000
END:STANDARD
BEGIN:DAYLIGHT
TZOFFSETFROM:-0500
TZOFFSETTO:-0400
TZNAME:EDT
DTSTART:20260308T070000
END:DAYLIGHT
BEGIN:STANDARD
TZOFFSETFROM:-0400
TZOFFSETTO:-0500
TZNAME:EST
DTSTART:20261101T060000
END:STANDARD
BEGIN:DAYLIGHT
TZOFFSETFROM:-0500
TZOFFSETTO:-0400
TZNAME:EDT
DTSTART:20270314T070000
END:DAYLIGHT
BEGIN:STANDARD
TZOFFSETFROM:-0400
TZOFFSETTO:-0500
TZNAME:EST
DTSTART:20271107T060000
END:STANDARD
END:VTIMEZONE
BEGIN:VEVENT
DTSTART;TZID=America/New_York:20260415T153000
DTEND;TZID=America/New_York:20260415T163000
DTSTAMP:20260425T073855
CREATED:20250807T133351Z
LAST-MODIFIED:20250807T133351Z
UID:10007551-1776267000-1776270600@stillwatertownshipnj.com
SUMMARY:Social Circle
DESCRIPTION:Hosted by the Sussex County Division of Social Services- more info to come soon!
URL:https://stillwatertownshipnj.com/event/social-circle/2026-04-15/
LOCATION:Stillwater Community Center/Stillwater Park\, 931 Swartswood Road\, Newton\, NJ\, 07877\, United States
CATEGORIES:Community Center Event
GEO:41.0840058;-74.8237998
X-APPLE-STRUCTURED-LOCATION;VALUE=URI;X-ADDRESS=Stillwater Community Center/Stillwater Park 931 Swartswood Road Newton NJ 07877 United States;X-APPLE-RADIUS=500;X-TITLE=931 Swartswood Road:geo:-74.8237998,41.0840058
END:VEVENT
BEGIN:VEVENT
DTSTART;TZID=America/New_York:20260414T183000
DTEND;TZID=America/New_York:20260414T200000
DTSTAMP:20260425T073855
CREATED:20260224T170110Z
LAST-MODIFIED:20260224T170110Z
UID:10007887-1776191400-1776196800@stillwatertownshipnj.com
SUMMARY:Stress-Busting for Family Caregivers for Chronic Illnesses
DESCRIPTION:
URL:https://stillwatertownshipnj.com/event/stress-busting-for-family-caregivers-for-chronic-illnesses-2/
LOCATION:Stillwater Community Center/Stillwater Park\, 931 Swartswood Road\, Newton\, NJ\, 07877\, United States
CATEGORIES:Community Center Event
GEO:41.0840058;-74.8237998
X-APPLE-STRUCTURED-LOCATION;VALUE=URI;X-ADDRESS=Stillwater Community Center/Stillwater Park 931 Swartswood Road Newton NJ 07877 United States;X-APPLE-RADIUS=500;X-TITLE=931 Swartswood Road:geo:-74.8237998,41.0840058
END:VEVENT
BEGIN:VEVENT
DTSTART;TZID=America/New_York:20260413T180000
DTEND;TZID=America/New_York:20260413T193000
DTSTAMP:20260425T073855
CREATED:20241126T180305Z
LAST-MODIFIED:20250107T180137Z
UID:10005168-1776103200-1776108600@stillwatertownshipnj.com
SUMMARY:Happy Together
DESCRIPTION:Women’s Acapella Singing Group
URL:https://stillwatertownshipnj.com/event/happy-together/2026-04-13/
LOCATION:Stillwater Community Center/Stillwater Park\, 931 Swartswood Road\, Newton\, NJ\, 07877\, United States
CATEGORIES:Community Center Event
ATTACH;FMTTYPE=image/jpeg:https://stillwatertownshipnj.com/wp-content/uploads/2024/05/music.jpg
GEO:41.0840058;-74.8237998
X-APPLE-STRUCTURED-LOCATION;VALUE=URI;X-ADDRESS=Stillwater Community Center/Stillwater Park 931 Swartswood Road Newton NJ 07877 United States;X-APPLE-RADIUS=500;X-TITLE=931 Swartswood Road:geo:-74.8237998,41.0840058
END:VEVENT
BEGIN:VEVENT
DTSTART;TZID=America/New_York:20260413T130000
DTEND;TZID=America/New_York:20260413T170000
DTSTAMP:20260425T073855
CREATED:20241126T180203Z
LAST-MODIFIED:20250128T144646Z
UID:10004593-1776085200-1776099600@stillwatertownshipnj.com
SUMMARY:Private Group
DESCRIPTION:
URL:https://stillwatertownshipnj.com/event/womens-mahjong/2026-04-13/
LOCATION:Stillwater Community Center/Stillwater Park\, 931 Swartswood Road\, Newton\, NJ\, 07877\, United States
CATEGORIES:Community Center Event
ATTACH;FMTTYPE=image/jpeg:https://stillwatertownshipnj.com/wp-content/uploads/2024/02/Mah-Jongg.jpg
GEO:41.0840058;-74.8237998
X-APPLE-STRUCTURED-LOCATION;VALUE=URI;X-ADDRESS=Stillwater Community Center/Stillwater Park 931 Swartswood Road Newton NJ 07877 United States;X-APPLE-RADIUS=500;X-TITLE=931 Swartswood Road:geo:-74.8237998,41.0840058
END:VEVENT
BEGIN:VEVENT
DTSTART;TZID=America/New_York:20260413T110000
DTEND;TZID=America/New_York:20260413T120000
DTSTAMP:20260425T073855
CREATED:20250807T132201Z
LAST-MODIFIED:20250807T132201Z
UID:10007439-1776078000-1776081600@stillwatertownshipnj.com
SUMMARY:Regular Yoga
DESCRIPTION:
URL:https://stillwatertownshipnj.com/event/regular-yoga/2026-04-13/
LOCATION:Stillwater Community Center/Stillwater Park\, 931 Swartswood Road\, Newton\, NJ\, 07877\, United States
CATEGORIES:Community Center Event
GEO:41.0840058;-74.8237998
X-APPLE-STRUCTURED-LOCATION;VALUE=URI;X-ADDRESS=Stillwater Community Center/Stillwater Park 931 Swartswood Road Newton NJ 07877 United States;X-APPLE-RADIUS=500;X-TITLE=931 Swartswood Road:geo:-74.8237998,41.0840058
END:VEVENT
BEGIN:VEVENT
DTSTART;TZID=America/New_York:20260413T093000
DTEND;TZID=America/New_York:20260413T103000
DTSTAMP:20260425T073855
CREATED:20250807T131709Z
LAST-MODIFIED:20250807T131709Z
UID:10007416-1776072600-1776076200@stillwatertownshipnj.com
SUMMARY:Chair Yoga
DESCRIPTION:
URL:https://stillwatertownshipnj.com/event/chair-yoga-13/2026-04-13/
LOCATION:Stillwater Community Center/Stillwater Park\, 931 Swartswood Road\, Newton\, NJ\, 07877\, United States
CATEGORIES:Community Center Event
ATTACH;FMTTYPE=image/jpeg:https://stillwatertownshipnj.com/wp-content/uploads/2024/04/chair-yoga.jpg
GEO:41.0840058;-74.8237998
X-APPLE-STRUCTURED-LOCATION;VALUE=URI;X-ADDRESS=Stillwater Community Center/Stillwater Park 931 Swartswood Road Newton NJ 07877 United States;X-APPLE-RADIUS=500;X-TITLE=931 Swartswood Road:geo:-74.8237998,41.0840058
END:VEVENT
BEGIN:VEVENT
DTSTART;TZID=America/New_York:20260412T120000
DTEND;TZID=America/New_York:20260412T160000
DTSTAMP:20260425T073855
CREATED:20260116T180712Z
LAST-MODIFIED:20260310T113805Z
UID:10007782-1775995200-1776009600@stillwatertownshipnj.com
SUMMARY:Avenues in Motion Event-CERT
DESCRIPTION:Avenues in Motion (AIM) offers bike safety education. Please join us for their presentation on bike helmets and safety tips. There will also be a motorcycle safety presentation to show best practices every rider should know. This family event is run by CERT. For any additional info\, email cert@stillwatertwp.com or call (973) 534-2318.
URL:https://stillwatertownshipnj.com/event/avenues-in-motion-event-cert/
LOCATION:Stillwater Community Center/Stillwater Park\, 931 Swartswood Road\, Newton\, NJ\, 07877\, United States
CATEGORIES:Community Center Event,Events
ATTACH;FMTTYPE=image/jpeg:https://stillwatertownshipnj.com/wp-content/uploads/2025/09/c-users-lknott-pictures-cert-jpg.jpeg
GEO:41.0840058;-74.8237998
X-APPLE-STRUCTURED-LOCATION;VALUE=URI;X-ADDRESS=Stillwater Community Center/Stillwater Park 931 Swartswood Road Newton NJ 07877 United States;X-APPLE-RADIUS=500;X-TITLE=931 Swartswood Road:geo:-74.8237998,41.0840058
END:VEVENT
BEGIN:VEVENT
DTSTART;TZID=America/New_York:20260411T180000
DTEND;TZID=America/New_York:20260411T203000
DTSTAMP:20260425T073855
CREATED:20260224T170512Z
LAST-MODIFIED:20260224T170512Z
UID:10007894-1775930400-1775939400@stillwatertownshipnj.com
SUMMARY:Senior Citizen Disco Dance
DESCRIPTION:
URL:https://stillwatertownshipnj.com/event/senior-citizen-disco-dance/
LOCATION:Stillwater Community Center/Stillwater Park\, 931 Swartswood Road\, Newton\, NJ\, 07877\, United States
CATEGORIES:Community Center Event
GEO:41.0840058;-74.8237998
X-APPLE-STRUCTURED-LOCATION;VALUE=URI;X-ADDRESS=Stillwater Community Center/Stillwater Park 931 Swartswood Road Newton NJ 07877 United States;X-APPLE-RADIUS=500;X-TITLE=931 Swartswood Road:geo:-74.8237998,41.0840058
END:VEVENT
BEGIN:VEVENT
DTSTART;TZID=America/New_York:20260411T180000
DTEND;TZID=America/New_York:20260411T203000
DTSTAMP:20260425T073855
CREATED:20260224T150712Z
LAST-MODIFIED:20260224T150712Z
UID:10007885-1775930400-1775939400@stillwatertownshipnj.com
SUMMARY:Senior Citizen Disco Party! (70s theme)
DESCRIPTION:
URL:https://stillwatertownshipnj.com/event/senior-citizen-disco-party-70s-theme/
LOCATION:Stillwater Community Center/Stillwater Park\, 931 Swartswood Road\, Newton\, NJ\, 07877\, United States
ATTACH;FMTTYPE=image/jpeg:https://stillwatertownshipnj.com/wp-content/uploads/2026/02/91hemqHYLuL.jpg
GEO:41.0840058;-74.8237998
X-APPLE-STRUCTURED-LOCATION;VALUE=URI;X-ADDRESS=Stillwater Community Center/Stillwater Park 931 Swartswood Road Newton NJ 07877 United States;X-APPLE-RADIUS=500;X-TITLE=931 Swartswood Road:geo:-74.8237998,41.0840058
END:VEVENT
BEGIN:VEVENT
DTSTART;TZID=America/New_York:20260410T130000
DTEND;TZID=America/New_York:20260410T140000
DTSTAMP:20260425T073855
CREATED:20250807T132632Z
LAST-MODIFIED:20250807T132632Z
UID:10007471-1775826000-1775829600@stillwatertownshipnj.com
SUMMARY:Move Today
DESCRIPTION:Hosted by the Sussex County Division of Social Services- more info to come soon!
URL:https://stillwatertownshipnj.com/event/move-today/2026-04-10/
LOCATION:Stillwater Community Center/Stillwater Park\, 931 Swartswood Road\, Newton\, NJ\, 07877\, United States
CATEGORIES:Community Center Event
GEO:41.0840058;-74.8237998
X-APPLE-STRUCTURED-LOCATION;VALUE=URI;X-ADDRESS=Stillwater Community Center/Stillwater Park 931 Swartswood Road Newton NJ 07877 United States;X-APPLE-RADIUS=500;X-TITLE=931 Swartswood Road:geo:-74.8237998,41.0840058
END:VEVENT
BEGIN:VEVENT
DTSTART;TZID=America/New_York:20260410T090000
DTEND;TZID=America/New_York:20260410T130000
DTSTAMP:20260425T073855
CREATED:20260112T155340Z
LAST-MODIFIED:20260112T155340Z
UID:10007765-1775811600-1775826000@stillwatertownshipnj.com
SUMMARY:American Sewing Guild
DESCRIPTION:
URL:https://stillwatertownshipnj.com/event/american-sewing-guild-19/
LOCATION:Stillwater Community Center/Stillwater Park\, 931 Swartswood Road\, Newton\, NJ\, 07877\, United States
CATEGORIES:Community Center Event
GEO:41.0840058;-74.8237998
X-APPLE-STRUCTURED-LOCATION;VALUE=URI;X-ADDRESS=Stillwater Community Center/Stillwater Park 931 Swartswood Road Newton NJ 07877 United States;X-APPLE-RADIUS=500;X-TITLE=931 Swartswood Road:geo:-74.8237998,41.0840058
END:VEVENT
BEGIN:VEVENT
DTSTART;TZID=America/New_York:20260408T190000
DTEND;TZID=America/New_York:20260408T220000
DTSTAMP:20260425T073855
CREATED:20241126T180304Z
LAST-MODIFIED:20241126T180304Z
UID:10004323-1775674800-1775685600@stillwatertownshipnj.com
SUMMARY:Paulinskill Lake Association Meeting
DESCRIPTION:Paulinskill Lake Association Meeting at the Stillwater Community Center. Second Wednesday of each month at 7:00pm.
URL:https://stillwatertownshipnj.com/event/paulinskill-lake-association-meeting-2/2026-04-08/
LOCATION:Stillwater Community Center/Stillwater Park\, 931 Swartswood Road\, Newton\, NJ\, 07877\, United States
CATEGORIES:Community Center Event
ATTACH;FMTTYPE=image/jpeg:https://stillwatertownshipnj.com/wp-content/uploads/2023/12/paulinskill-lake-association-image.jpg
GEO:41.0840058;-74.8237998
X-APPLE-STRUCTURED-LOCATION;VALUE=URI;X-ADDRESS=Stillwater Community Center/Stillwater Park 931 Swartswood Road Newton NJ 07877 United States;X-APPLE-RADIUS=500;X-TITLE=931 Swartswood Road:geo:-74.8237998,41.0840058
END:VEVENT
BEGIN:VEVENT
DTSTART;TZID=America/New_York:20260407T183000
DTEND;TZID=America/New_York:20260407T200000
DTSTAMP:20260425T073855
CREATED:20260224T170052Z
LAST-MODIFIED:20260224T170052Z
UID:10007886-1775586600-1775592000@stillwatertownshipnj.com
SUMMARY:Stress-Busting for Family Caregivers for Chronic Illnesses
DESCRIPTION:
URL:https://stillwatertownshipnj.com/event/stress-busting-for-family-caregivers-for-chronic-illnesses/
LOCATION:Stillwater Community Center/Stillwater Park\, 931 Swartswood Road\, Newton\, NJ\, 07877\, United States
CATEGORIES:Community Center Event
GEO:41.0840058;-74.8237998
X-APPLE-STRUCTURED-LOCATION;VALUE=URI;X-ADDRESS=Stillwater Community Center/Stillwater Park 931 Swartswood Road Newton NJ 07877 United States;X-APPLE-RADIUS=500;X-TITLE=931 Swartswood Road:geo:-74.8237998,41.0840058
END:VEVENT
BEGIN:VEVENT
DTSTART;TZID=America/New_York:20260407T130000
DTEND;TZID=America/New_York:20260407T143000
DTSTAMP:20260425T073855
CREATED:20251210T133326Z
LAST-MODIFIED:20260310T113109Z
UID:10007694-1775566800-1775572200@stillwatertownshipnj.com
SUMMARY:Community Safety Program
DESCRIPTION:This program is called ‘Caring for Our Caregivers’ and will be presented by Rae Ann Gowan from the Division of Senior Services. For more info\, email cert@stillwatertwp.com or call (973) 534-2318.
URL:https://stillwatertownshipnj.com/event/community-safety-program-2/
LOCATION:Stillwater Community Center/Stillwater Park\, 931 Swartswood Road\, Newton\, NJ\, 07877\, United States
CATEGORIES:Community Center Event
GEO:41.0840058;-74.8237998
X-APPLE-STRUCTURED-LOCATION;VALUE=URI;X-ADDRESS=Stillwater Community Center/Stillwater Park 931 Swartswood Road Newton NJ 07877 United States;X-APPLE-RADIUS=500;X-TITLE=931 Swartswood Road:geo:-74.8237998,41.0840058
END:VEVENT
BEGIN:VEVENT
DTSTART;TZID=America/New_York:20260406T180000
DTEND;TZID=America/New_York:20260406T193000
DTSTAMP:20260425T073855
CREATED:20241126T180305Z
LAST-MODIFIED:20250107T180137Z
UID:10005167-1775498400-1775503800@stillwatertownshipnj.com
SUMMARY:Happy Together
DESCRIPTION:Women’s Acapella Singing Group
URL:https://stillwatertownshipnj.com/event/happy-together/2026-04-06/
LOCATION:Stillwater Community Center/Stillwater Park\, 931 Swartswood Road\, Newton\, NJ\, 07877\, United States
CATEGORIES:Community Center Event
ATTACH;FMTTYPE=image/jpeg:https://stillwatertownshipnj.com/wp-content/uploads/2024/05/music.jpg
GEO:41.0840058;-74.8237998
X-APPLE-STRUCTURED-LOCATION;VALUE=URI;X-ADDRESS=Stillwater Community Center/Stillwater Park 931 Swartswood Road Newton NJ 07877 United States;X-APPLE-RADIUS=500;X-TITLE=931 Swartswood Road:geo:-74.8237998,41.0840058
END:VEVENT
BEGIN:VEVENT
DTSTART;TZID=America/New_York:20260406T130000
DTEND;TZID=America/New_York:20260406T170000
DTSTAMP:20260425T073855
CREATED:20241126T180203Z
LAST-MODIFIED:20250128T144646Z
UID:10004592-1775480400-1775494800@stillwatertownshipnj.com
SUMMARY:Private Group
DESCRIPTION:
URL:https://stillwatertownshipnj.com/event/womens-mahjong/2026-04-06/
LOCATION:Stillwater Community Center/Stillwater Park\, 931 Swartswood Road\, Newton\, NJ\, 07877\, United States
CATEGORIES:Community Center Event
ATTACH;FMTTYPE=image/jpeg:https://stillwatertownshipnj.com/wp-content/uploads/2024/02/Mah-Jongg.jpg
GEO:41.0840058;-74.8237998
X-APPLE-STRUCTURED-LOCATION;VALUE=URI;X-ADDRESS=Stillwater Community Center/Stillwater Park 931 Swartswood Road Newton NJ 07877 United States;X-APPLE-RADIUS=500;X-TITLE=931 Swartswood Road:geo:-74.8237998,41.0840058
END:VEVENT
BEGIN:VEVENT
DTSTART;TZID=America/New_York:20260403T173000
DTEND;TZID=America/New_York:20260403T210000
DTSTAMP:20260425T073855
CREATED:20250314T125546Z
LAST-MODIFIED:20250314T125546Z
UID:10006937-1775237400-1775250000@stillwatertownshipnj.com
SUMMARY:Cub Scout Pack 83 Meeting
DESCRIPTION:
URL:https://stillwatertownshipnj.com/event/cub-scout-pack-83-meeting-5/2026-04-03/
LOCATION:Stillwater Community Center/Stillwater Park\, 931 Swartswood Road\, Newton\, NJ\, 07877\, United States
CATEGORIES:Community Center Event
ATTACH;FMTTYPE=image/png:https://stillwatertownshipnj.com/wp-content/uploads/2021/10/boy-Scouts-2.png
GEO:41.0840058;-74.8237998
X-APPLE-STRUCTURED-LOCATION;VALUE=URI;X-ADDRESS=Stillwater Community Center/Stillwater Park 931 Swartswood Road Newton NJ 07877 United States;X-APPLE-RADIUS=500;X-TITLE=931 Swartswood Road:geo:-74.8237998,41.0840058
END:VEVENT
BEGIN:VEVENT
DTSTART;TZID=America/New_York:20260403T130000
DTEND;TZID=America/New_York:20260403T140000
DTSTAMP:20260425T073855
CREATED:20250807T132632Z
LAST-MODIFIED:20250807T132632Z
UID:10007470-1775221200-1775224800@stillwatertownshipnj.com
SUMMARY:Move Today
DESCRIPTION:Hosted by the Sussex County Division of Social Services- more info to come soon!
URL:https://stillwatertownshipnj.com/event/move-today/2026-04-03/
LOCATION:Stillwater Community Center/Stillwater Park\, 931 Swartswood Road\, Newton\, NJ\, 07877\, United States
CATEGORIES:Community Center Event
GEO:41.0840058;-74.8237998
X-APPLE-STRUCTURED-LOCATION;VALUE=URI;X-ADDRESS=Stillwater Community Center/Stillwater Park 931 Swartswood Road Newton NJ 07877 United States;X-APPLE-RADIUS=500;X-TITLE=931 Swartswood Road:geo:-74.8237998,41.0840058
END:VEVENT
BEGIN:VEVENT
DTSTART;TZID=America/New_York:20260401T173000
DTEND;TZID=America/New_York:20260401T203000
DTSTAMP:20260425T073855
CREATED:20250807T141232Z
LAST-MODIFIED:20250807T141232Z
UID:10007574-1775064600-1775075400@stillwatertownshipnj.com
SUMMARY:GS Troop 98451
DESCRIPTION:
URL:https://stillwatertownshipnj.com/event/gs-troop-98451/2026-04-01/
LOCATION:Stillwater Community Center/Stillwater Park\, 931 Swartswood Road\, Newton\, NJ\, 07877\, United States
CATEGORIES:Community Center Event
ATTACH;FMTTYPE=image/jpeg:https://stillwatertownshipnj.com/wp-content/uploads/2021/06/girl-scouts.jpg
GEO:41.0840058;-74.8237998
X-APPLE-STRUCTURED-LOCATION;VALUE=URI;X-ADDRESS=Stillwater Community Center/Stillwater Park 931 Swartswood Road Newton NJ 07877 United States;X-APPLE-RADIUS=500;X-TITLE=931 Swartswood Road:geo:-74.8237998,41.0840058
END:VEVENT
BEGIN:VEVENT
DTSTART;TZID=America/New_York:20260330T180000
DTEND;TZID=America/New_York:20260330T193000
DTSTAMP:20260425T073855
CREATED:20241126T180305Z
LAST-MODIFIED:20250107T180137Z
UID:10005166-1774893600-1774899000@stillwatertownshipnj.com
SUMMARY:Happy Together
DESCRIPTION:Women’s Acapella Singing Group
URL:https://stillwatertownshipnj.com/event/happy-together/2026-03-30/
LOCATION:Stillwater Community Center/Stillwater Park\, 931 Swartswood Road\, Newton\, NJ\, 07877\, United States
CATEGORIES:Community Center Event
ATTACH;FMTTYPE=image/jpeg:https://stillwatertownshipnj.com/wp-content/uploads/2024/05/music.jpg
GEO:41.0840058;-74.8237998
X-APPLE-STRUCTURED-LOCATION;VALUE=URI;X-ADDRESS=Stillwater Community Center/Stillwater Park 931 Swartswood Road Newton NJ 07877 United States;X-APPLE-RADIUS=500;X-TITLE=931 Swartswood Road:geo:-74.8237998,41.0840058
END:VEVENT
BEGIN:VEVENT
DTSTART;TZID=America/New_York:20260330T130000
DTEND;TZID=America/New_York:20260330T170000
DTSTAMP:20260425T073855
CREATED:20241126T180203Z
LAST-MODIFIED:20250128T144646Z
UID:10004591-1774875600-1774890000@stillwatertownshipnj.com
SUMMARY:Private Group
DESCRIPTION:
URL:https://stillwatertownshipnj.com/event/womens-mahjong/2026-03-30/
LOCATION:Stillwater Community Center/Stillwater Park\, 931 Swartswood Road\, Newton\, NJ\, 07877\, United States
CATEGORIES:Community Center Event
ATTACH;FMTTYPE=image/jpeg:https://stillwatertownshipnj.com/wp-content/uploads/2024/02/Mah-Jongg.jpg
GEO:41.0840058;-74.8237998
X-APPLE-STRUCTURED-LOCATION;VALUE=URI;X-ADDRESS=Stillwater Community Center/Stillwater Park 931 Swartswood Road Newton NJ 07877 United States;X-APPLE-RADIUS=500;X-TITLE=931 Swartswood Road:geo:-74.8237998,41.0840058
END:VEVENT
BEGIN:VEVENT
DTSTART;TZID=America/New_York:20260327T130000
DTEND;TZID=America/New_York:20260327T140000
DTSTAMP:20260425T073855
CREATED:20250807T132632Z
LAST-MODIFIED:20250807T132632Z
UID:10007469-1774616400-1774620000@stillwatertownshipnj.com
SUMMARY:Move Today
DESCRIPTION:Hosted by the Sussex County Division of Social Services- more info to come soon!
URL:https://stillwatertownshipnj.com/event/move-today/2026-03-27/
LOCATION:Stillwater Community Center/Stillwater Park\, 931 Swartswood Road\, Newton\, NJ\, 07877\, United States
CATEGORIES:Community Center Event
GEO:41.0840058;-74.8237998
X-APPLE-STRUCTURED-LOCATION;VALUE=URI;X-ADDRESS=Stillwater Community Center/Stillwater Park 931 Swartswood Road Newton NJ 07877 United States;X-APPLE-RADIUS=500;X-TITLE=931 Swartswood Road:geo:-74.8237998,41.0840058
END:VEVENT
BEGIN:VEVENT
DTSTART;TZID=America/New_York:20260326T190000
DTEND;TZID=America/New_York:20260326T210000
DTSTAMP:20260425T073855
CREATED:20260318T120727Z
LAST-MODIFIED:20260318T120727Z
UID:10007992-1774551600-1774558800@stillwatertownshipnj.com
SUMMARY:KRHS Project Grad Meeting
DESCRIPTION:
URL:https://stillwatertownshipnj.com/event/krhs-project-grad-meeting-2/
LOCATION:Stillwater Community Center/Stillwater Park\, 931 Swartswood Road\, Newton\, NJ\, 07877\, United States
CATEGORIES:Community Center Event
ATTACH;FMTTYPE=image/png:https://stillwatertownshipnj.com/wp-content/uploads/2024/10/KRHS.png
GEO:41.0840058;-74.8237998
X-APPLE-STRUCTURED-LOCATION;VALUE=URI;X-ADDRESS=Stillwater Community Center/Stillwater Park 931 Swartswood Road Newton NJ 07877 United States;X-APPLE-RADIUS=500;X-TITLE=931 Swartswood Road:geo:-74.8237998,41.0840058
END:VEVENT
BEGIN:VEVENT
DTSTART;TZID=America/New_York:20260325T190000
DTEND;TZID=America/New_York:20260325T203000
DTSTAMP:20260425T073855
CREATED:20260227T145526Z
LAST-MODIFIED:20260227T145526Z
UID:10007978-1774465200-1774470600@stillwatertownshipnj.com
SUMMARY:CERT Meeting
DESCRIPTION:
URL:https://stillwatertownshipnj.com/event/cert-meeting-3/2026-03-25/
LOCATION:Stillwater Community Center/Stillwater Park\, 931 Swartswood Road\, Newton\, NJ\, 07877\, United States
CATEGORIES:Community Center Event
ATTACH;FMTTYPE=image/jpeg:https://stillwatertownshipnj.com/wp-content/uploads/2025/09/c-users-lknott-pictures-cert-jpg.jpeg
GEO:41.0840058;-74.8237998
X-APPLE-STRUCTURED-LOCATION;VALUE=URI;X-ADDRESS=Stillwater Community Center/Stillwater Park 931 Swartswood Road Newton NJ 07877 United States;X-APPLE-RADIUS=500;X-TITLE=931 Swartswood Road:geo:-74.8237998,41.0840058
END:VEVENT
BEGIN:VEVENT
DTSTART;TZID=America/New_York:20260323T180000
DTEND;TZID=America/New_York:20260323T193000
DTSTAMP:20260425T073855
CREATED:20241126T180305Z
LAST-MODIFIED:20250107T180137Z
UID:10005165-1774288800-1774294200@stillwatertownshipnj.com
SUMMARY:Happy Together
DESCRIPTION:Women’s Acapella Singing Group
URL:https://stillwatertownshipnj.com/event/happy-together/2026-03-23/
LOCATION:Stillwater Community Center/Stillwater Park\, 931 Swartswood Road\, Newton\, NJ\, 07877\, United States
CATEGORIES:Community Center Event
ATTACH;FMTTYPE=image/jpeg:https://stillwatertownshipnj.com/wp-content/uploads/2024/05/music.jpg
GEO:41.0840058;-74.8237998
X-APPLE-STRUCTURED-LOCATION;VALUE=URI;X-ADDRESS=Stillwater Community Center/Stillwater Park 931 Swartswood Road Newton NJ 07877 United States;X-APPLE-RADIUS=500;X-TITLE=931 Swartswood Road:geo:-74.8237998,41.0840058
END:VEVENT
BEGIN:VEVENT
DTSTART;TZID=America/New_York:20260323T130000
DTEND;TZID=America/New_York:20260323T170000
DTSTAMP:20260425T073855
CREATED:20241126T180203Z
LAST-MODIFIED:20250128T144646Z
UID:10004590-1774270800-1774285200@stillwatertownshipnj.com
SUMMARY:Private Group
DESCRIPTION:
URL:https://stillwatertownshipnj.com/event/womens-mahjong/2026-03-23/
LOCATION:Stillwater Community Center/Stillwater Park\, 931 Swartswood Road\, Newton\, NJ\, 07877\, United States
CATEGORIES:Community Center Event
ATTACH;FMTTYPE=image/jpeg:https://stillwatertownshipnj.com/wp-content/uploads/2024/02/Mah-Jongg.jpg
GEO:41.0840058;-74.8237998
X-APPLE-STRUCTURED-LOCATION;VALUE=URI;X-ADDRESS=Stillwater Community Center/Stillwater Park 931 Swartswood Road Newton NJ 07877 United States;X-APPLE-RADIUS=500;X-TITLE=931 Swartswood Road:geo:-74.8237998,41.0840058
END:VEVENT
BEGIN:VEVENT
DTSTART;TZID=America/New_York:20260320T173000
DTEND;TZID=America/New_York:20260320T210000
DTSTAMP:20260425T073855
CREATED:20250314T125315Z
LAST-MODIFIED:20250314T125845Z
UID:10006816-1774027800-1774040400@stillwatertownshipnj.com
SUMMARY:Cub Scout Pack 83 Meeting
DESCRIPTION:
URL:https://stillwatertownshipnj.com/event/cub-scout-pack-83-meeting-4-2/2026-03-20/
LOCATION:Stillwater Community Center/Stillwater Park\, 931 Swartswood Road\, Newton\, NJ\, 07877\, United States
CATEGORIES:Community Center Event
GEO:41.0840058;-74.8237998
X-APPLE-STRUCTURED-LOCATION;VALUE=URI;X-ADDRESS=Stillwater Community Center/Stillwater Park 931 Swartswood Road Newton NJ 07877 United States;X-APPLE-RADIUS=500;X-TITLE=931 Swartswood Road:geo:-74.8237998,41.0840058
END:VEVENT
BEGIN:VEVENT
DTSTART;TZID=America/New_York:20260320T130000
DTEND;TZID=America/New_York:20260320T140000
DTSTAMP:20260425T073855
CREATED:20250807T132632Z
LAST-MODIFIED:20250807T132632Z
UID:10007468-1774011600-1774015200@stillwatertownshipnj.com
SUMMARY:Move Today
DESCRIPTION:Hosted by the Sussex County Division of Social Services- more info to come soon!
URL:https://stillwatertownshipnj.com/event/move-today/2026-03-20/
LOCATION:Stillwater Community Center/Stillwater Park\, 931 Swartswood Road\, Newton\, NJ\, 07877\, United States
CATEGORIES:Community Center Event
GEO:41.0840058;-74.8237998
X-APPLE-STRUCTURED-LOCATION;VALUE=URI;X-ADDRESS=Stillwater Community Center/Stillwater Park 931 Swartswood Road Newton NJ 07877 United States;X-APPLE-RADIUS=500;X-TITLE=931 Swartswood Road:geo:-74.8237998,41.0840058
END:VEVENT
BEGIN:VEVENT
DTSTART;TZID=America/New_York:20260318T173000
DTEND;TZID=America/New_York:20260318T203000
DTSTAMP:20260425T073855
CREATED:20250807T141232Z
LAST-MODIFIED:20250807T141232Z
UID:10007573-1773855000-1773865800@stillwatertownshipnj.com
SUMMARY:GS Troop 98451
DESCRIPTION:
URL:https://stillwatertownshipnj.com/event/gs-troop-98451/2026-03-18/
LOCATION:Stillwater Community Center/Stillwater Park\, 931 Swartswood Road\, Newton\, NJ\, 07877\, United States
CATEGORIES:Community Center Event
ATTACH;FMTTYPE=image/jpeg:https://stillwatertownshipnj.com/wp-content/uploads/2021/06/girl-scouts.jpg
GEO:41.0840058;-74.8237998
X-APPLE-STRUCTURED-LOCATION;VALUE=URI;X-ADDRESS=Stillwater Community Center/Stillwater Park 931 Swartswood Road Newton NJ 07877 United States;X-APPLE-RADIUS=500;X-TITLE=931 Swartswood Road:geo:-74.8237998,41.0840058
END:VEVENT
BEGIN:VEVENT
DTSTART;TZID=America/New_York:20260316T180000
DTEND;TZID=America/New_York:20260316T193000
DTSTAMP:20260425T073855
CREATED:20241126T180305Z
LAST-MODIFIED:20250107T180137Z
UID:10005164-1773684000-1773689400@stillwatertownshipnj.com
SUMMARY:Happy Together
DESCRIPTION:Women’s Acapella Singing Group
URL:https://stillwatertownshipnj.com/event/happy-together/2026-03-16/
LOCATION:Stillwater Community Center/Stillwater Park\, 931 Swartswood Road\, Newton\, NJ\, 07877\, United States
CATEGORIES:Community Center Event
ATTACH;FMTTYPE=image/jpeg:https://stillwatertownshipnj.com/wp-content/uploads/2024/05/music.jpg
GEO:41.0840058;-74.8237998
X-APPLE-STRUCTURED-LOCATION;VALUE=URI;X-ADDRESS=Stillwater Community Center/Stillwater Park 931 Swartswood Road Newton NJ 07877 United States;X-APPLE-RADIUS=500;X-TITLE=931 Swartswood Road:geo:-74.8237998,41.0840058
END:VEVENT
END:VCALENDAR