BEGIN:VCALENDAR
VERSION:2.0
PRODID:-//Stillwater Township - ECPv6.15.18//NONSGML v1.0//EN
CALSCALE:GREGORIAN
METHOD:PUBLISH
X-WR-CALNAME:Stillwater Township
X-ORIGINAL-URL:https://stillwatertownshipnj.com
X-WR-CALDESC:Events for Stillwater Township
REFRESH-INTERVAL;VALUE=DURATION:PT1H
X-Robots-Tag:noindex
X-PUBLISHED-TTL:PT1H
BEGIN:VTIMEZONE
TZID:America/New_York
BEGIN:DAYLIGHT
TZOFFSETFROM:-0500
TZOFFSETTO:-0400
TZNAME:EDT
DTSTART:20250309T070000
END:DAYLIGHT
BEGIN:STANDARD
TZOFFSETFROM:-0400
TZOFFSETTO:-0500
TZNAME:EST
DTSTART:20251102T060000
END:STANDARD
BEGIN:DAYLIGHT
TZOFFSETFROM:-0500
TZOFFSETTO:-0400
TZNAME:EDT
DTSTART:20260308T070000
END:DAYLIGHT
BEGIN:STANDARD
TZOFFSETFROM:-0400
TZOFFSETTO:-0500
TZNAME:EST
DTSTART:20261101T060000
END:STANDARD
BEGIN:DAYLIGHT
TZOFFSETFROM:-0500
TZOFFSETTO:-0400
TZNAME:EDT
DTSTART:20270314T070000
END:DAYLIGHT
BEGIN:STANDARD
TZOFFSETFROM:-0400
TZOFFSETTO:-0500
TZNAME:EST
DTSTART:20271107T060000
END:STANDARD
END:VTIMEZONE
BEGIN:VEVENT
DTSTART;TZID=America/New_York:20260608T180000
DTEND;TZID=America/New_York:20260608T193000
DTSTAMP:20260426T001053
CREATED:20241126T180305Z
LAST-MODIFIED:20250107T180137Z
UID:10005176-1780941600-1780947000@stillwatertownshipnj.com
SUMMARY:Happy Together
DESCRIPTION:Women’s Acapella Singing Group
URL:https://stillwatertownshipnj.com/event/happy-together/2026-06-08/
LOCATION:Stillwater Community Center/Stillwater Park\, 931 Swartswood Road\, Newton\, NJ\, 07877\, United States
CATEGORIES:Community Center Event
ATTACH;FMTTYPE=image/jpeg:https://stillwatertownshipnj.com/wp-content/uploads/2024/05/music.jpg
GEO:41.0840058;-74.8237998
X-APPLE-STRUCTURED-LOCATION;VALUE=URI;X-ADDRESS=Stillwater Community Center/Stillwater Park 931 Swartswood Road Newton NJ 07877 United States;X-APPLE-RADIUS=500;X-TITLE=931 Swartswood Road:geo:-74.8237998,41.0840058
END:VEVENT
BEGIN:VEVENT
DTSTART;TZID=America/New_York:20260609T130000
DTEND;TZID=America/New_York:20260609T143000
DTSTAMP:20260426T001053
CREATED:20251210T144048Z
LAST-MODIFIED:20251210T144048Z
UID:10007701-1781010000-1781015400@stillwatertownshipnj.com
SUMMARY:Community Safety Program
DESCRIPTION:
URL:https://stillwatertownshipnj.com/event/community-safety-program-8/
LOCATION:Stillwater Community Center/Stillwater Park\, 931 Swartswood Road\, Newton\, NJ\, 07877\, United States
CATEGORIES:Community Center Event
ATTACH;FMTTYPE=image/jpeg:https://stillwatertownshipnj.com/wp-content/uploads/2024/02/sheriff.jpg
GEO:41.0840058;-74.8237998
X-APPLE-STRUCTURED-LOCATION;VALUE=URI;X-ADDRESS=Stillwater Community Center/Stillwater Park 931 Swartswood Road Newton NJ 07877 United States;X-APPLE-RADIUS=500;X-TITLE=931 Swartswood Road:geo:-74.8237998,41.0840058
END:VEVENT
BEGIN:VEVENT
DTSTART;TZID=America/New_York:20260609T173000
DTEND;TZID=America/New_York:20260609T210000
DTSTAMP:20260426T001053
CREATED:20260424T125107Z
LAST-MODIFIED:20260424T125107Z
UID:10008001-1781026200-1781038800@stillwatertownshipnj.com
SUMMARY:Private Event
DESCRIPTION:
URL:https://stillwatertownshipnj.com/event/private-event-5/
LOCATION:Stillwater Community Center/Stillwater Park\, 931 Swartswood Road\, Newton\, NJ\, 07877\, United States
CATEGORIES:Community Center Event
GEO:41.0840058;-74.8237998
X-APPLE-STRUCTURED-LOCATION;VALUE=URI;X-ADDRESS=Stillwater Community Center/Stillwater Park 931 Swartswood Road Newton NJ 07877 United States;X-APPLE-RADIUS=500;X-TITLE=931 Swartswood Road:geo:-74.8237998,41.0840058
END:VEVENT
BEGIN:VEVENT
DTSTART;TZID=America/New_York:20260610T153000
DTEND;TZID=America/New_York:20260610T163000
DTSTAMP:20260426T001053
CREATED:20250807T133351Z
LAST-MODIFIED:20250807T133351Z
UID:10007553-1781105400-1781109000@stillwatertownshipnj.com
SUMMARY:Social Circle
DESCRIPTION:Hosted by the Sussex County Division of Social Services- more info to come soon!
URL:https://stillwatertownshipnj.com/event/social-circle/2026-06-10/
LOCATION:Stillwater Community Center/Stillwater Park\, 931 Swartswood Road\, Newton\, NJ\, 07877\, United States
CATEGORIES:Community Center Event
GEO:41.0840058;-74.8237998
X-APPLE-STRUCTURED-LOCATION;VALUE=URI;X-ADDRESS=Stillwater Community Center/Stillwater Park 931 Swartswood Road Newton NJ 07877 United States;X-APPLE-RADIUS=500;X-TITLE=931 Swartswood Road:geo:-74.8237998,41.0840058
END:VEVENT
BEGIN:VEVENT
DTSTART;TZID=America/New_York:20260610T190000
DTEND;TZID=America/New_York:20260610T220000
DTSTAMP:20260426T001053
CREATED:20241126T180304Z
LAST-MODIFIED:20241126T180304Z
UID:10004325-1781118000-1781128800@stillwatertownshipnj.com
SUMMARY:Paulinskill Lake Association Meeting
DESCRIPTION:Paulinskill Lake Association Meeting at the Stillwater Community Center. Second Wednesday of each month at 7:00pm.
URL:https://stillwatertownshipnj.com/event/paulinskill-lake-association-meeting-2/2026-06-10/
LOCATION:Stillwater Community Center/Stillwater Park\, 931 Swartswood Road\, Newton\, NJ\, 07877\, United States
CATEGORIES:Community Center Event
ATTACH;FMTTYPE=image/jpeg:https://stillwatertownshipnj.com/wp-content/uploads/2023/12/paulinskill-lake-association-image.jpg
GEO:41.0840058;-74.8237998
X-APPLE-STRUCTURED-LOCATION;VALUE=URI;X-ADDRESS=Stillwater Community Center/Stillwater Park 931 Swartswood Road Newton NJ 07877 United States;X-APPLE-RADIUS=500;X-TITLE=931 Swartswood Road:geo:-74.8237998,41.0840058
END:VEVENT
BEGIN:VEVENT
DTSTART;TZID=America/New_York:20260615T093000
DTEND;TZID=America/New_York:20260615T103000
DTSTAMP:20260426T001053
CREATED:20260226T143330Z
LAST-MODIFIED:20260226T143414Z
UID:10007897-1781515800-1781519400@stillwatertownshipnj.com
SUMMARY:Chair Yoga
DESCRIPTION:
URL:https://stillwatertownshipnj.com/event/chair-yoga-11/2026-06-15/
LOCATION:Stillwater Community Center/Stillwater Park\, 931 Swartswood Road\, Newton\, NJ\, 07877\, United States
CATEGORIES:Community Center Event
ATTACH;FMTTYPE=image/jpeg:https://stillwatertownshipnj.com/wp-content/uploads/2024/04/chair-yoga.jpg
GEO:41.0840058;-74.8237998
X-APPLE-STRUCTURED-LOCATION;VALUE=URI;X-ADDRESS=Stillwater Community Center/Stillwater Park 931 Swartswood Road Newton NJ 07877 United States;X-APPLE-RADIUS=500;X-TITLE=931 Swartswood Road:geo:-74.8237998,41.0840058
END:VEVENT
BEGIN:VEVENT
DTSTART;TZID=America/New_York:20260615T130000
DTEND;TZID=America/New_York:20260615T170000
DTSTAMP:20260426T001053
CREATED:20241126T180203Z
LAST-MODIFIED:20250128T144646Z
UID:10004602-1781528400-1781542800@stillwatertownshipnj.com
SUMMARY:Private Group
DESCRIPTION:
URL:https://stillwatertownshipnj.com/event/womens-mahjong/2026-06-15/
LOCATION:Stillwater Community Center/Stillwater Park\, 931 Swartswood Road\, Newton\, NJ\, 07877\, United States
CATEGORIES:Community Center Event
ATTACH;FMTTYPE=image/jpeg:https://stillwatertownshipnj.com/wp-content/uploads/2024/02/Mah-Jongg.jpg
GEO:41.0840058;-74.8237998
X-APPLE-STRUCTURED-LOCATION;VALUE=URI;X-ADDRESS=Stillwater Community Center/Stillwater Park 931 Swartswood Road Newton NJ 07877 United States;X-APPLE-RADIUS=500;X-TITLE=931 Swartswood Road:geo:-74.8237998,41.0840058
END:VEVENT
BEGIN:VEVENT
DTSTART;TZID=America/New_York:20260615T180000
DTEND;TZID=America/New_York:20260615T193000
DTSTAMP:20260426T001053
CREATED:20241126T180305Z
LAST-MODIFIED:20250107T180137Z
UID:10005177-1781546400-1781551800@stillwatertownshipnj.com
SUMMARY:Happy Together
DESCRIPTION:Women’s Acapella Singing Group
URL:https://stillwatertownshipnj.com/event/happy-together/2026-06-15/
LOCATION:Stillwater Community Center/Stillwater Park\, 931 Swartswood Road\, Newton\, NJ\, 07877\, United States
CATEGORIES:Community Center Event
ATTACH;FMTTYPE=image/jpeg:https://stillwatertownshipnj.com/wp-content/uploads/2024/05/music.jpg
GEO:41.0840058;-74.8237998
X-APPLE-STRUCTURED-LOCATION;VALUE=URI;X-ADDRESS=Stillwater Community Center/Stillwater Park 931 Swartswood Road Newton NJ 07877 United States;X-APPLE-RADIUS=500;X-TITLE=931 Swartswood Road:geo:-74.8237998,41.0840058
END:VEVENT
BEGIN:VEVENT
DTSTART;TZID=America/New_York:20260617T190000
DTEND;TZID=America/New_York:20260617T203000
DTSTAMP:20260426T001053
CREATED:20260227T145526Z
LAST-MODIFIED:20260227T145526Z
UID:10007980-1781722800-1781728200@stillwatertownshipnj.com
SUMMARY:CERT Meeting
DESCRIPTION:
URL:https://stillwatertownshipnj.com/event/cert-meeting-3/2026-06-17/
LOCATION:Stillwater Community Center/Stillwater Park\, 931 Swartswood Road\, Newton\, NJ\, 07877\, United States
CATEGORIES:Community Center Event
ATTACH;FMTTYPE=image/jpeg:https://stillwatertownshipnj.com/wp-content/uploads/2025/09/c-users-lknott-pictures-cert-jpg.jpeg
GEO:41.0840058;-74.8237998
X-APPLE-STRUCTURED-LOCATION;VALUE=URI;X-ADDRESS=Stillwater Community Center/Stillwater Park 931 Swartswood Road Newton NJ 07877 United States;X-APPLE-RADIUS=500;X-TITLE=931 Swartswood Road:geo:-74.8237998,41.0840058
END:VEVENT
BEGIN:VEVENT
DTSTART;TZID=America/New_York:20260619T173000
DTEND;TZID=America/New_York:20260619T210000
DTSTAMP:20260426T001053
CREATED:20250314T125315Z
LAST-MODIFIED:20250314T125845Z
UID:10006461-1781890200-1781902800@stillwatertownshipnj.com
SUMMARY:Cub Scout Pack 83 Meeting
DESCRIPTION:
URL:https://stillwatertownshipnj.com/event/cub-scout-pack-83-meeting-4-2/2026-06-19/
LOCATION:Stillwater Community Center/Stillwater Park\, 931 Swartswood Road\, Newton\, NJ\, 07877\, United States
CATEGORIES:Community Center Event
GEO:41.0840058;-74.8237998
X-APPLE-STRUCTURED-LOCATION;VALUE=URI;X-ADDRESS=Stillwater Community Center/Stillwater Park 931 Swartswood Road Newton NJ 07877 United States;X-APPLE-RADIUS=500;X-TITLE=931 Swartswood Road:geo:-74.8237998,41.0840058
END:VEVENT
BEGIN:VEVENT
DTSTART;VALUE=DATE:20260620
DTEND;VALUE=DATE:20260621
DTSTAMP:20260426T001053
CREATED:20260420T150919Z
LAST-MODIFIED:20260420T150919Z
UID:10007998-1781913600-1781999999@stillwatertownshipnj.com
SUMMARY:Private Party - Adams
DESCRIPTION:
URL:https://stillwatertownshipnj.com/event/private-party-adams/
LOCATION:Stillwater Community Center/Stillwater Park\, 931 Swartswood Road\, Newton\, NJ\, 07877\, United States
CATEGORIES:Community Center Event
GEO:41.0840058;-74.8237998
X-APPLE-STRUCTURED-LOCATION;VALUE=URI;X-ADDRESS=Stillwater Community Center/Stillwater Park 931 Swartswood Road Newton NJ 07877 United States;X-APPLE-RADIUS=500;X-TITLE=931 Swartswood Road:geo:-74.8237998,41.0840058
END:VEVENT
BEGIN:VEVENT
DTSTART;TZID=America/New_York:20260622T093000
DTEND;TZID=America/New_York:20260622T103000
DTSTAMP:20260426T001053
CREATED:20260226T143330Z
LAST-MODIFIED:20260226T143414Z
UID:10007898-1782120600-1782124200@stillwatertownshipnj.com
SUMMARY:Chair Yoga
DESCRIPTION:
URL:https://stillwatertownshipnj.com/event/chair-yoga-11/2026-06-22/
LOCATION:Stillwater Community Center/Stillwater Park\, 931 Swartswood Road\, Newton\, NJ\, 07877\, United States
CATEGORIES:Community Center Event
ATTACH;FMTTYPE=image/jpeg:https://stillwatertownshipnj.com/wp-content/uploads/2024/04/chair-yoga.jpg
GEO:41.0840058;-74.8237998
X-APPLE-STRUCTURED-LOCATION;VALUE=URI;X-ADDRESS=Stillwater Community Center/Stillwater Park 931 Swartswood Road Newton NJ 07877 United States;X-APPLE-RADIUS=500;X-TITLE=931 Swartswood Road:geo:-74.8237998,41.0840058
END:VEVENT
BEGIN:VEVENT
DTSTART;TZID=America/New_York:20260622T130000
DTEND;TZID=America/New_York:20260622T170000
DTSTAMP:20260426T001053
CREATED:20241126T180203Z
LAST-MODIFIED:20250128T144646Z
UID:10004603-1782133200-1782147600@stillwatertownshipnj.com
SUMMARY:Private Group
DESCRIPTION:
URL:https://stillwatertownshipnj.com/event/womens-mahjong/2026-06-22/
LOCATION:Stillwater Community Center/Stillwater Park\, 931 Swartswood Road\, Newton\, NJ\, 07877\, United States
CATEGORIES:Community Center Event
ATTACH;FMTTYPE=image/jpeg:https://stillwatertownshipnj.com/wp-content/uploads/2024/02/Mah-Jongg.jpg
GEO:41.0840058;-74.8237998
X-APPLE-STRUCTURED-LOCATION;VALUE=URI;X-ADDRESS=Stillwater Community Center/Stillwater Park 931 Swartswood Road Newton NJ 07877 United States;X-APPLE-RADIUS=500;X-TITLE=931 Swartswood Road:geo:-74.8237998,41.0840058
END:VEVENT
BEGIN:VEVENT
DTSTART;TZID=America/New_York:20260622T180000
DTEND;TZID=America/New_York:20260622T193000
DTSTAMP:20260426T001053
CREATED:20241126T180305Z
LAST-MODIFIED:20250107T180137Z
UID:10005178-1782151200-1782156600@stillwatertownshipnj.com
SUMMARY:Happy Together
DESCRIPTION:Women’s Acapella Singing Group
URL:https://stillwatertownshipnj.com/event/happy-together/2026-06-22/
LOCATION:Stillwater Community Center/Stillwater Park\, 931 Swartswood Road\, Newton\, NJ\, 07877\, United States
CATEGORIES:Community Center Event
ATTACH;FMTTYPE=image/jpeg:https://stillwatertownshipnj.com/wp-content/uploads/2024/05/music.jpg
GEO:41.0840058;-74.8237998
X-APPLE-STRUCTURED-LOCATION;VALUE=URI;X-ADDRESS=Stillwater Community Center/Stillwater Park 931 Swartswood Road Newton NJ 07877 United States;X-APPLE-RADIUS=500;X-TITLE=931 Swartswood Road:geo:-74.8237998,41.0840058
END:VEVENT
BEGIN:VEVENT
DTSTART;TZID=America/New_York:20260624T173000
DTEND;TZID=America/New_York:20260624T203000
DTSTAMP:20260426T001053
CREATED:20250807T141232Z
LAST-MODIFIED:20250807T141232Z
UID:10007578-1782322200-1782333000@stillwatertownshipnj.com
SUMMARY:GS Troop 98451
DESCRIPTION:
URL:https://stillwatertownshipnj.com/event/gs-troop-98451/2026-06-24/
LOCATION:Stillwater Community Center/Stillwater Park\, 931 Swartswood Road\, Newton\, NJ\, 07877\, United States
CATEGORIES:Community Center Event
ATTACH;FMTTYPE=image/jpeg:https://stillwatertownshipnj.com/wp-content/uploads/2021/06/girl-scouts.jpg
GEO:41.0840058;-74.8237998
X-APPLE-STRUCTURED-LOCATION;VALUE=URI;X-ADDRESS=Stillwater Community Center/Stillwater Park 931 Swartswood Road Newton NJ 07877 United States;X-APPLE-RADIUS=500;X-TITLE=931 Swartswood Road:geo:-74.8237998,41.0840058
END:VEVENT
BEGIN:VEVENT
DTSTART;TZID=America/New_York:20260626T090000
DTEND;TZID=America/New_York:20260626T150000
DTSTAMP:20260426T001053
CREATED:20251204T163758Z
LAST-MODIFIED:20251204T163758Z
UID:10007690-1782464400-1782486000@stillwatertownshipnj.com
SUMMARY:American Sewing Guild
DESCRIPTION:
URL:https://stillwatertownshipnj.com/event/american-sewing-guild-15/
LOCATION:Stillwater Community Center/Stillwater Park\, 931 Swartswood Road\, Newton\, NJ\, 07877\, United States
CATEGORIES:Community Center Event
GEO:41.0840058;-74.8237998
X-APPLE-STRUCTURED-LOCATION;VALUE=URI;X-ADDRESS=Stillwater Community Center/Stillwater Park 931 Swartswood Road Newton NJ 07877 United States;X-APPLE-RADIUS=500;X-TITLE=931 Swartswood Road:geo:-74.8237998,41.0840058
END:VEVENT
BEGIN:VEVENT
DTSTART;TZID=America/New_York:20260629T093000
DTEND;TZID=America/New_York:20260629T103000
DTSTAMP:20260426T001053
CREATED:20260226T143330Z
LAST-MODIFIED:20260226T143414Z
UID:10007899-1782725400-1782729000@stillwatertownshipnj.com
SUMMARY:Chair Yoga
DESCRIPTION:
URL:https://stillwatertownshipnj.com/event/chair-yoga-11/2026-06-29/
LOCATION:Stillwater Community Center/Stillwater Park\, 931 Swartswood Road\, Newton\, NJ\, 07877\, United States
CATEGORIES:Community Center Event
ATTACH;FMTTYPE=image/jpeg:https://stillwatertownshipnj.com/wp-content/uploads/2024/04/chair-yoga.jpg
GEO:41.0840058;-74.8237998
X-APPLE-STRUCTURED-LOCATION;VALUE=URI;X-ADDRESS=Stillwater Community Center/Stillwater Park 931 Swartswood Road Newton NJ 07877 United States;X-APPLE-RADIUS=500;X-TITLE=931 Swartswood Road:geo:-74.8237998,41.0840058
END:VEVENT
BEGIN:VEVENT
DTSTART;TZID=America/New_York:20260629T130000
DTEND;TZID=America/New_York:20260629T170000
DTSTAMP:20260426T001053
CREATED:20241126T180203Z
LAST-MODIFIED:20250128T144646Z
UID:10004604-1782738000-1782752400@stillwatertownshipnj.com
SUMMARY:Private Group
DESCRIPTION:
URL:https://stillwatertownshipnj.com/event/womens-mahjong/2026-06-29/
LOCATION:Stillwater Community Center/Stillwater Park\, 931 Swartswood Road\, Newton\, NJ\, 07877\, United States
CATEGORIES:Community Center Event
ATTACH;FMTTYPE=image/jpeg:https://stillwatertownshipnj.com/wp-content/uploads/2024/02/Mah-Jongg.jpg
GEO:41.0840058;-74.8237998
X-APPLE-STRUCTURED-LOCATION;VALUE=URI;X-ADDRESS=Stillwater Community Center/Stillwater Park 931 Swartswood Road Newton NJ 07877 United States;X-APPLE-RADIUS=500;X-TITLE=931 Swartswood Road:geo:-74.8237998,41.0840058
END:VEVENT
BEGIN:VEVENT
DTSTART;TZID=America/New_York:20260629T180000
DTEND;TZID=America/New_York:20260629T193000
DTSTAMP:20260426T001053
CREATED:20241126T180305Z
LAST-MODIFIED:20250107T180137Z
UID:10005179-1782756000-1782761400@stillwatertownshipnj.com
SUMMARY:Happy Together
DESCRIPTION:Women’s Acapella Singing Group
URL:https://stillwatertownshipnj.com/event/happy-together/2026-06-29/
LOCATION:Stillwater Community Center/Stillwater Park\, 931 Swartswood Road\, Newton\, NJ\, 07877\, United States
CATEGORIES:Community Center Event
ATTACH;FMTTYPE=image/jpeg:https://stillwatertownshipnj.com/wp-content/uploads/2024/05/music.jpg
GEO:41.0840058;-74.8237998
X-APPLE-STRUCTURED-LOCATION;VALUE=URI;X-ADDRESS=Stillwater Community Center/Stillwater Park 931 Swartswood Road Newton NJ 07877 United States;X-APPLE-RADIUS=500;X-TITLE=931 Swartswood Road:geo:-74.8237998,41.0840058
END:VEVENT
BEGIN:VEVENT
DTSTART;TZID=America/New_York:20260703T173000
DTEND;TZID=America/New_York:20260703T210000
DTSTAMP:20260426T001053
CREATED:20250314T125546Z
LAST-MODIFIED:20250314T125546Z
UID:10006940-1783099800-1783112400@stillwatertownshipnj.com
SUMMARY:Cub Scout Pack 83 Meeting
DESCRIPTION:
URL:https://stillwatertownshipnj.com/event/cub-scout-pack-83-meeting-5/2026-07-03/
LOCATION:Stillwater Community Center/Stillwater Park\, 931 Swartswood Road\, Newton\, NJ\, 07877\, United States
CATEGORIES:Community Center Event
ATTACH;FMTTYPE=image/png:https://stillwatertownshipnj.com/wp-content/uploads/2021/10/boy-Scouts-2.png
GEO:41.0840058;-74.8237998
X-APPLE-STRUCTURED-LOCATION;VALUE=URI;X-ADDRESS=Stillwater Community Center/Stillwater Park 931 Swartswood Road Newton NJ 07877 United States;X-APPLE-RADIUS=500;X-TITLE=931 Swartswood Road:geo:-74.8237998,41.0840058
END:VEVENT
BEGIN:VEVENT
DTSTART;TZID=America/New_York:20260706T093000
DTEND;TZID=America/New_York:20260706T103000
DTSTAMP:20260426T001053
CREATED:20260226T143330Z
LAST-MODIFIED:20260226T143414Z
UID:10007900-1783330200-1783333800@stillwatertownshipnj.com
SUMMARY:Chair Yoga
DESCRIPTION:
URL:https://stillwatertownshipnj.com/event/chair-yoga-11/2026-07-06/
LOCATION:Stillwater Community Center/Stillwater Park\, 931 Swartswood Road\, Newton\, NJ\, 07877\, United States
CATEGORIES:Community Center Event
ATTACH;FMTTYPE=image/jpeg:https://stillwatertownshipnj.com/wp-content/uploads/2024/04/chair-yoga.jpg
GEO:41.0840058;-74.8237998
X-APPLE-STRUCTURED-LOCATION;VALUE=URI;X-ADDRESS=Stillwater Community Center/Stillwater Park 931 Swartswood Road Newton NJ 07877 United States;X-APPLE-RADIUS=500;X-TITLE=931 Swartswood Road:geo:-74.8237998,41.0840058
END:VEVENT
BEGIN:VEVENT
DTSTART;TZID=America/New_York:20260706T130000
DTEND;TZID=America/New_York:20260706T170000
DTSTAMP:20260426T001053
CREATED:20241126T180203Z
LAST-MODIFIED:20250128T144646Z
UID:10004605-1783342800-1783357200@stillwatertownshipnj.com
SUMMARY:Private Group
DESCRIPTION:
URL:https://stillwatertownshipnj.com/event/womens-mahjong/2026-07-06/
LOCATION:Stillwater Community Center/Stillwater Park\, 931 Swartswood Road\, Newton\, NJ\, 07877\, United States
CATEGORIES:Community Center Event
ATTACH;FMTTYPE=image/jpeg:https://stillwatertownshipnj.com/wp-content/uploads/2024/02/Mah-Jongg.jpg
GEO:41.0840058;-74.8237998
X-APPLE-STRUCTURED-LOCATION;VALUE=URI;X-ADDRESS=Stillwater Community Center/Stillwater Park 931 Swartswood Road Newton NJ 07877 United States;X-APPLE-RADIUS=500;X-TITLE=931 Swartswood Road:geo:-74.8237998,41.0840058
END:VEVENT
BEGIN:VEVENT
DTSTART;TZID=America/New_York:20260706T180000
DTEND;TZID=America/New_York:20260706T193000
DTSTAMP:20260426T001053
CREATED:20241126T180305Z
LAST-MODIFIED:20250107T180137Z
UID:10005180-1783360800-1783366200@stillwatertownshipnj.com
SUMMARY:Happy Together
DESCRIPTION:Women’s Acapella Singing Group
URL:https://stillwatertownshipnj.com/event/happy-together/2026-07-06/
LOCATION:Stillwater Community Center/Stillwater Park\, 931 Swartswood Road\, Newton\, NJ\, 07877\, United States
CATEGORIES:Community Center Event
ATTACH;FMTTYPE=image/jpeg:https://stillwatertownshipnj.com/wp-content/uploads/2024/05/music.jpg
GEO:41.0840058;-74.8237998
X-APPLE-STRUCTURED-LOCATION;VALUE=URI;X-ADDRESS=Stillwater Community Center/Stillwater Park 931 Swartswood Road Newton NJ 07877 United States;X-APPLE-RADIUS=500;X-TITLE=931 Swartswood Road:geo:-74.8237998,41.0840058
END:VEVENT
BEGIN:VEVENT
DTSTART;TZID=America/New_York:20260707T130000
DTEND;TZID=America/New_York:20260707T143000
DTSTAMP:20260426T001053
CREATED:20251210T133525Z
LAST-MODIFIED:20251210T143800Z
UID:10007696-1783429200-1783434600@stillwatertownshipnj.com
SUMMARY:Community Safety Program
DESCRIPTION:More info coming soon!
URL:https://stillwatertownshipnj.com/event/community-safety-program-4/
LOCATION:Stillwater Community Center/Stillwater Park\, 931 Swartswood Road\, Newton\, NJ\, 07877\, United States
CATEGORIES:Community Center Event
GEO:41.0840058;-74.8237998
X-APPLE-STRUCTURED-LOCATION;VALUE=URI;X-ADDRESS=Stillwater Community Center/Stillwater Park 931 Swartswood Road Newton NJ 07877 United States;X-APPLE-RADIUS=500;X-TITLE=931 Swartswood Road:geo:-74.8237998,41.0840058
END:VEVENT
BEGIN:VEVENT
DTSTART;TZID=America/New_York:20260708T190000
DTEND;TZID=America/New_York:20260708T220000
DTSTAMP:20260426T001053
CREATED:20241126T180304Z
LAST-MODIFIED:20241126T180304Z
UID:10004326-1783537200-1783548000@stillwatertownshipnj.com
SUMMARY:Paulinskill Lake Association Meeting
DESCRIPTION:Paulinskill Lake Association Meeting at the Stillwater Community Center. Second Wednesday of each month at 7:00pm.
URL:https://stillwatertownshipnj.com/event/paulinskill-lake-association-meeting-2/2026-07-08/
LOCATION:Stillwater Community Center/Stillwater Park\, 931 Swartswood Road\, Newton\, NJ\, 07877\, United States
CATEGORIES:Community Center Event
ATTACH;FMTTYPE=image/jpeg:https://stillwatertownshipnj.com/wp-content/uploads/2023/12/paulinskill-lake-association-image.jpg
GEO:41.0840058;-74.8237998
X-APPLE-STRUCTURED-LOCATION;VALUE=URI;X-ADDRESS=Stillwater Community Center/Stillwater Park 931 Swartswood Road Newton NJ 07877 United States;X-APPLE-RADIUS=500;X-TITLE=931 Swartswood Road:geo:-74.8237998,41.0840058
END:VEVENT
BEGIN:VEVENT
DTSTART;TZID=America/New_York:20260713T130000
DTEND;TZID=America/New_York:20260713T170000
DTSTAMP:20260426T001053
CREATED:20241126T180203Z
LAST-MODIFIED:20250128T144646Z
UID:10004606-1783947600-1783962000@stillwatertownshipnj.com
SUMMARY:Private Group
DESCRIPTION:
URL:https://stillwatertownshipnj.com/event/womens-mahjong/2026-07-13/
LOCATION:Stillwater Community Center/Stillwater Park\, 931 Swartswood Road\, Newton\, NJ\, 07877\, United States
CATEGORIES:Community Center Event
ATTACH;FMTTYPE=image/jpeg:https://stillwatertownshipnj.com/wp-content/uploads/2024/02/Mah-Jongg.jpg
GEO:41.0840058;-74.8237998
X-APPLE-STRUCTURED-LOCATION;VALUE=URI;X-ADDRESS=Stillwater Community Center/Stillwater Park 931 Swartswood Road Newton NJ 07877 United States;X-APPLE-RADIUS=500;X-TITLE=931 Swartswood Road:geo:-74.8237998,41.0840058
END:VEVENT
BEGIN:VEVENT
DTSTART;TZID=America/New_York:20260713T180000
DTEND;TZID=America/New_York:20260713T193000
DTSTAMP:20260426T001053
CREATED:20241126T180305Z
LAST-MODIFIED:20250107T180137Z
UID:10005181-1783965600-1783971000@stillwatertownshipnj.com
SUMMARY:Happy Together
DESCRIPTION:Women’s Acapella Singing Group
URL:https://stillwatertownshipnj.com/event/happy-together/2026-07-13/
LOCATION:Stillwater Community Center/Stillwater Park\, 931 Swartswood Road\, Newton\, NJ\, 07877\, United States
CATEGORIES:Community Center Event
ATTACH;FMTTYPE=image/jpeg:https://stillwatertownshipnj.com/wp-content/uploads/2024/05/music.jpg
GEO:41.0840058;-74.8237998
X-APPLE-STRUCTURED-LOCATION;VALUE=URI;X-ADDRESS=Stillwater Community Center/Stillwater Park 931 Swartswood Road Newton NJ 07877 United States;X-APPLE-RADIUS=500;X-TITLE=931 Swartswood Road:geo:-74.8237998,41.0840058
END:VEVENT
BEGIN:VEVENT
DTSTART;TZID=America/New_York:20260715T153000
DTEND;TZID=America/New_York:20260715T163000
DTSTAMP:20260426T001053
CREATED:20250807T133351Z
LAST-MODIFIED:20250807T133351Z
UID:10007554-1784129400-1784133000@stillwatertownshipnj.com
SUMMARY:Social Circle
DESCRIPTION:Hosted by the Sussex County Division of Social Services- more info to come soon!
URL:https://stillwatertownshipnj.com/event/social-circle/2026-07-15/
LOCATION:Stillwater Community Center/Stillwater Park\, 931 Swartswood Road\, Newton\, NJ\, 07877\, United States
CATEGORIES:Community Center Event
GEO:41.0840058;-74.8237998
X-APPLE-STRUCTURED-LOCATION;VALUE=URI;X-ADDRESS=Stillwater Community Center/Stillwater Park 931 Swartswood Road Newton NJ 07877 United States;X-APPLE-RADIUS=500;X-TITLE=931 Swartswood Road:geo:-74.8237998,41.0840058
END:VEVENT
BEGIN:VEVENT
DTSTART;TZID=America/New_York:20260717T173000
DTEND;TZID=America/New_York:20260717T210000
DTSTAMP:20260426T001053
CREATED:20250314T125315Z
LAST-MODIFIED:20250314T125845Z
UID:10006465-1784309400-1784322000@stillwatertownshipnj.com
SUMMARY:Cub Scout Pack 83 Meeting
DESCRIPTION:
URL:https://stillwatertownshipnj.com/event/cub-scout-pack-83-meeting-4-2/2026-07-17/
LOCATION:Stillwater Community Center/Stillwater Park\, 931 Swartswood Road\, Newton\, NJ\, 07877\, United States
CATEGORIES:Community Center Event
GEO:41.0840058;-74.8237998
X-APPLE-STRUCTURED-LOCATION;VALUE=URI;X-ADDRESS=Stillwater Community Center/Stillwater Park 931 Swartswood Road Newton NJ 07877 United States;X-APPLE-RADIUS=500;X-TITLE=931 Swartswood Road:geo:-74.8237998,41.0840058
END:VEVENT
BEGIN:VEVENT
DTSTART;TZID=America/New_York:20260720T130000
DTEND;TZID=America/New_York:20260720T170000
DTSTAMP:20260426T001053
CREATED:20241126T180203Z
LAST-MODIFIED:20250128T144646Z
UID:10004607-1784552400-1784566800@stillwatertownshipnj.com
SUMMARY:Private Group
DESCRIPTION:
URL:https://stillwatertownshipnj.com/event/womens-mahjong/2026-07-20/
LOCATION:Stillwater Community Center/Stillwater Park\, 931 Swartswood Road\, Newton\, NJ\, 07877\, United States
CATEGORIES:Community Center Event
ATTACH;FMTTYPE=image/jpeg:https://stillwatertownshipnj.com/wp-content/uploads/2024/02/Mah-Jongg.jpg
GEO:41.0840058;-74.8237998
X-APPLE-STRUCTURED-LOCATION;VALUE=URI;X-ADDRESS=Stillwater Community Center/Stillwater Park 931 Swartswood Road Newton NJ 07877 United States;X-APPLE-RADIUS=500;X-TITLE=931 Swartswood Road:geo:-74.8237998,41.0840058
END:VEVENT
END:VCALENDAR