BEGIN:VCALENDAR
VERSION:2.0
PRODID:-//Stillwater Township - ECPv6.15.18//NONSGML v1.0//EN
CALSCALE:GREGORIAN
METHOD:PUBLISH
X-WR-CALNAME:Stillwater Township
X-ORIGINAL-URL:https://stillwatertownshipnj.com
X-WR-CALDESC:Events for Stillwater Township
REFRESH-INTERVAL;VALUE=DURATION:PT1H
X-Robots-Tag:noindex
X-PUBLISHED-TTL:PT1H
BEGIN:VTIMEZONE
TZID:America/New_York
BEGIN:DAYLIGHT
TZOFFSETFROM:-0500
TZOFFSETTO:-0400
TZNAME:EDT
DTSTART:20250309T070000
END:DAYLIGHT
BEGIN:STANDARD
TZOFFSETFROM:-0400
TZOFFSETTO:-0500
TZNAME:EST
DTSTART:20251102T060000
END:STANDARD
BEGIN:DAYLIGHT
TZOFFSETFROM:-0500
TZOFFSETTO:-0400
TZNAME:EDT
DTSTART:20260308T070000
END:DAYLIGHT
BEGIN:STANDARD
TZOFFSETFROM:-0400
TZOFFSETTO:-0500
TZNAME:EST
DTSTART:20261101T060000
END:STANDARD
BEGIN:DAYLIGHT
TZOFFSETFROM:-0500
TZOFFSETTO:-0400
TZNAME:EDT
DTSTART:20270314T070000
END:DAYLIGHT
BEGIN:STANDARD
TZOFFSETFROM:-0400
TZOFFSETTO:-0500
TZNAME:EST
DTSTART:20271107T060000
END:STANDARD
END:VTIMEZONE
BEGIN:VEVENT
DTSTART;TZID=America/New_York:20260323T180000
DTEND;TZID=America/New_York:20260323T193000
DTSTAMP:20260425T180640
CREATED:20241126T180305Z
LAST-MODIFIED:20250107T180137Z
UID:10005165-1774288800-1774294200@stillwatertownshipnj.com
SUMMARY:Happy Together
DESCRIPTION:Women’s Acapella Singing Group
URL:https://stillwatertownshipnj.com/event/happy-together/2026-03-23/
LOCATION:Stillwater Community Center/Stillwater Park\, 931 Swartswood Road\, Newton\, NJ\, 07877\, United States
CATEGORIES:Community Center Event
ATTACH;FMTTYPE=image/jpeg:https://stillwatertownshipnj.com/wp-content/uploads/2024/05/music.jpg
GEO:41.0840058;-74.8237998
X-APPLE-STRUCTURED-LOCATION;VALUE=URI;X-ADDRESS=Stillwater Community Center/Stillwater Park 931 Swartswood Road Newton NJ 07877 United States;X-APPLE-RADIUS=500;X-TITLE=931 Swartswood Road:geo:-74.8237998,41.0840058
END:VEVENT
BEGIN:VEVENT
DTSTART;TZID=America/New_York:20260323T130000
DTEND;TZID=America/New_York:20260323T170000
DTSTAMP:20260425T180640
CREATED:20241126T180203Z
LAST-MODIFIED:20250128T144646Z
UID:10004590-1774270800-1774285200@stillwatertownshipnj.com
SUMMARY:Private Group
DESCRIPTION:
URL:https://stillwatertownshipnj.com/event/womens-mahjong/2026-03-23/
LOCATION:Stillwater Community Center/Stillwater Park\, 931 Swartswood Road\, Newton\, NJ\, 07877\, United States
CATEGORIES:Community Center Event
ATTACH;FMTTYPE=image/jpeg:https://stillwatertownshipnj.com/wp-content/uploads/2024/02/Mah-Jongg.jpg
GEO:41.0840058;-74.8237998
X-APPLE-STRUCTURED-LOCATION;VALUE=URI;X-ADDRESS=Stillwater Community Center/Stillwater Park 931 Swartswood Road Newton NJ 07877 United States;X-APPLE-RADIUS=500;X-TITLE=931 Swartswood Road:geo:-74.8237998,41.0840058
END:VEVENT
BEGIN:VEVENT
DTSTART;TZID=America/New_York:20260320T173000
DTEND;TZID=America/New_York:20260320T210000
DTSTAMP:20260425T180640
CREATED:20250314T125315Z
LAST-MODIFIED:20250314T125845Z
UID:10006816-1774027800-1774040400@stillwatertownshipnj.com
SUMMARY:Cub Scout Pack 83 Meeting
DESCRIPTION:
URL:https://stillwatertownshipnj.com/event/cub-scout-pack-83-meeting-4-2/2026-03-20/
LOCATION:Stillwater Community Center/Stillwater Park\, 931 Swartswood Road\, Newton\, NJ\, 07877\, United States
CATEGORIES:Community Center Event
GEO:41.0840058;-74.8237998
X-APPLE-STRUCTURED-LOCATION;VALUE=URI;X-ADDRESS=Stillwater Community Center/Stillwater Park 931 Swartswood Road Newton NJ 07877 United States;X-APPLE-RADIUS=500;X-TITLE=931 Swartswood Road:geo:-74.8237998,41.0840058
END:VEVENT
BEGIN:VEVENT
DTSTART;TZID=America/New_York:20260320T130000
DTEND;TZID=America/New_York:20260320T140000
DTSTAMP:20260425T180640
CREATED:20250807T132632Z
LAST-MODIFIED:20250807T132632Z
UID:10007468-1774011600-1774015200@stillwatertownshipnj.com
SUMMARY:Move Today
DESCRIPTION:Hosted by the Sussex County Division of Social Services- more info to come soon!
URL:https://stillwatertownshipnj.com/event/move-today/2026-03-20/
LOCATION:Stillwater Community Center/Stillwater Park\, 931 Swartswood Road\, Newton\, NJ\, 07877\, United States
CATEGORIES:Community Center Event
GEO:41.0840058;-74.8237998
X-APPLE-STRUCTURED-LOCATION;VALUE=URI;X-ADDRESS=Stillwater Community Center/Stillwater Park 931 Swartswood Road Newton NJ 07877 United States;X-APPLE-RADIUS=500;X-TITLE=931 Swartswood Road:geo:-74.8237998,41.0840058
END:VEVENT
BEGIN:VEVENT
DTSTART;TZID=America/New_York:20260318T173000
DTEND;TZID=America/New_York:20260318T203000
DTSTAMP:20260425T180640
CREATED:20250807T141232Z
LAST-MODIFIED:20250807T141232Z
UID:10007573-1773855000-1773865800@stillwatertownshipnj.com
SUMMARY:GS Troop 98451
DESCRIPTION:
URL:https://stillwatertownshipnj.com/event/gs-troop-98451/2026-03-18/
LOCATION:Stillwater Community Center/Stillwater Park\, 931 Swartswood Road\, Newton\, NJ\, 07877\, United States
CATEGORIES:Community Center Event
ATTACH;FMTTYPE=image/jpeg:https://stillwatertownshipnj.com/wp-content/uploads/2021/06/girl-scouts.jpg
GEO:41.0840058;-74.8237998
X-APPLE-STRUCTURED-LOCATION;VALUE=URI;X-ADDRESS=Stillwater Community Center/Stillwater Park 931 Swartswood Road Newton NJ 07877 United States;X-APPLE-RADIUS=500;X-TITLE=931 Swartswood Road:geo:-74.8237998,41.0840058
END:VEVENT
BEGIN:VEVENT
DTSTART;TZID=America/New_York:20260316T180000
DTEND;TZID=America/New_York:20260316T193000
DTSTAMP:20260425T180640
CREATED:20241126T180305Z
LAST-MODIFIED:20250107T180137Z
UID:10005164-1773684000-1773689400@stillwatertownshipnj.com
SUMMARY:Happy Together
DESCRIPTION:Women’s Acapella Singing Group
URL:https://stillwatertownshipnj.com/event/happy-together/2026-03-16/
LOCATION:Stillwater Community Center/Stillwater Park\, 931 Swartswood Road\, Newton\, NJ\, 07877\, United States
CATEGORIES:Community Center Event
ATTACH;FMTTYPE=image/jpeg:https://stillwatertownshipnj.com/wp-content/uploads/2024/05/music.jpg
GEO:41.0840058;-74.8237998
X-APPLE-STRUCTURED-LOCATION;VALUE=URI;X-ADDRESS=Stillwater Community Center/Stillwater Park 931 Swartswood Road Newton NJ 07877 United States;X-APPLE-RADIUS=500;X-TITLE=931 Swartswood Road:geo:-74.8237998,41.0840058
END:VEVENT
BEGIN:VEVENT
DTSTART;TZID=America/New_York:20260316T130000
DTEND;TZID=America/New_York:20260316T170000
DTSTAMP:20260425T180640
CREATED:20241126T180203Z
LAST-MODIFIED:20250128T144646Z
UID:10004589-1773666000-1773680400@stillwatertownshipnj.com
SUMMARY:Private Group
DESCRIPTION:
URL:https://stillwatertownshipnj.com/event/womens-mahjong/2026-03-16/
LOCATION:Stillwater Community Center/Stillwater Park\, 931 Swartswood Road\, Newton\, NJ\, 07877\, United States
CATEGORIES:Community Center Event
ATTACH;FMTTYPE=image/jpeg:https://stillwatertownshipnj.com/wp-content/uploads/2024/02/Mah-Jongg.jpg
GEO:41.0840058;-74.8237998
X-APPLE-STRUCTURED-LOCATION;VALUE=URI;X-ADDRESS=Stillwater Community Center/Stillwater Park 931 Swartswood Road Newton NJ 07877 United States;X-APPLE-RADIUS=500;X-TITLE=931 Swartswood Road:geo:-74.8237998,41.0840058
END:VEVENT
BEGIN:VEVENT
DTSTART;TZID=America/New_York:20260313T130000
DTEND;TZID=America/New_York:20260313T140000
DTSTAMP:20260425T180640
CREATED:20250807T132632Z
LAST-MODIFIED:20250807T132632Z
UID:10007467-1773406800-1773410400@stillwatertownshipnj.com
SUMMARY:Move Today
DESCRIPTION:Hosted by the Sussex County Division of Social Services- more info to come soon!
URL:https://stillwatertownshipnj.com/event/move-today/2026-03-13/
LOCATION:Stillwater Community Center/Stillwater Park\, 931 Swartswood Road\, Newton\, NJ\, 07877\, United States
CATEGORIES:Community Center Event
GEO:41.0840058;-74.8237998
X-APPLE-STRUCTURED-LOCATION;VALUE=URI;X-ADDRESS=Stillwater Community Center/Stillwater Park 931 Swartswood Road Newton NJ 07877 United States;X-APPLE-RADIUS=500;X-TITLE=931 Swartswood Road:geo:-74.8237998,41.0840058
END:VEVENT
BEGIN:VEVENT
DTSTART;TZID=America/New_York:20260311T190000
DTEND;TZID=America/New_York:20260311T220000
DTSTAMP:20260425T180640
CREATED:20241126T180304Z
LAST-MODIFIED:20241126T180304Z
UID:10004322-1773255600-1773266400@stillwatertownshipnj.com
SUMMARY:Paulinskill Lake Association Meeting
DESCRIPTION:Paulinskill Lake Association Meeting at the Stillwater Community Center. Second Wednesday of each month at 7:00pm.
URL:https://stillwatertownshipnj.com/event/paulinskill-lake-association-meeting-2/2026-03-11/
LOCATION:Stillwater Community Center/Stillwater Park\, 931 Swartswood Road\, Newton\, NJ\, 07877\, United States
CATEGORIES:Community Center Event
ATTACH;FMTTYPE=image/jpeg:https://stillwatertownshipnj.com/wp-content/uploads/2023/12/paulinskill-lake-association-image.jpg
GEO:41.0840058;-74.8237998
X-APPLE-STRUCTURED-LOCATION;VALUE=URI;X-ADDRESS=Stillwater Community Center/Stillwater Park 931 Swartswood Road Newton NJ 07877 United States;X-APPLE-RADIUS=500;X-TITLE=931 Swartswood Road:geo:-74.8237998,41.0840058
END:VEVENT
BEGIN:VEVENT
DTSTART;TZID=America/New_York:20260311T153000
DTEND;TZID=America/New_York:20260311T163000
DTSTAMP:20260425T180640
CREATED:20250807T133351Z
LAST-MODIFIED:20250807T133351Z
UID:10007550-1773243000-1773246600@stillwatertownshipnj.com
SUMMARY:Social Circle
DESCRIPTION:Hosted by the Sussex County Division of Social Services- more info to come soon!
URL:https://stillwatertownshipnj.com/event/social-circle/2026-03-11/
LOCATION:Stillwater Community Center/Stillwater Park\, 931 Swartswood Road\, Newton\, NJ\, 07877\, United States
CATEGORIES:Community Center Event
GEO:41.0840058;-74.8237998
X-APPLE-STRUCTURED-LOCATION;VALUE=URI;X-ADDRESS=Stillwater Community Center/Stillwater Park 931 Swartswood Road Newton NJ 07877 United States;X-APPLE-RADIUS=500;X-TITLE=931 Swartswood Road:geo:-74.8237998,41.0840058
END:VEVENT
BEGIN:VEVENT
DTSTART;TZID=America/New_York:20260310T143000
DTEND;TZID=America/New_York:20260310T160000
DTSTAMP:20260425T180640
CREATED:20260310T112547Z
LAST-MODIFIED:20260310T112547Z
UID:10007989-1773153000-1773158400@stillwatertownshipnj.com
SUMMARY:Dot Mobile Library
DESCRIPTION:The Sussex County mobile library will be at the Stillwater Community Center from 2:30pm to 4:00pm. You can borrow books\, return materials\, get or renew your library card\, access Wi-Fi\, chat with library staff\, & more!
URL:https://stillwatertownshipnj.com/event/dot-mobile-library/
LOCATION:Stillwater Community Center/Stillwater Park\, 931 Swartswood Road\, Newton\, NJ\, 07877\, United States
CATEGORIES:Community Center Event
GEO:41.0840058;-74.8237998
X-APPLE-STRUCTURED-LOCATION;VALUE=URI;X-ADDRESS=Stillwater Community Center/Stillwater Park 931 Swartswood Road Newton NJ 07877 United States;X-APPLE-RADIUS=500;X-TITLE=931 Swartswood Road:geo:-74.8237998,41.0840058
END:VEVENT
BEGIN:VEVENT
DTSTART;TZID=America/New_York:20260310T130000
DTEND;TZID=America/New_York:20260310T143000
DTSTAMP:20260425T180640
CREATED:20251210T133238Z
LAST-MODIFIED:20260310T113000Z
UID:10007693-1773147600-1773153000@stillwatertownshipnj.com
SUMMARY:Community Safety Program
DESCRIPTION:This program is called ‘March Madness’ and will be presented by Lisa Chammings. For more info\, email cert@stillwatertwp.com or call (973) 534-2318.
URL:https://stillwatertownshipnj.com/event/community-safety-program/
LOCATION:Stillwater Community Center/Stillwater Park\, 931 Swartswood Road\, Newton\, NJ\, 07877\, United States
CATEGORIES:Community Center Event
GEO:41.0840058;-74.8237998
X-APPLE-STRUCTURED-LOCATION;VALUE=URI;X-ADDRESS=Stillwater Community Center/Stillwater Park 931 Swartswood Road Newton NJ 07877 United States;X-APPLE-RADIUS=500;X-TITLE=931 Swartswood Road:geo:-74.8237998,41.0840058
END:VEVENT
BEGIN:VEVENT
DTSTART;TZID=America/New_York:20260309T180000
DTEND;TZID=America/New_York:20260309T193000
DTSTAMP:20260425T180640
CREATED:20241126T180305Z
LAST-MODIFIED:20250107T180137Z
UID:10005163-1773079200-1773084600@stillwatertownshipnj.com
SUMMARY:Happy Together
DESCRIPTION:Women’s Acapella Singing Group
URL:https://stillwatertownshipnj.com/event/happy-together/2026-03-09/
LOCATION:Stillwater Community Center/Stillwater Park\, 931 Swartswood Road\, Newton\, NJ\, 07877\, United States
CATEGORIES:Community Center Event
ATTACH;FMTTYPE=image/jpeg:https://stillwatertownshipnj.com/wp-content/uploads/2024/05/music.jpg
GEO:41.0840058;-74.8237998
X-APPLE-STRUCTURED-LOCATION;VALUE=URI;X-ADDRESS=Stillwater Community Center/Stillwater Park 931 Swartswood Road Newton NJ 07877 United States;X-APPLE-RADIUS=500;X-TITLE=931 Swartswood Road:geo:-74.8237998,41.0840058
END:VEVENT
BEGIN:VEVENT
DTSTART;TZID=America/New_York:20260309T130000
DTEND;TZID=America/New_York:20260309T170000
DTSTAMP:20260425T180640
CREATED:20241126T180203Z
LAST-MODIFIED:20250128T144646Z
UID:10004588-1773061200-1773075600@stillwatertownshipnj.com
SUMMARY:Private Group
DESCRIPTION:
URL:https://stillwatertownshipnj.com/event/womens-mahjong/2026-03-09/
LOCATION:Stillwater Community Center/Stillwater Park\, 931 Swartswood Road\, Newton\, NJ\, 07877\, United States
CATEGORIES:Community Center Event
ATTACH;FMTTYPE=image/jpeg:https://stillwatertownshipnj.com/wp-content/uploads/2024/02/Mah-Jongg.jpg
GEO:41.0840058;-74.8237998
X-APPLE-STRUCTURED-LOCATION;VALUE=URI;X-ADDRESS=Stillwater Community Center/Stillwater Park 931 Swartswood Road Newton NJ 07877 United States;X-APPLE-RADIUS=500;X-TITLE=931 Swartswood Road:geo:-74.8237998,41.0840058
END:VEVENT
BEGIN:VEVENT
DTSTART;TZID=America/New_York:20260306T173000
DTEND;TZID=America/New_York:20260306T210000
DTSTAMP:20260425T180640
CREATED:20250314T125546Z
LAST-MODIFIED:20250314T125546Z
UID:10006936-1772818200-1772830800@stillwatertownshipnj.com
SUMMARY:Cub Scout Pack 83 Meeting
DESCRIPTION:
URL:https://stillwatertownshipnj.com/event/cub-scout-pack-83-meeting-5/2026-03-06/
LOCATION:Stillwater Community Center/Stillwater Park\, 931 Swartswood Road\, Newton\, NJ\, 07877\, United States
CATEGORIES:Community Center Event
ATTACH;FMTTYPE=image/png:https://stillwatertownshipnj.com/wp-content/uploads/2021/10/boy-Scouts-2.png
GEO:41.0840058;-74.8237998
X-APPLE-STRUCTURED-LOCATION;VALUE=URI;X-ADDRESS=Stillwater Community Center/Stillwater Park 931 Swartswood Road Newton NJ 07877 United States;X-APPLE-RADIUS=500;X-TITLE=931 Swartswood Road:geo:-74.8237998,41.0840058
END:VEVENT
BEGIN:VEVENT
DTSTART;TZID=America/New_York:20260306T130000
DTEND;TZID=America/New_York:20260306T140000
DTSTAMP:20260425T180640
CREATED:20250807T132632Z
LAST-MODIFIED:20250807T132632Z
UID:10007466-1772802000-1772805600@stillwatertownshipnj.com
SUMMARY:Move Today
DESCRIPTION:Hosted by the Sussex County Division of Social Services- more info to come soon!
URL:https://stillwatertownshipnj.com/event/move-today/2026-03-06/
LOCATION:Stillwater Community Center/Stillwater Park\, 931 Swartswood Road\, Newton\, NJ\, 07877\, United States
CATEGORIES:Community Center Event
GEO:41.0840058;-74.8237998
X-APPLE-STRUCTURED-LOCATION;VALUE=URI;X-ADDRESS=Stillwater Community Center/Stillwater Park 931 Swartswood Road Newton NJ 07877 United States;X-APPLE-RADIUS=500;X-TITLE=931 Swartswood Road:geo:-74.8237998,41.0840058
END:VEVENT
BEGIN:VEVENT
DTSTART;TZID=America/New_York:20260304T173000
DTEND;TZID=America/New_York:20260304T203000
DTSTAMP:20260425T180640
CREATED:20250807T141232Z
LAST-MODIFIED:20250807T141232Z
UID:10007572-1772645400-1772656200@stillwatertownshipnj.com
SUMMARY:GS Troop 98451
DESCRIPTION:
URL:https://stillwatertownshipnj.com/event/gs-troop-98451/2026-03-04/
LOCATION:Stillwater Community Center/Stillwater Park\, 931 Swartswood Road\, Newton\, NJ\, 07877\, United States
CATEGORIES:Community Center Event
ATTACH;FMTTYPE=image/jpeg:https://stillwatertownshipnj.com/wp-content/uploads/2021/06/girl-scouts.jpg
GEO:41.0840058;-74.8237998
X-APPLE-STRUCTURED-LOCATION;VALUE=URI;X-ADDRESS=Stillwater Community Center/Stillwater Park 931 Swartswood Road Newton NJ 07877 United States;X-APPLE-RADIUS=500;X-TITLE=931 Swartswood Road:geo:-74.8237998,41.0840058
END:VEVENT
BEGIN:VEVENT
DTSTART;TZID=America/New_York:20260302T180000
DTEND;TZID=America/New_York:20260302T193000
DTSTAMP:20260425T180640
CREATED:20241126T180305Z
LAST-MODIFIED:20250107T180137Z
UID:10005162-1772474400-1772479800@stillwatertownshipnj.com
SUMMARY:Happy Together
DESCRIPTION:Women’s Acapella Singing Group
URL:https://stillwatertownshipnj.com/event/happy-together/2026-03-02/
LOCATION:Stillwater Community Center/Stillwater Park\, 931 Swartswood Road\, Newton\, NJ\, 07877\, United States
CATEGORIES:Community Center Event
ATTACH;FMTTYPE=image/jpeg:https://stillwatertownshipnj.com/wp-content/uploads/2024/05/music.jpg
GEO:41.0840058;-74.8237998
X-APPLE-STRUCTURED-LOCATION;VALUE=URI;X-ADDRESS=Stillwater Community Center/Stillwater Park 931 Swartswood Road Newton NJ 07877 United States;X-APPLE-RADIUS=500;X-TITLE=931 Swartswood Road:geo:-74.8237998,41.0840058
END:VEVENT
BEGIN:VEVENT
DTSTART;TZID=America/New_York:20260302T130000
DTEND;TZID=America/New_York:20260302T170000
DTSTAMP:20260425T180640
CREATED:20241126T180203Z
LAST-MODIFIED:20250128T144646Z
UID:10004587-1772456400-1772470800@stillwatertownshipnj.com
SUMMARY:Private Group
DESCRIPTION:
URL:https://stillwatertownshipnj.com/event/womens-mahjong/2026-03-02/
LOCATION:Stillwater Community Center/Stillwater Park\, 931 Swartswood Road\, Newton\, NJ\, 07877\, United States
CATEGORIES:Community Center Event
ATTACH;FMTTYPE=image/jpeg:https://stillwatertownshipnj.com/wp-content/uploads/2024/02/Mah-Jongg.jpg
GEO:41.0840058;-74.8237998
X-APPLE-STRUCTURED-LOCATION;VALUE=URI;X-ADDRESS=Stillwater Community Center/Stillwater Park 931 Swartswood Road Newton NJ 07877 United States;X-APPLE-RADIUS=500;X-TITLE=931 Swartswood Road:geo:-74.8237998,41.0840058
END:VEVENT
BEGIN:VEVENT
DTSTART;TZID=America/New_York:20260227T130000
DTEND;TZID=America/New_York:20260227T140000
DTSTAMP:20260425T180640
CREATED:20250807T132632Z
LAST-MODIFIED:20250807T132632Z
UID:10007465-1772197200-1772200800@stillwatertownshipnj.com
SUMMARY:Move Today
DESCRIPTION:Hosted by the Sussex County Division of Social Services- more info to come soon!
URL:https://stillwatertownshipnj.com/event/move-today/2026-02-27/
LOCATION:Stillwater Community Center/Stillwater Park\, 931 Swartswood Road\, Newton\, NJ\, 07877\, United States
CATEGORIES:Community Center Event
GEO:41.0840058;-74.8237998
X-APPLE-STRUCTURED-LOCATION;VALUE=URI;X-ADDRESS=Stillwater Community Center/Stillwater Park 931 Swartswood Road Newton NJ 07877 United States;X-APPLE-RADIUS=500;X-TITLE=931 Swartswood Road:geo:-74.8237998,41.0840058
END:VEVENT
BEGIN:VEVENT
DTSTART;TZID=America/New_York:20260223T180000
DTEND;TZID=America/New_York:20260223T193000
DTSTAMP:20260425T180640
CREATED:20241126T180305Z
LAST-MODIFIED:20250107T180137Z
UID:10005161-1771869600-1771875000@stillwatertownshipnj.com
SUMMARY:Happy Together
DESCRIPTION:Women’s Acapella Singing Group
URL:https://stillwatertownshipnj.com/event/happy-together/2026-02-23/
LOCATION:Stillwater Community Center/Stillwater Park\, 931 Swartswood Road\, Newton\, NJ\, 07877\, United States
CATEGORIES:Community Center Event
ATTACH;FMTTYPE=image/jpeg:https://stillwatertownshipnj.com/wp-content/uploads/2024/05/music.jpg
GEO:41.0840058;-74.8237998
X-APPLE-STRUCTURED-LOCATION;VALUE=URI;X-ADDRESS=Stillwater Community Center/Stillwater Park 931 Swartswood Road Newton NJ 07877 United States;X-APPLE-RADIUS=500;X-TITLE=931 Swartswood Road:geo:-74.8237998,41.0840058
END:VEVENT
BEGIN:VEVENT
DTSTART;TZID=America/New_York:20260223T130000
DTEND;TZID=America/New_York:20260223T170000
DTSTAMP:20260425T180640
CREATED:20241126T180203Z
LAST-MODIFIED:20250128T144646Z
UID:10004586-1771851600-1771866000@stillwatertownshipnj.com
SUMMARY:Private Group
DESCRIPTION:
URL:https://stillwatertownshipnj.com/event/womens-mahjong/2026-02-23/
LOCATION:Stillwater Community Center/Stillwater Park\, 931 Swartswood Road\, Newton\, NJ\, 07877\, United States
CATEGORIES:Community Center Event
ATTACH;FMTTYPE=image/jpeg:https://stillwatertownshipnj.com/wp-content/uploads/2024/02/Mah-Jongg.jpg
GEO:41.0840058;-74.8237998
X-APPLE-STRUCTURED-LOCATION;VALUE=URI;X-ADDRESS=Stillwater Community Center/Stillwater Park 931 Swartswood Road Newton NJ 07877 United States;X-APPLE-RADIUS=500;X-TITLE=931 Swartswood Road:geo:-74.8237998,41.0840058
END:VEVENT
BEGIN:VEVENT
DTSTART;TZID=America/New_York:20260220T173000
DTEND;TZID=America/New_York:20260220T210000
DTSTAMP:20260425T180640
CREATED:20250314T125315Z
LAST-MODIFIED:20250314T125845Z
UID:10006814-1771608600-1771621200@stillwatertownshipnj.com
SUMMARY:Cub Scout Pack 83 Meeting
DESCRIPTION:
URL:https://stillwatertownshipnj.com/event/cub-scout-pack-83-meeting-4-2/2026-02-20/
LOCATION:Stillwater Community Center/Stillwater Park\, 931 Swartswood Road\, Newton\, NJ\, 07877\, United States
CATEGORIES:Community Center Event
GEO:41.0840058;-74.8237998
X-APPLE-STRUCTURED-LOCATION;VALUE=URI;X-ADDRESS=Stillwater Community Center/Stillwater Park 931 Swartswood Road Newton NJ 07877 United States;X-APPLE-RADIUS=500;X-TITLE=931 Swartswood Road:geo:-74.8237998,41.0840058
END:VEVENT
BEGIN:VEVENT
DTSTART;TZID=America/New_York:20260220T130000
DTEND;TZID=America/New_York:20260220T140000
DTSTAMP:20260425T180640
CREATED:20250807T132632Z
LAST-MODIFIED:20250807T132632Z
UID:10007464-1771592400-1771596000@stillwatertownshipnj.com
SUMMARY:Move Today
DESCRIPTION:Hosted by the Sussex County Division of Social Services- more info to come soon!
URL:https://stillwatertownshipnj.com/event/move-today/2026-02-20/
LOCATION:Stillwater Community Center/Stillwater Park\, 931 Swartswood Road\, Newton\, NJ\, 07877\, United States
CATEGORIES:Community Center Event
GEO:41.0840058;-74.8237998
X-APPLE-STRUCTURED-LOCATION;VALUE=URI;X-ADDRESS=Stillwater Community Center/Stillwater Park 931 Swartswood Road Newton NJ 07877 United States;X-APPLE-RADIUS=500;X-TITLE=931 Swartswood Road:geo:-74.8237998,41.0840058
END:VEVENT
BEGIN:VEVENT
DTSTART;TZID=America/New_York:20260218T173000
DTEND;TZID=America/New_York:20260218T203000
DTSTAMP:20260425T180640
CREATED:20250807T141232Z
LAST-MODIFIED:20250807T141232Z
UID:10007571-1771435800-1771446600@stillwatertownshipnj.com
SUMMARY:GS Troop 98451
DESCRIPTION:
URL:https://stillwatertownshipnj.com/event/gs-troop-98451/2026-02-18/
LOCATION:Stillwater Community Center/Stillwater Park\, 931 Swartswood Road\, Newton\, NJ\, 07877\, United States
CATEGORIES:Community Center Event
ATTACH;FMTTYPE=image/jpeg:https://stillwatertownshipnj.com/wp-content/uploads/2021/06/girl-scouts.jpg
GEO:41.0840058;-74.8237998
X-APPLE-STRUCTURED-LOCATION;VALUE=URI;X-ADDRESS=Stillwater Community Center/Stillwater Park 931 Swartswood Road Newton NJ 07877 United States;X-APPLE-RADIUS=500;X-TITLE=931 Swartswood Road:geo:-74.8237998,41.0840058
END:VEVENT
BEGIN:VEVENT
DTSTART;TZID=America/New_York:20260216T180000
DTEND;TZID=America/New_York:20260216T193000
DTSTAMP:20260425T180640
CREATED:20241126T180305Z
LAST-MODIFIED:20250107T180137Z
UID:10005160-1771264800-1771270200@stillwatertownshipnj.com
SUMMARY:Happy Together
DESCRIPTION:Women’s Acapella Singing Group
URL:https://stillwatertownshipnj.com/event/happy-together/2026-02-16/
LOCATION:Stillwater Community Center/Stillwater Park\, 931 Swartswood Road\, Newton\, NJ\, 07877\, United States
CATEGORIES:Community Center Event
ATTACH;FMTTYPE=image/jpeg:https://stillwatertownshipnj.com/wp-content/uploads/2024/05/music.jpg
GEO:41.0840058;-74.8237998
X-APPLE-STRUCTURED-LOCATION;VALUE=URI;X-ADDRESS=Stillwater Community Center/Stillwater Park 931 Swartswood Road Newton NJ 07877 United States;X-APPLE-RADIUS=500;X-TITLE=931 Swartswood Road:geo:-74.8237998,41.0840058
END:VEVENT
BEGIN:VEVENT
DTSTART;TZID=America/New_York:20260216T130000
DTEND;TZID=America/New_York:20260216T170000
DTSTAMP:20260425T180640
CREATED:20241126T180203Z
LAST-MODIFIED:20250128T144646Z
UID:10004585-1771246800-1771261200@stillwatertownshipnj.com
SUMMARY:Private Group
DESCRIPTION:
URL:https://stillwatertownshipnj.com/event/womens-mahjong/2026-02-16/
LOCATION:Stillwater Community Center/Stillwater Park\, 931 Swartswood Road\, Newton\, NJ\, 07877\, United States
CATEGORIES:Community Center Event
ATTACH;FMTTYPE=image/jpeg:https://stillwatertownshipnj.com/wp-content/uploads/2024/02/Mah-Jongg.jpg
GEO:41.0840058;-74.8237998
X-APPLE-STRUCTURED-LOCATION;VALUE=URI;X-ADDRESS=Stillwater Community Center/Stillwater Park 931 Swartswood Road Newton NJ 07877 United States;X-APPLE-RADIUS=500;X-TITLE=931 Swartswood Road:geo:-74.8237998,41.0840058
END:VEVENT
BEGIN:VEVENT
DTSTART;TZID=America/New_York:20260215T090000
DTEND;TZID=America/New_York:20260215T120000
DTSTAMP:20260425T180640
CREATED:20260129T170557Z
LAST-MODIFIED:20260129T175930Z
UID:10007786-1771146000-1771156800@stillwatertownshipnj.com
SUMMARY:Private Class
DESCRIPTION:
URL:https://stillwatertownshipnj.com/event/private-class/
LOCATION:Stillwater Community Center/Stillwater Park\, 931 Swartswood Road\, Newton\, NJ\, 07877\, United States
CATEGORIES:Community Center Event
GEO:41.0840058;-74.8237998
X-APPLE-STRUCTURED-LOCATION;VALUE=URI;X-ADDRESS=Stillwater Community Center/Stillwater Park 931 Swartswood Road Newton NJ 07877 United States;X-APPLE-RADIUS=500;X-TITLE=931 Swartswood Road:geo:-74.8237998,41.0840058
END:VEVENT
BEGIN:VEVENT
DTSTART;TZID=America/New_York:20260213T130000
DTEND;TZID=America/New_York:20260213T140000
DTSTAMP:20260425T180640
CREATED:20250807T132632Z
LAST-MODIFIED:20250807T132632Z
UID:10007463-1770987600-1770991200@stillwatertownshipnj.com
SUMMARY:Move Today
DESCRIPTION:Hosted by the Sussex County Division of Social Services- more info to come soon!
URL:https://stillwatertownshipnj.com/event/move-today/2026-02-13/
LOCATION:Stillwater Community Center/Stillwater Park\, 931 Swartswood Road\, Newton\, NJ\, 07877\, United States
CATEGORIES:Community Center Event
GEO:41.0840058;-74.8237998
X-APPLE-STRUCTURED-LOCATION;VALUE=URI;X-ADDRESS=Stillwater Community Center/Stillwater Park 931 Swartswood Road Newton NJ 07877 United States;X-APPLE-RADIUS=500;X-TITLE=931 Swartswood Road:geo:-74.8237998,41.0840058
END:VEVENT
BEGIN:VEVENT
DTSTART;TZID=America/New_York:20260211T190000
DTEND;TZID=America/New_York:20260211T220000
DTSTAMP:20260425T180640
CREATED:20241126T180304Z
LAST-MODIFIED:20241126T180304Z
UID:10004321-1770836400-1770847200@stillwatertownshipnj.com
SUMMARY:Paulinskill Lake Association Meeting
DESCRIPTION:Paulinskill Lake Association Meeting at the Stillwater Community Center. Second Wednesday of each month at 7:00pm.
URL:https://stillwatertownshipnj.com/event/paulinskill-lake-association-meeting-2/2026-02-11/
LOCATION:Stillwater Community Center/Stillwater Park\, 931 Swartswood Road\, Newton\, NJ\, 07877\, United States
CATEGORIES:Community Center Event
ATTACH;FMTTYPE=image/jpeg:https://stillwatertownshipnj.com/wp-content/uploads/2023/12/paulinskill-lake-association-image.jpg
GEO:41.0840058;-74.8237998
X-APPLE-STRUCTURED-LOCATION;VALUE=URI;X-ADDRESS=Stillwater Community Center/Stillwater Park 931 Swartswood Road Newton NJ 07877 United States;X-APPLE-RADIUS=500;X-TITLE=931 Swartswood Road:geo:-74.8237998,41.0840058
END:VEVENT
END:VCALENDAR