BEGIN:VCALENDAR
VERSION:2.0
PRODID:-//Stillwater Township - ECPv6.15.18//NONSGML v1.0//EN
CALSCALE:GREGORIAN
METHOD:PUBLISH
X-ORIGINAL-URL:https://stillwatertownshipnj.com
X-WR-CALDESC:Events for Stillwater Township
REFRESH-INTERVAL;VALUE=DURATION:PT1H
X-Robots-Tag:noindex
X-PUBLISHED-TTL:PT1H
BEGIN:VTIMEZONE
TZID:America/New_York
BEGIN:DAYLIGHT
TZOFFSETFROM:-0500
TZOFFSETTO:-0400
TZNAME:EDT
DTSTART:20230312T070000
END:DAYLIGHT
BEGIN:STANDARD
TZOFFSETFROM:-0400
TZOFFSETTO:-0500
TZNAME:EST
DTSTART:20231105T060000
END:STANDARD
BEGIN:DAYLIGHT
TZOFFSETFROM:-0500
TZOFFSETTO:-0400
TZNAME:EDT
DTSTART:20240310T070000
END:DAYLIGHT
BEGIN:STANDARD
TZOFFSETFROM:-0400
TZOFFSETTO:-0500
TZNAME:EST
DTSTART:20241103T060000
END:STANDARD
BEGIN:DAYLIGHT
TZOFFSETFROM:-0500
TZOFFSETTO:-0400
TZNAME:EDT
DTSTART:20250309T070000
END:DAYLIGHT
BEGIN:STANDARD
TZOFFSETFROM:-0400
TZOFFSETTO:-0500
TZNAME:EST
DTSTART:20251102T060000
END:STANDARD
END:VTIMEZONE
BEGIN:VEVENT
DTSTART;TZID=America/New_York:20240505T133000
DTEND;TZID=America/New_York:20240505T163000
DTSTAMP:20260421T043315
CREATED:20241126T180305Z
LAST-MODIFIED:20241126T180305Z
UID:10005039-1714915800-1714926600@stillwatertownshipnj.com
SUMMARY:Water Safety Fair
DESCRIPTION:
URL:https://stillwatertownshipnj.com/event/water-safety-fair/
LOCATION:Fairview Lake YMCA\, 1035 Fairview Lake Road\, Newton\, NJ\, 07860\, United States
CATEGORIES:Community Center Event,Events
ATTACH;FMTTYPE=image/jpeg:https://stillwatertownshipnj.com/wp-content/uploads/2024/04/2024-Water-Safety-Fair-scaled.jpg
GEO:41.0801034;-74.9046863
X-APPLE-STRUCTURED-LOCATION;VALUE=URI;X-ADDRESS=Fairview Lake YMCA 1035 Fairview Lake Road Newton NJ 07860 United States;X-APPLE-RADIUS=500;X-TITLE=1035 Fairview Lake Road:geo:-74.9046863,41.0801034
END:VEVENT
END:VCALENDAR