BEGIN:VCALENDAR
VERSION:2.0
PRODID:-//Stillwater Township - ECPv6.15.18//NONSGML v1.0//EN
CALSCALE:GREGORIAN
METHOD:PUBLISH
X-ORIGINAL-URL:https://stillwatertownshipnj.com
X-WR-CALDESC:Events for Stillwater Township
REFRESH-INTERVAL;VALUE=DURATION:PT1H
X-Robots-Tag:noindex
X-PUBLISHED-TTL:PT1H
BEGIN:VTIMEZONE
TZID:America/New_York
BEGIN:DAYLIGHT
TZOFFSETFROM:-0500
TZOFFSETTO:-0400
TZNAME:EDT
DTSTART:20250309T070000
END:DAYLIGHT
BEGIN:STANDARD
TZOFFSETFROM:-0400
TZOFFSETTO:-0500
TZNAME:EST
DTSTART:20251102T060000
END:STANDARD
BEGIN:DAYLIGHT
TZOFFSETFROM:-0500
TZOFFSETTO:-0400
TZNAME:EDT
DTSTART:20260308T070000
END:DAYLIGHT
BEGIN:STANDARD
TZOFFSETFROM:-0400
TZOFFSETTO:-0500
TZNAME:EST
DTSTART:20261101T060000
END:STANDARD
BEGIN:DAYLIGHT
TZOFFSETFROM:-0500
TZOFFSETTO:-0400
TZNAME:EDT
DTSTART:20270314T070000
END:DAYLIGHT
BEGIN:STANDARD
TZOFFSETFROM:-0400
TZOFFSETTO:-0500
TZNAME:EST
DTSTART:20271107T060000
END:STANDARD
END:VTIMEZONE
BEGIN:VEVENT
DTSTART;TZID=America/New_York:20261114T090000
DTEND;TZID=America/New_York:20261114T110000
DTSTAMP:20260423T050355
CREATED:20260420T165347Z
LAST-MODIFIED:20260420T165347Z
UID:10007999-1794646800-1794654000@stillwatertownshipnj.com
SUMMARY:Free Rabies Clinic
DESCRIPTION:
URL:https://stillwatertownshipnj.com/event/free-rabies-clinic-3/
LOCATION:DPW Garage\, 919 Middleville Road\, Stillwater Township\, NJ\, 07875\, United States
CATEGORIES:Events
ATTACH;FMTTYPE=image/jpeg:https://stillwatertownshipnj.com/wp-content/uploads/2023/11/free-rabies-clinics.jpeg
GEO:41.0572878;-74.8777805
X-APPLE-STRUCTURED-LOCATION;VALUE=URI;X-ADDRESS=DPW Garage 919 Middleville Road Stillwater Township NJ 07875 United States;X-APPLE-RADIUS=500;X-TITLE=919 Middleville Road:geo:-74.8777805,41.0572878
END:VEVENT
END:VCALENDAR