BEGIN:VCALENDAR
VERSION:2.0
PRODID:-//Stillwater Township - ECPv6.15.18//NONSGML v1.0//EN
CALSCALE:GREGORIAN
METHOD:PUBLISH
X-WR-CALNAME:Stillwater Township
X-ORIGINAL-URL:https://stillwatertownshipnj.com
X-WR-CALDESC:Events for Stillwater Township
REFRESH-INTERVAL;VALUE=DURATION:PT1H
X-Robots-Tag:noindex
X-PUBLISHED-TTL:PT1H
BEGIN:VTIMEZONE
TZID:America/New_York
BEGIN:DAYLIGHT
TZOFFSETFROM:-0500
TZOFFSETTO:-0400
TZNAME:EDT
DTSTART:20230312T070000
END:DAYLIGHT
BEGIN:STANDARD
TZOFFSETFROM:-0400
TZOFFSETTO:-0500
TZNAME:EST
DTSTART:20231105T060000
END:STANDARD
BEGIN:DAYLIGHT
TZOFFSETFROM:-0500
TZOFFSETTO:-0400
TZNAME:EDT
DTSTART:20240310T070000
END:DAYLIGHT
BEGIN:STANDARD
TZOFFSETFROM:-0400
TZOFFSETTO:-0500
TZNAME:EST
DTSTART:20241103T060000
END:STANDARD
BEGIN:DAYLIGHT
TZOFFSETFROM:-0500
TZOFFSETTO:-0400
TZNAME:EDT
DTSTART:20250309T070000
END:DAYLIGHT
BEGIN:STANDARD
TZOFFSETFROM:-0400
TZOFFSETTO:-0500
TZNAME:EST
DTSTART:20251102T060000
END:STANDARD
BEGIN:DAYLIGHT
TZOFFSETFROM:-0500
TZOFFSETTO:-0400
TZNAME:EDT
DTSTART:20260308T070000
END:DAYLIGHT
BEGIN:STANDARD
TZOFFSETFROM:-0400
TZOFFSETTO:-0500
TZNAME:EST
DTSTART:20261101T060000
END:STANDARD
END:VTIMEZONE
BEGIN:VEVENT
DTSTART;TZID=America/New_York:20251115T090000
DTEND;TZID=America/New_York:20251115T110000
DTSTAMP:20260423T060021
CREATED:20250304T175933Z
LAST-MODIFIED:20250304T175933Z
UID:10006779-1763197200-1763204400@stillwatertownshipnj.com
SUMMARY:Free Rabies Clinic
DESCRIPTION:The Stillwater Township Free Rabies Clinic will be on Saturday\, November 15th from 9am-11am at the Stillwater Township DPW Garage for dogs & cats only. The DPW Garage is located at 919 Middleville Road\, Newton\, NJ 07860. All dogs must be on a leash and cats in a carrier.
URL:https://stillwatertownshipnj.com/event/free-rabies-clinic-2/
LOCATION:DPW Garage\, 919 Middleville Road\, Stillwater Township\, NJ\, 07875\, United States
CATEGORIES:Events
ATTACH;FMTTYPE=image/jpeg:https://stillwatertownshipnj.com/wp-content/uploads/2023/11/free-rabies-clinics.jpeg
GEO:41.0572878;-74.8777805
X-APPLE-STRUCTURED-LOCATION;VALUE=URI;X-ADDRESS=DPW Garage 919 Middleville Road Stillwater Township NJ 07875 United States;X-APPLE-RADIUS=500;X-TITLE=919 Middleville Road:geo:-74.8777805,41.0572878
END:VEVENT
BEGIN:VEVENT
DTSTART;TZID=America/New_York:20241116T090000
DTEND;TZID=America/New_York:20241116T110000
DTSTAMP:20260423T060021
CREATED:20241126T180711Z
LAST-MODIFIED:20241126T180711Z
UID:10005930-1731747600-1731754800@stillwatertownshipnj.com
SUMMARY:Free Rabies Clinic
DESCRIPTION:The Stillwater Township Free Rabies Clinic will be on Saturday\, November 16th from 9am-11am at the Stillwater Township DPW Garage for dogs & cats only. The DPW Garage is located at 919 Middleville Road\, Newton\, NJ 07860. All dogs must be on a leash and cats in a carrier.
URL:https://stillwatertownshipnj.com/event/free-rabies-clinic/
LOCATION:DPW Garage\, 919 Middleville Road\, Stillwater Township\, NJ\, 07875\, United States
CATEGORIES:Events
ATTACH;FMTTYPE=image/jpeg:https://stillwatertownshipnj.com/wp-content/uploads/2023/11/free-rabies-clinics.jpeg
GEO:41.0572878;-74.8777805
X-APPLE-STRUCTURED-LOCATION;VALUE=URI;X-ADDRESS=DPW Garage 919 Middleville Road Stillwater Township NJ 07875 United States;X-APPLE-RADIUS=500;X-TITLE=919 Middleville Road:geo:-74.8777805,41.0572878
END:VEVENT
END:VCALENDAR